BEGIN:VCALENDAR
PRODID:-//Google Inc//Google Calendar 70.9054//EN
VERSION:2.0
CALSCALE:GREGORIAN
METHOD:PUBLISH
X-WR-CALNAME:PV Comets Awesome Angels 13s4
X-WR-TIMEZONE:Australia/Sydney
X-WR-CALDESC:PV Comets Parkville Calendars
BEGIN:VEVENT
DTSTART:20180804T123000
DTEND:20180804T131000
DTSTAMP:20181215T114445Z
UID:aeff41c8766856e651a03d4df7cd3d4d@pvna.com.au
CREATED:20181215T194445Z
DESCRIPTION:2018 Spring Section:13&U Res\nRound:Rnd 3
LAST-MODIFIED:20181215T194445Z
LOCATION:Court: 3
SEQUENCE:0
STATUS:CONFIRMED
SUMMARY:13&U-Rnd 3: Awesome Angels 13s2 (13) vs Awesome Angels 13s4 (7)
TRANSP:OPAQUE
END:VEVENT
BEGIN:VEVENT
DTSTART:20180811T123000
DTEND:20180811T131000
DTSTAMP:20181215T114445Z
UID:907c5661dc3d4ff22c744bb37e2563cd@pvna.com.au
CREATED:20181215T194445Z
DESCRIPTION:2018 Spring Section:13&U Res\nRound:Rnd 4
LAST-MODIFIED:20181215T194445Z
LOCATION:Court: 3
SEQUENCE:0
STATUS:CONFIRMED
SUMMARY:13&U-Rnd 4: NB Cubs (24) vs Awesome Angels 13s4 (1)
TRANSP:OPAQUE
END:VEVENT
BEGIN:VEVENT
DTSTART:20180818T123000
DTEND:20180818T131000
DTSTAMP:20181215T114445Z
UID:eee1ba65d686cd7016474d6ac676aae1@pvna.com.au
CREATED:20181215T194445Z
DESCRIPTION:2018 Spring Section:13&U Res\nRound:Rnd 5
LAST-MODIFIED:20181215T194445Z
LOCATION:Court: 3
SEQUENCE:0
STATUS:CONFIRMED
SUMMARY:13&U-Rnd 5: Awesome Angels 13s3 (9) vs Awesome Angels 13s4 (4)
TRANSP:OPAQUE
END:VEVENT
BEGIN:VEVENT
DTSTART:20180825T114500
DTEND:20180825T122500
DTSTAMP:20181215T114445Z
UID:94c55ca0778af55c26adcf4e7b329d0b@pvna.com.au
CREATED:20181215T194445Z
DESCRIPTION:2018 Spring Section:13&U Res\nRound:Rnd 6
LAST-MODIFIED:20181215T194445Z
LOCATION:Court: 2
SEQUENCE:0
STATUS:CONFIRMED
SUMMARY:13&U-Rnd 6: All Starz Jnr (5) vs Awesome Angels 13s4 (14)
TRANSP:OPAQUE
END:VEVENT
BEGIN:VEVENT
DTSTART:20180901T110000
DTEND:20180901T114500
DTSTAMP:20181215T114445Z
UID:5bf07f134511413cac93774395dcb967@pvna.com.au
CREATED:20181215T194445Z
DESCRIPTION:2018 Spring Section:13&U Res\nRound:Rnd 7
LAST-MODIFIED:20181215T194445Z
LOCATION:Court: 1
SEQUENCE:0
STATUS:CONFIRMED
SUMMARY:13&U-Rnd 7: Awesome Angels 13s4 (6) vs NB Dragons  (7)
TRANSP:OPAQUE
END:VEVENT
BEGIN:VEVENT
DTSTART:20180908T110000
DTEND:20180908T114500
DTSTAMP:20181215T114445Z
UID:f3ae3417d136bedf87bb03dcc8a2ccb8@pvna.com.au
CREATED:20181215T194445Z
DESCRIPTION:2018 Spring Section:13&U Res\nRound:Rnd 8
LAST-MODIFIED:20181215T194445Z
LOCATION:Court: 1
SEQUENCE:0
STATUS:CONFIRMED
SUMMARY:13&U-Rnd 8: Awesome Angels 13s2 (14) vs Awesome Angels 13s4 (6)
TRANSP:OPAQUE
END:VEVENT
BEGIN:VEVENT
DTSTART:20180915T084500
DTEND:20180915T092500
DTSTAMP:20181215T114445Z
UID:5f55b70bcd2140d8071a02882a3e17bf@pvna.com.au
CREATED:20181215T194445Z
DESCRIPTION:2018 Spring Section:13&U Res\nRound:Rnd 9
LAST-MODIFIED:20181215T194445Z
LOCATION:Court: 99
SEQUENCE:0
STATUS:CONFIRMED
SUMMARY:13&U-Rnd 9: Awesome Angels 13s4 vs BYE
TRANSP:OPAQUE
END:VEVENT
BEGIN:VEVENT
DTSTART:20180922T110000
DTEND:20180922T114500
DTSTAMP:20181215T114445Z
UID:5cc2e22ee688c6f02b9889efd741a45e@pvna.com.au
CREATED:20181215T194445Z
DESCRIPTION:2018 Spring Section:13&U Res\nRound:Rnd 10
LAST-MODIFIED:20181215T194445Z
LOCATION:Court: 2
SEQUENCE:0
STATUS:CONFIRMED
SUMMARY:13&U-Rnd 10: Awesome Angels 13s3 (15) vs Awesome Angels 13s4 (5)
TRANSP:OPAQUE
END:VEVENT
BEGIN:VEVENT
DTSTART:20181013T123000
DTEND:20181013T131000
DTSTAMP:20181215T114445Z
UID:a6966754ea14c4cd0c55e74dcd573d5e@pvna.com.au
CREATED:20181215T194445Z
DESCRIPTION:2018 Spring Section:13&U Res\nRound:Rnd 11
LAST-MODIFIED:20181215T194445Z
LOCATION:Court: 3
SEQUENCE:0
STATUS:CONFIRMED
SUMMARY:13&U-Rnd 11: All Starz Jnr (6) vs Awesome Angels 13s4 (6)
TRANSP:OPAQUE
END:VEVENT
BEGIN:VEVENT
DTSTART:20181020T101500
DTEND:20181020T105500
DTSTAMP:20181215T114445Z
UID:ac1833cc8ed25a7e8aa6c34dc8772008@pvna.com.au
CREATED:20181215T194445Z
DESCRIPTION:2018 Spring Section:13&U Res\nRound:Rnd 12
LAST-MODIFIED:20181215T194445Z
LOCATION:Court: 1
SEQUENCE:0
STATUS:CONFIRMED
SUMMARY:13&U-Rnd 12: NB Dragons  (8) vs Awesome Angels 13s4 (3)
TRANSP:OPAQUE
END:VEVENT
BEGIN:VEVENT
DTSTART:20181027T110000
DTEND:20181027T114500
DTSTAMP:20181215T114445Z
UID:e5cef2af4aba6c03ab56b04997fc3379@pvna.com.au
CREATED:20181215T194445Z
DESCRIPTION:2018 Spring Section:13&U Res\nRound:Rnd 13
LAST-MODIFIED:20181215T194445Z
LOCATION:Court: 1
SEQUENCE:0
STATUS:CONFIRMED
SUMMARY:13&U-Rnd 13: Awesome Angels 13s4 (3) vs Awesome Angels 13s2 (17)
TRANSP:OPAQUE
END:VEVENT
BEGIN:VEVENT
DTSTART:20181110T110000
DTEND:20181110T114500
DTSTAMP:20181215T114445Z
UID:afe2f3b4661ac2a7715aff0e227b7e16@pvna.com.au
CREATED:20181215T194445Z
DESCRIPTION:2018 Spring Section:13&U Res\nRound:Rnd 14
LAST-MODIFIED:20181215T194445Z
LOCATION:Court: 99
SEQUENCE:0
STATUS:CONFIRMED
SUMMARY:13&U-Rnd 14: Awesome Angels 13s4 vs BYE
TRANSP:OPAQUE
END:VEVENT
BEGIN:VEVENT
DTSTART:20181117T123000
DTEND:20181117T131000
DTSTAMP:20181215T114445Z
UID:e7ed069f153554be2f806b3f2f511631@pvna.com.au
CREATED:20181215T194445Z
DESCRIPTION:2018 Spring Section:13&U Res\nRound:Rnd 15
LAST-MODIFIED:20181215T194445Z
LOCATION:Court: 3
SEQUENCE:0
STATUS:CONFIRMED
SUMMARY:13&U-Rnd 15: Awesome Angels 13s3 (13) vs Awesome Angels 13s4 (5)
TRANSP:OPAQUE
END:VEVENT
END:VCALENDAR
