BEGIN:VCALENDAR
PRODID:-//Google Inc//Google Calendar 70.9054//EN
VERSION:2.0
CALSCALE:GREGORIAN
METHOD:PUBLISH
X-WR-CALNAME:PV Comets Awesome Angels 15s1
X-WR-TIMEZONE:Australia/Sydney
X-WR-CALDESC:PV Comets Parkville Calendars
BEGIN:VEVENT
DTSTART:20180721T110000
DTEND:20180721T114500
DTSTAMP:20181215T114445Z
UID:7be0fb29da76805a940fe6c3a363b839@pvna.com.au
CREATED:20181215T194445Z
DESCRIPTION:2018 Spring Section:15&U Res\nRound:Rnd 1
LAST-MODIFIED:20181215T194445Z
LOCATION:Court: 4
SEQUENCE:0
STATUS:CONFIRMED
SUMMARY:15&U-Rnd 1: Awesome Angels 15s1 (23) vs Awesome Angels 15s2 (23)
TRANSP:OPAQUE
END:VEVENT
BEGIN:VEVENT
DTSTART:20180728T110000
DTEND:20180728T114500
DTSTAMP:20181215T114445Z
UID:943f355257cf9dd69b5d7f4ec4245d37@pvna.com.au
CREATED:20181215T194445Z
DESCRIPTION:2018 Spring Section:15&U Res\nRound:Rnd 2
LAST-MODIFIED:20181215T194445Z
LOCATION:Court: 1
SEQUENCE:0
STATUS:CONFIRMED
SUMMARY:15&U-Rnd 2: Power (23) vs Awesome Angels 15s1 (20)
TRANSP:OPAQUE
END:VEVENT
BEGIN:VEVENT
DTSTART:20180804T114500
DTEND:20180804T122500
DTSTAMP:20181215T114445Z
UID:1690c2f2ec41a6522ab66bd4c45cc9ec@pvna.com.au
CREATED:20181215T194445Z
DESCRIPTION:2018 Spring Section:15&U Res\nRound:Rnd 3
LAST-MODIFIED:20181215T194445Z
LOCATION:Court: 2
SEQUENCE:0
STATUS:CONFIRMED
SUMMARY:15&U-Rnd 3: SS Strikers (17) vs Awesome Angels 15s1 (16)
TRANSP:OPAQUE
END:VEVENT
BEGIN:VEVENT
DTSTART:20180811T084500
DTEND:20180811T092500
DTSTAMP:20181215T114445Z
UID:82fa75ffad7fb6c6d7f1542d772c15e3@pvna.com.au
CREATED:20181215T194445Z
DESCRIPTION:2018 Spring Section:15&U Res\nRound:Rnd 4
LAST-MODIFIED:20181215T194445Z
LOCATION:Court: 1
SEQUENCE:0
STATUS:CONFIRMED
SUMMARY:15&U-Rnd 4: Awesome Angels 15s1 (14) vs Awesome Angels 15s2 (25)
TRANSP:OPAQUE
END:VEVENT
BEGIN:VEVENT
DTSTART:20180818T114500
DTEND:20180818T122500
DTSTAMP:20181215T114445Z
UID:a0b72b8a76e61896fae80df124a5257f@pvna.com.au
CREATED:20181215T194445Z
DESCRIPTION:2018 Spring Section:15&U Res\nRound:Rnd 5
LAST-MODIFIED:20181215T194445Z
LOCATION:Court: 1
SEQUENCE:0
STATUS:CONFIRMED
SUMMARY:15&U-Rnd 5: SS Saphires (33) vs Awesome Angels 15s1 (11)
TRANSP:OPAQUE
END:VEVENT
BEGIN:VEVENT
DTSTART:20180825T101500
DTEND:20180825T105500
DTSTAMP:20181215T114445Z
UID:9a5258a2f1eef214a74cbb6b57303f7c@pvna.com.au
CREATED:20181215T194445Z
DESCRIPTION:2018 Spring Section:15&U Res\nRound:Rnd 6
LAST-MODIFIED:20181215T194445Z
LOCATION:Court: 3
SEQUENCE:0
STATUS:CONFIRMED
SUMMARY:15&U-Rnd 6: SS Strikers (19) vs Awesome Angels 15s1 (20)
TRANSP:OPAQUE
END:VEVENT
BEGIN:VEVENT
DTSTART:20180901T110000
DTEND:20180901T114500
DTSTAMP:20181215T114445Z
UID:f246a44aebfcc97973da8c263e2eba52@pvna.com.au
CREATED:20181215T194445Z
DESCRIPTION:2018 Spring Section:15&U Res\nRound:Rnd 7
LAST-MODIFIED:20181215T194445Z
LOCATION:Court: 2
SEQUENCE:0
STATUS:CONFIRMED
SUMMARY:15&U-Rnd 7: Awesome Angels 15s1 (15) vs Awesome Angels 15s2 (18)
TRANSP:OPAQUE
END:VEVENT
BEGIN:VEVENT
DTSTART:20180908T114500
DTEND:20180908T122500
DTSTAMP:20181215T114445Z
UID:455c6039e15ef6e4baefef6614d4330e@pvna.com.au
CREATED:20181215T194445Z
DESCRIPTION:2018 Spring Section:15&U Res\nRound:Rnd 8
LAST-MODIFIED:20181215T194445Z
LOCATION:Court: 1
SEQUENCE:0
STATUS:CONFIRMED
SUMMARY:15&U-Rnd 8: Awesome Angels 15s1 (15) vs SS Saphires (39)
TRANSP:OPAQUE
END:VEVENT
BEGIN:VEVENT
DTSTART:20180915T110000
DTEND:20180915T114500
DTSTAMP:20181215T114445Z
UID:d3aca2f174301282df9c29cea26647ed@pvna.com.au
CREATED:20181215T194445Z
DESCRIPTION:2018 Spring Section:15&U Res\nRound:Rnd 9
LAST-MODIFIED:20181215T194445Z
LOCATION:Court: 2
SEQUENCE:0
STATUS:CONFIRMED
SUMMARY:15&U-Rnd 9: Awesome Angels 15s1 (23) vs SS Strikers (16)
TRANSP:OPAQUE
END:VEVENT
BEGIN:VEVENT
DTSTART:20180922T084500
DTEND:20180922T092500
DTSTAMP:20181215T114445Z
UID:2dd857449e52567964cb03162cb20b05@pvna.com.au
CREATED:20181215T194445Z
DESCRIPTION:2018 Spring Section:15&U Res\nRound:Rnd 10
LAST-MODIFIED:20181215T194445Z
LOCATION:Court: 1
SEQUENCE:0
STATUS:CONFIRMED
SUMMARY:15&U-Rnd 10: Awesome Angels 15s2 (20) vs Awesome Angels 15s1 (24)
TRANSP:OPAQUE
END:VEVENT
BEGIN:VEVENT
DTSTART:20181013T110000
DTEND:20181013T114500
DTSTAMP:20181215T114445Z
UID:5b550c6f17f137aa982c84436add5da5@pvna.com.au
CREATED:20181215T194445Z
DESCRIPTION:2018 Spring Section:15&U Res\nRound:Rnd 11
LAST-MODIFIED:20181215T194445Z
LOCATION:Court: 1
SEQUENCE:0
STATUS:CONFIRMED
SUMMARY:15&U-Rnd 11: 15&U (32) vs Awesome Angels 15s1 (22)
TRANSP:OPAQUE
END:VEVENT
BEGIN:VEVENT
DTSTART:20181020T114500
DTEND:20181020T122500
DTSTAMP:20181215T114445Z
UID:b6bc69ee22cc8078396ec6089fcf20f2@pvna.com.au
CREATED:20181215T194445Z
DESCRIPTION:2018 Spring Section:15&U Res\nRound:Rnd 12
LAST-MODIFIED:20181215T194445Z
LOCATION:Court: 1
SEQUENCE:0
STATUS:CONFIRMED
SUMMARY:15&U-Rnd 12: SS Strikers (15) vs Awesome Angels 15s1 (28)
TRANSP:OPAQUE
END:VEVENT
BEGIN:VEVENT
DTSTART:20181027T123000
DTEND:20181027T131000
DTSTAMP:20181215T114445Z
UID:4f5654159cccce580151f1879f35cd61@pvna.com.au
CREATED:20181215T194445Z
DESCRIPTION:2018 Spring Section:15&U Res\nRound:Rnd 13
LAST-MODIFIED:20181215T194445Z
LOCATION:Court: 3
SEQUENCE:0
STATUS:CONFIRMED
SUMMARY:15&U-Rnd 13: Awesome Angels 15s2 (23) vs Awesome Angels 15s1 (20)
TRANSP:OPAQUE
END:VEVENT
BEGIN:VEVENT
DTSTART:20181110T093000
DTEND:20181110T101000
DTSTAMP:20181215T114445Z
UID:7d3b71bd50ba76bc166b26e1296aee30@pvna.com.au
CREATED:20181215T194445Z
DESCRIPTION:2018 Spring Section:15&U Res\nRound:Rnd 14
LAST-MODIFIED:20181215T194445Z
LOCATION:Court: 99
SEQUENCE:0
STATUS:CONFIRMED
SUMMARY:15&U-Rnd 14: Awesome Angels 15s1 vs BYE
TRANSP:OPAQUE
END:VEVENT
BEGIN:VEVENT
DTSTART:20181117T114500
DTEND:20181117T122500
DTSTAMP:20181215T114445Z
UID:d2caf29631cb34af0141d51bee300817@pvna.com.au
CREATED:20181215T194445Z
DESCRIPTION:2018 Spring Section:15&U Res\nRound:Rnd 15
LAST-MODIFIED:20181215T194445Z
LOCATION:Court: 1
SEQUENCE:0
STATUS:CONFIRMED
SUMMARY:15&U-Rnd 15: SS Strikers (10) vs Awesome Angels 15s1 (22)
TRANSP:OPAQUE
END:VEVENT
BEGIN:VEVENT
DTSTART:20181124T103000
DTEND:20181124T111000
DTSTAMP:20181215T114445Z
UID:fad370c951da8c3d786fd2a38d947d1b@pvna.com.au
CREATED:20181215T194445Z
DESCRIPTION:2018 Spring Section:15&U Res\nRound:Rnd 16
LAST-MODIFIED:20181215T194445Z
LOCATION:Court: 4
SEQUENCE:0
STATUS:CONFIRMED
SUMMARY:15&U-Rnd 16: Awesome Angels 15s1 (5) vs SS Strikers (8)
TRANSP:OPAQUE
END:VEVENT
BEGIN:VEVENT
DTSTART:20181124T103000
DTEND:20181124T111000
DTSTAMP:20181215T114445Z
UID:c4b8bacdc135c52c37a17e51689a412a@pvna.com.au
CREATED:20181215T194445Z
DESCRIPTION:2018 Spring Section:15&U Res\nRound:Rnd 16
LAST-MODIFIED:20181215T194445Z
LOCATION:Court: 6
SEQUENCE:0
STATUS:CONFIRMED
SUMMARY:15&U-Rnd 16: Awesome Angels 15s1 (11) vs Awesome Angels 15s2 (2)
TRANSP:OPAQUE
END:VEVENT
BEGIN:VEVENT
DTSTART:20181208T100000
DTEND:20181208T111000
DTSTAMP:20181215T114445Z
UID:ebcdd661df76c881e9df210845d25e63@pvna.com.au
CREATED:20181215T194445Z
DESCRIPTION:2018 Spring Section:15&U Res\nRound:Grand
LAST-MODIFIED:20181215T194445Z
LOCATION:Court: 1
SEQUENCE:0
STATUS:CONFIRMED
SUMMARY:15&U-Grand: Awesome Angels 15s1 (29) vs SS Strikers (16)
TRANSP:OPAQUE
END:VEVENT
END:VCALENDAR
