BEGIN:VCALENDAR
PRODID:-//Google Inc//Google Calendar 70.9054//EN
VERSION:2.0
CALSCALE:GREGORIAN
METHOD:PUBLISH
X-WR-CALNAME:PV Comets Blaze Jnr
X-WR-TIMEZONE:Australia/Sydney
X-WR-CALDESC:PV Comets Parkville Calendars
BEGIN:VEVENT
DTSTART:20180203T084500
DTEND:20180203T092500
DTSTAMP:20180701T121634Z
UID:33587a16d61bfd81aa893ee36f39d697@pvna.com.au
CREATED:20180701T121634Z
DESCRIPTION:2018 Autumn Section:19&Under\nRound:Rnd 1
LAST-MODIFIED:20180701T121634Z
LOCATION:Court: 2
SEQUENCE:0
STATUS:CONFIRMED
SUMMARY:19&U-Rnd 1: Blaze Jnr (25) vs Northern Blues OLD Lions (13)
TRANSP:OPAQUE
END:VEVENT
BEGIN:VEVENT
DTSTART:20180210T084500
DTEND:20180210T092500
DTSTAMP:20180701T121634Z
UID:2d1b08270886b4edc537b83eb4292de8@pvna.com.au
CREATED:20180701T121634Z
DESCRIPTION:2018 Autumn Section:19&Under\nRound:Rnd 2
LAST-MODIFIED:20180701T121634Z
LOCATION:Court: 2
SEQUENCE:0
STATUS:CONFIRMED
SUMMARY:19&U-Rnd 2: Blaze Jnr (23) vs 17s (14)
TRANSP:OPAQUE
END:VEVENT
BEGIN:VEVENT
DTSTART:20180217T084500
DTEND:20180217T092500
DTSTAMP:20180701T121634Z
UID:d99d1f55e0ac7e5ed6638381001d6330@pvna.com.au
CREATED:20180701T121634Z
DESCRIPTION:2018 Autumn Section:19&Under\nRound:Rnd 3
LAST-MODIFIED:20180701T121634Z
LOCATION:Court: 99
SEQUENCE:0
STATUS:CONFIRMED
SUMMARY:19&U-Rnd 3: Blaze Jnr vs BYE
TRANSP:OPAQUE
END:VEVENT
BEGIN:VEVENT
DTSTART:20180224T114500
DTEND:20180224T122500
DTSTAMP:20180701T121634Z
UID:649dae6853bdbae3af7548bb51700b4a@pvna.com.au
CREATED:20180701T121634Z
DESCRIPTION:2018 Autumn Section:19&Under\nRound:Rnd 4
LAST-MODIFIED:20180701T121634Z
LOCATION:Court: 99
SEQUENCE:0
STATUS:CONFIRMED
SUMMARY:19&U-Rnd 4: Blaze Jnr vs BYE
TRANSP:OPAQUE
END:VEVENT
END:VCALENDAR
