BEGIN:VCALENDAR
PRODID:-//Google Inc//Google Calendar 70.9054//EN
VERSION:2.0
CALSCALE:GREGORIAN
METHOD:PUBLISH
X-WR-CALNAME:PV Comets Bluebirds
X-WR-TIMEZONE:Australia/Sydney
X-WR-CALDESC:PV Comets Parkville Calendars
BEGIN:VEVENT
DTSTART:20180721T093000
DTEND:20180721T101000
DTSTAMP:20181215T114445Z
UID:ed0cff9b1b338e7898ebf5750cec71e8@pvna.com.au
CREATED:20181215T194445Z
DESCRIPTION:2018 Spring Section:11&Under\nRound:Rnd 1
LAST-MODIFIED:20181215T194445Z
LOCATION:Court: 99
SEQUENCE:0
STATUS:CONFIRMED
SUMMARY:11&U-Rnd 1: Bluebirds vs BYE
TRANSP:OPAQUE
END:VEVENT
BEGIN:VEVENT
DTSTART:20180728T093000
DTEND:20180728T101000
DTSTAMP:20181215T114445Z
UID:80dcf7c253b8a7f2627a8d1d1870675f@pvna.com.au
CREATED:20181215T194445Z
DESCRIPTION:2018 Spring Section:11&Under\nRound:Rnd 2
LAST-MODIFIED:20181215T194445Z
LOCATION:Court: 4
SEQUENCE:0
STATUS:CONFIRMED
SUMMARY:11&U-Rnd 2: Neon Nightmares 11s (6) vs Bluebirds (5)
TRANSP:OPAQUE
END:VEVENT
BEGIN:VEVENT
DTSTART:20180804T114500
DTEND:20180804T122500
DTSTAMP:20181215T114445Z
UID:f94eb0f0a58c6bc6a0fc2a2da1dfb892@pvna.com.au
CREATED:20181215T194445Z
DESCRIPTION:2018 Spring Section:11&Under\nRound:Rnd 3
LAST-MODIFIED:20181215T194445Z
LOCATION:Court: 5
SEQUENCE:0
STATUS:CONFIRMED
SUMMARY:11&U-Rnd 3: Bluebirds (5) vs Awesome Angels 11s1 (17)
TRANSP:OPAQUE
END:VEVENT
BEGIN:VEVENT
DTSTART:20180811T101500
DTEND:20180811T105500
DTSTAMP:20181215T114445Z
UID:c635ecaa317646e59ca77f2259c31f58@pvna.com.au
CREATED:20181215T194445Z
DESCRIPTION:2018 Spring Section:11&Under\nRound:Rnd 4
LAST-MODIFIED:20181215T194445Z
LOCATION:Court: 4
SEQUENCE:0
STATUS:CONFIRMED
SUMMARY:11&U-Rnd 4: Bluebirds (3) vs NB Chicks (14)
TRANSP:OPAQUE
END:VEVENT
BEGIN:VEVENT
DTSTART:20180818T084500
DTEND:20180818T092500
DTSTAMP:20181215T114445Z
UID:fb0afd31ee3043dee81d643dfc7ac947@pvna.com.au
CREATED:20181215T194445Z
DESCRIPTION:2018 Spring Section:11&Under\nRound:Rnd 5
LAST-MODIFIED:20181215T194445Z
LOCATION:Court: 4
SEQUENCE:0
STATUS:CONFIRMED
SUMMARY:11&U-Rnd 5: Bluebirds (4) vs Falcons (13)
TRANSP:OPAQUE
END:VEVENT
BEGIN:VEVENT
DTSTART:20180825T110000
DTEND:20180825T114500
DTSTAMP:20181215T114445Z
UID:853ffdc46e582f694284b24f21a8a9b0@pvna.com.au
CREATED:20181215T194445Z
DESCRIPTION:2018 Spring Section:11&Under\nRound:Rnd 6
LAST-MODIFIED:20181215T194445Z
LOCATION:Court: 4
SEQUENCE:0
STATUS:CONFIRMED
SUMMARY:11&U-Rnd 6: Bluebirds (9) vs Awesome Angels 11s2 (1)
TRANSP:OPAQUE
END:VEVENT
BEGIN:VEVENT
DTSTART:20180901T110000
DTEND:20180901T114500
DTSTAMP:20181215T114445Z
UID:b0ff0f97a89e52ab06733d44cd8114a4@pvna.com.au
CREATED:20181215T194445Z
DESCRIPTION:2018 Spring Section:11&Under\nRound:Rnd 7
LAST-MODIFIED:20181215T194445Z
LOCATION:Court: 5
SEQUENCE:0
STATUS:CONFIRMED
SUMMARY:11&U-Rnd 7: Neon Nightmares 11s (10) vs Bluebirds (4)
TRANSP:OPAQUE
END:VEVENT
BEGIN:VEVENT
DTSTART:20180908T093000
DTEND:20180908T101000
DTSTAMP:20181215T114445Z
UID:09e0b6da46d14f8cea9419912e1c0d0b@pvna.com.au
CREATED:20181215T194445Z
DESCRIPTION:2018 Spring Section:11&Under\nRound:Rnd 8
LAST-MODIFIED:20181215T194445Z
LOCATION:Court: 4
SEQUENCE:0
STATUS:CONFIRMED
SUMMARY:11&U-Rnd 8: Bluebirds (6) vs Awesome Angels 11s1 (17)
TRANSP:OPAQUE
END:VEVENT
BEGIN:VEVENT
DTSTART:20180915T093000
DTEND:20180915T101000
DTSTAMP:20181215T114445Z
UID:854fa4561fcb68683d6a14141c08ca8c@pvna.com.au
CREATED:20181215T194445Z
DESCRIPTION:2018 Spring Section:11&Under\nRound:Rnd 9
LAST-MODIFIED:20181215T194445Z
LOCATION:Court: 4
SEQUENCE:0
STATUS:CONFIRMED
SUMMARY:11&U-Rnd 9: Bluebirds (6) vs NB Chicks (19)
TRANSP:OPAQUE
END:VEVENT
BEGIN:VEVENT
DTSTART:20180922T114500
DTEND:20180922T122500
DTSTAMP:20181215T114445Z
UID:71bc87f3c7da856e745f6588f8461cc7@pvna.com.au
CREATED:20181215T194445Z
DESCRIPTION:2018 Spring Section:11&Under\nRound:Rnd 10
LAST-MODIFIED:20181215T194445Z
LOCATION:Court: 4
SEQUENCE:0
STATUS:CONFIRMED
SUMMARY:11&U-Rnd 10: Bluebirds (3) vs Falcons (15)
TRANSP:OPAQUE
END:VEVENT
BEGIN:VEVENT
DTSTART:20181013T110000
DTEND:20181013T114500
DTSTAMP:20181215T114445Z
UID:e7920cf44b3c71db4df02b45f9172d81@pvna.com.au
CREATED:20181215T194445Z
DESCRIPTION:2018 Spring Section:11&Under\nRound:Rnd 11
LAST-MODIFIED:20181215T194445Z
LOCATION:Court: 4
SEQUENCE:0
STATUS:CONFIRMED
SUMMARY:11&U-Rnd 11: Bluebirds (10) vs Awesome Angels 11s2 (6)
TRANSP:OPAQUE
END:VEVENT
BEGIN:VEVENT
DTSTART:20181020T114500
DTEND:20181020T122500
DTSTAMP:20181215T114445Z
UID:f4ec46d12fea54e31852d43f2de81079@pvna.com.au
CREATED:20181215T194445Z
DESCRIPTION:2018 Spring Section:11&Under\nRound:Rnd 12
LAST-MODIFIED:20181215T194445Z
LOCATION:Court: 4
SEQUENCE:0
STATUS:CONFIRMED
SUMMARY:11&U-Rnd 12: Bluebirds (7) vs Neon Nightmares 11s (14)
TRANSP:OPAQUE
END:VEVENT
BEGIN:VEVENT
DTSTART:20181027T110000
DTEND:20181027T114500
DTSTAMP:20181215T114445Z
UID:7a41f29f99f0a0ca4ee367de6fe8def9@pvna.com.au
CREATED:20181215T194445Z
DESCRIPTION:2018 Spring Section:11&Under\nRound:Rnd 13
LAST-MODIFIED:20181215T194445Z
LOCATION:Court: 4
SEQUENCE:0
STATUS:CONFIRMED
SUMMARY:11&U-Rnd 13: Awesome Angels 11s1 (7) vs Bluebirds (5)
TRANSP:OPAQUE
END:VEVENT
BEGIN:VEVENT
DTSTART:20181110T084500
DTEND:20181110T092500
DTSTAMP:20181215T114445Z
UID:dfbb51ec53ad8937e50d1b2698f05c71@pvna.com.au
CREATED:20181215T194445Z
DESCRIPTION:2018 Spring Section:11&Under\nRound:Rnd 14
LAST-MODIFIED:20181215T194445Z
LOCATION:Court: 4
SEQUENCE:0
STATUS:CONFIRMED
SUMMARY:11&U-Rnd 14: NB Chicks (11) vs Bluebirds (10)
TRANSP:OPAQUE
END:VEVENT
BEGIN:VEVENT
DTSTART:20181117T110000
DTEND:20181117T114500
DTSTAMP:20181215T114445Z
UID:21e2dda901ab32c7da314566aa003a21@pvna.com.au
CREATED:20181215T194445Z
DESCRIPTION:2018 Spring Section:11&Under\nRound:Rnd 15
LAST-MODIFIED:20181215T194445Z
LOCATION:Court: 1
SEQUENCE:0
STATUS:CONFIRMED
SUMMARY:11&U-Rnd 15: Bluebirds (6) vs Falcons (18)
TRANSP:OPAQUE
END:VEVENT
BEGIN:VEVENT
DTSTART:20181124T120000
DTEND:20181124T124000
DTSTAMP:20181215T114445Z
UID:da478070732d3d7f5b3acc1d7a574956@pvna.com.au
CREATED:20181215T194445Z
DESCRIPTION:2018 Spring Section:11&Under\nRound:Rnd 16
LAST-MODIFIED:20181215T194445Z
LOCATION:Court: 3
SEQUENCE:0
STATUS:CONFIRMED
SUMMARY:11&U-Rnd 16: Bluebirds (14) vs Awesome Angels 11s2 (4)
TRANSP:OPAQUE
END:VEVENT
BEGIN:VEVENT
DTSTART:20181201T122000
DTEND:20181201T124000
DTSTAMP:20181215T114445Z
UID:534fcf9d67413fc3c3e5790ecb34a405@pvna.com.au
CREATED:20181215T194445Z
DESCRIPTION:2018 Spring Section:11&Under\nRound:Rnd 17
LAST-MODIFIED:20181215T194445Z
LOCATION:Court: 2
SEQUENCE:0
STATUS:CONFIRMED
SUMMARY:11&U-Rnd 17: Neon Nightmares 11s (11) vs Bluebirds (6)
TRANSP:OPAQUE
END:VEVENT
BEGIN:VEVENT
DTSTART:20181208T110000
DTEND:20181208T114500
DTSTAMP:20181215T114445Z
UID:4f28736eac011050b27ed257adebc60b@pvna.com.au
CREATED:20181215T194445Z
DESCRIPTION:2018 Spring Section:11&Under\nRound:Rnd 18
LAST-MODIFIED:20181215T194445Z
LOCATION:Court: 1
SEQUENCE:0
STATUS:CONFIRMED
SUMMARY:11&U-Rnd 18: Bluebirds (11) vs Falcons (13)
TRANSP:OPAQUE
END:VEVENT
END:VCALENDAR
