BEGIN:VCALENDAR
PRODID:-//Google Inc//Google Calendar 70.9054//EN
VERSION:2.0
CALSCALE:GREGORIAN
METHOD:PUBLISH
X-WR-CALNAME:PV Comets Falcons
X-WR-TIMEZONE:Australia/Sydney
X-WR-CALDESC:PV Comets Parkville Calendars
BEGIN:VEVENT
DTSTART:20180721T084500
DTEND:20180721T092500
DTSTAMP:20181215T114445Z
UID:5a06e6c9f9f54ac8e1a011c03f15d77d@pvna.com.au
CREATED:20181215T194445Z
DESCRIPTION:2018 Spring Section:11&Under\nRound:Rnd 1
LAST-MODIFIED:20181215T194445Z
LOCATION:Court: 2
SEQUENCE:0
STATUS:CONFIRMED
SUMMARY:11&U-Rnd 1: Awesome Angels 11s1 (8) vs Falcons (4)
TRANSP:OPAQUE
END:VEVENT
BEGIN:VEVENT
DTSTART:20180728T093000
DTEND:20180728T101000
DTSTAMP:20181215T114445Z
UID:7bdcd0b7e1baafa07df8ee980c396b53@pvna.com.au
CREATED:20181215T194445Z
DESCRIPTION:2018 Spring Section:11&Under\nRound:Rnd 2
LAST-MODIFIED:20181215T194445Z
LOCATION:Court: 1
SEQUENCE:0
STATUS:CONFIRMED
SUMMARY:11&U-Rnd 2: Falcons (1) vs NB Chicks (10)
TRANSP:OPAQUE
END:VEVENT
BEGIN:VEVENT
DTSTART:20180804T101500
DTEND:20180804T105500
DTSTAMP:20181215T114445Z
UID:903281ef4f655769f1d2947892deffd6@pvna.com.au
CREATED:20181215T194445Z
DESCRIPTION:2018 Spring Section:11&Under\nRound:Rnd 3
LAST-MODIFIED:20181215T194445Z
LOCATION:Court: 5
SEQUENCE:0
STATUS:CONFIRMED
SUMMARY:11&U-Rnd 3: Neon Nightmares 11s (8) vs Falcons (4)
TRANSP:OPAQUE
END:VEVENT
BEGIN:VEVENT
DTSTART:20180811T114500
DTEND:20180811T122500
DTSTAMP:20181215T114445Z
UID:1147633ed1fe03a348fa36ebb5ec710d@pvna.com.au
CREATED:20181215T194445Z
DESCRIPTION:2018 Spring Section:11&Under\nRound:Rnd 4
LAST-MODIFIED:20181215T194445Z
LOCATION:Court: 4
SEQUENCE:0
STATUS:CONFIRMED
SUMMARY:11&U-Rnd 4: Falcons (15) vs Awesome Angels 11s2 (2)
TRANSP:OPAQUE
END:VEVENT
BEGIN:VEVENT
DTSTART:20180818T084500
DTEND:20180818T092500
DTSTAMP:20181215T114445Z
UID:644c1c692edcdd13ced520a5d0713c3c@pvna.com.au
CREATED:20181215T194445Z
DESCRIPTION:2018 Spring Section:11&Under\nRound:Rnd 5
LAST-MODIFIED:20181215T194445Z
LOCATION:Court: 4
SEQUENCE:0
STATUS:CONFIRMED
SUMMARY:11&U-Rnd 5: Bluebirds (4) vs Falcons (13)
TRANSP:OPAQUE
END:VEVENT
BEGIN:VEVENT
DTSTART:20180825T084500
DTEND:20180825T092500
DTSTAMP:20181215T114445Z
UID:a8b8ebcff40e084d308d34c932e79c3d@pvna.com.au
CREATED:20181215T194445Z
DESCRIPTION:2018 Spring Section:11&Under\nRound:Rnd 6
LAST-MODIFIED:20181215T194445Z
LOCATION:Court: 4
SEQUENCE:0
STATUS:CONFIRMED
SUMMARY:11&U-Rnd 6: Awesome Angels 11s1 (18) vs Falcons (10)
TRANSP:OPAQUE
END:VEVENT
BEGIN:VEVENT
DTSTART:20180901T101500
DTEND:20180901T105500
DTSTAMP:20181215T114445Z
UID:c7d7d6bcfa41a9f01807fac7eafbbfa1@pvna.com.au
CREATED:20181215T194445Z
DESCRIPTION:2018 Spring Section:11&Under\nRound:Rnd 7
LAST-MODIFIED:20181215T194445Z
LOCATION:Court: 5
SEQUENCE:0
STATUS:CONFIRMED
SUMMARY:11&U-Rnd 7: Falcons (9) vs NB Chicks (3)
TRANSP:OPAQUE
END:VEVENT
BEGIN:VEVENT
DTSTART:20180908T110000
DTEND:20180908T114500
DTSTAMP:20181215T114445Z
UID:08bdeec098a55da9e7b43d848eed6869@pvna.com.au
CREATED:20181215T194445Z
DESCRIPTION:2018 Spring Section:11&Under\nRound:Rnd 8
LAST-MODIFIED:20181215T194445Z
LOCATION:Court: 4
SEQUENCE:0
STATUS:CONFIRMED
SUMMARY:11&U-Rnd 8: Neon Nightmares 11s (9) vs Falcons (6)
TRANSP:OPAQUE
END:VEVENT
BEGIN:VEVENT
DTSTART:20180915T114500
DTEND:20180915T122500
DTSTAMP:20181215T114445Z
UID:ef711cd41d23d706325939eb6d9cc032@pvna.com.au
CREATED:20181215T194445Z
DESCRIPTION:2018 Spring Section:11&Under\nRound:Rnd 9
LAST-MODIFIED:20181215T194445Z
LOCATION:Court: 4
SEQUENCE:0
STATUS:CONFIRMED
SUMMARY:11&U-Rnd 9: Falcons (17) vs Awesome Angels 11s2 (4)
TRANSP:OPAQUE
END:VEVENT
BEGIN:VEVENT
DTSTART:20180922T114500
DTEND:20180922T122500
DTSTAMP:20181215T114445Z
UID:22f03f898e1f684d51b17f57605cd927@pvna.com.au
CREATED:20181215T194445Z
DESCRIPTION:2018 Spring Section:11&Under\nRound:Rnd 10
LAST-MODIFIED:20181215T194445Z
LOCATION:Court: 4
SEQUENCE:0
STATUS:CONFIRMED
SUMMARY:11&U-Rnd 10: Bluebirds (3) vs Falcons (15)
TRANSP:OPAQUE
END:VEVENT
BEGIN:VEVENT
DTSTART:20181013T114500
DTEND:20181013T122500
DTSTAMP:20181215T114445Z
UID:7f9bef3a1b6d9f751a81b3388c056d2d@pvna.com.au
CREATED:20181215T194445Z
DESCRIPTION:2018 Spring Section:11&Under\nRound:Rnd 11
LAST-MODIFIED:20181215T194445Z
LOCATION:Court: 1
SEQUENCE:0
STATUS:CONFIRMED
SUMMARY:11&U-Rnd 11: Awesome Angels 11s1 (7) vs Falcons (14)
TRANSP:OPAQUE
END:VEVENT
BEGIN:VEVENT
DTSTART:20181020T093000
DTEND:20181020T101000
DTSTAMP:20181215T114445Z
UID:aebc4164bd54b878a293c371fe7ef8bd@pvna.com.au
CREATED:20181215T194445Z
DESCRIPTION:2018 Spring Section:11&Under\nRound:Rnd 12
LAST-MODIFIED:20181215T194445Z
LOCATION:Court: 4
SEQUENCE:0
STATUS:CONFIRMED
SUMMARY:11&U-Rnd 12: NB Chicks (10) vs Falcons (7)
TRANSP:OPAQUE
END:VEVENT
BEGIN:VEVENT
DTSTART:20181027T084500
DTEND:20181027T092500
DTSTAMP:20181215T114445Z
UID:1f77e27ce9d0fe1bb50e4cc38fefa450@pvna.com.au
CREATED:20181215T194445Z
DESCRIPTION:2018 Spring Section:11&Under\nRound:Rnd 13
LAST-MODIFIED:20181215T194445Z
LOCATION:Court: 4
SEQUENCE:0
STATUS:CONFIRMED
SUMMARY:11&U-Rnd 13: Falcons (10) vs Neon Nightmares 11s (16)
TRANSP:OPAQUE
END:VEVENT
BEGIN:VEVENT
DTSTART:20181110T093000
DTEND:20181110T101000
DTSTAMP:20181215T114445Z
UID:f7fbda2b657555761a32ad152a3ad7d5@pvna.com.au
CREATED:20181215T194445Z
DESCRIPTION:2018 Spring Section:11&Under\nRound:Rnd 14
LAST-MODIFIED:20181215T194445Z
LOCATION:Court: 4
SEQUENCE:0
STATUS:CONFIRMED
SUMMARY:11&U-Rnd 14: Awesome Angels 11s2 (0) vs Falcons (15)
TRANSP:OPAQUE
END:VEVENT
BEGIN:VEVENT
DTSTART:20181117T110000
DTEND:20181117T114500
DTSTAMP:20181215T114445Z
UID:07948316fa58141ac6173c7b6b628efb@pvna.com.au
CREATED:20181215T194445Z
DESCRIPTION:2018 Spring Section:11&Under\nRound:Rnd 15
LAST-MODIFIED:20181215T194445Z
LOCATION:Court: 1
SEQUENCE:0
STATUS:CONFIRMED
SUMMARY:11&U-Rnd 15: Bluebirds (6) vs Falcons (18)
TRANSP:OPAQUE
END:VEVENT
BEGIN:VEVENT
DTSTART:20181124T113000
DTEND:20181124T114500
DTSTAMP:20181215T114445Z
UID:d110389769a253e16ef99d8c462a299d@pvna.com.au
CREATED:20181215T194445Z
DESCRIPTION:2018 Spring Section:11&Under\nRound:Rnd 16
LAST-MODIFIED:20181215T194445Z
LOCATION:Court: 3
SEQUENCE:0
STATUS:CONFIRMED
SUMMARY:11&U-Rnd 16: Awesome Angels 11s1 (14) vs Falcons (11)
TRANSP:OPAQUE
END:VEVENT
BEGIN:VEVENT
DTSTART:20181201T095000
DTEND:20181201T114500
DTSTAMP:20181215T114445Z
UID:46771a5ead59e5646a958d3649ce4c15@pvna.com.au
CREATED:20181215T194445Z
DESCRIPTION:2018 Spring Section:11&Under\nRound:Rnd 17
LAST-MODIFIED:20181215T194445Z
LOCATION:Court: 3
SEQUENCE:0
STATUS:CONFIRMED
SUMMARY:11&U-Rnd 17: Falcons (7) vs NB Chicks (13)
TRANSP:OPAQUE
END:VEVENT
BEGIN:VEVENT
DTSTART:20181208T110000
DTEND:20181208T114500
DTSTAMP:20181215T114445Z
UID:55c2468989784e08f0bb71e776b95f0c@pvna.com.au
CREATED:20181215T194445Z
DESCRIPTION:2018 Spring Section:11&Under\nRound:Rnd 18
LAST-MODIFIED:20181215T194445Z
LOCATION:Court: 1
SEQUENCE:0
STATUS:CONFIRMED
SUMMARY:11&U-Rnd 18: Bluebirds (11) vs Falcons (13)
TRANSP:OPAQUE
END:VEVENT
END:VCALENDAR
