BEGIN:VCALENDAR
PRODID:-//Google Inc//Google Calendar 70.9054//EN
VERSION:2.0
CALSCALE:GREGORIAN
METHOD:PUBLISH
X-WR-CALNAME:PV Comets Golden Girls
X-WR-TIMEZONE:Australia/Sydney
X-WR-CALDESC:PV Comets Parkville Calendars
BEGIN:VEVENT
DTSTART:20180721T101500
DTEND:20180721T105500
DTSTAMP:20181215T114445Z
UID:8a3050a54d9f613c71d0cde4db738d11@pvna.com.au
CREATED:20181215T194445Z
DESCRIPTION:2018 Spring Section:8-10s\nRound:Rnd 1
LAST-MODIFIED:20181215T194445Z
LOCATION:Court: 4
SEQUENCE:0
STATUS:CONFIRMED
SUMMARY:8-10-Rnd 1: Golden Girls (10) vs SS Crystals (1)
TRANSP:OPAQUE
END:VEVENT
BEGIN:VEVENT
DTSTART:20180728T084500
DTEND:20180728T092500
DTSTAMP:20181215T114445Z
UID:200150ee04e46ae26545b4b7e1cc60ac@pvna.com.au
CREATED:20181215T194445Z
DESCRIPTION:2018 Spring Section:8-10s\nRound:Rnd 2
LAST-MODIFIED:20181215T194445Z
LOCATION:Court: 4
SEQUENCE:0
STATUS:CONFIRMED
SUMMARY:8-10-Rnd 2: NB Tigers (2) vs Golden Girls (9)
TRANSP:OPAQUE
END:VEVENT
BEGIN:VEVENT
DTSTART:20180804T110000
DTEND:20180804T114500
DTSTAMP:20181215T114445Z
UID:31fc054486f214ac00636e0f7df84353@pvna.com.au
CREATED:20181215T194445Z
DESCRIPTION:2018 Spring Section:8-10s\nRound:Rnd 3
LAST-MODIFIED:20181215T194445Z
LOCATION:Court: 5
SEQUENCE:0
STATUS:CONFIRMED
SUMMARY:8-10-Rnd 3: Golden Girls (5) vs Awesome Angels 8-10s1 (4)
TRANSP:OPAQUE
END:VEVENT
BEGIN:VEVENT
DTSTART:20180811T093000
DTEND:20180811T101000
DTSTAMP:20181215T114445Z
UID:531f1fc2d87bbfd2db77d60ec7e187dd@pvna.com.au
CREATED:20181215T194445Z
DESCRIPTION:2018 Spring Section:8-10s\nRound:Rnd 4
LAST-MODIFIED:20181215T194445Z
LOCATION:Court: 4
SEQUENCE:0
STATUS:CONFIRMED
SUMMARY:8-10-Rnd 4: Golden Girls (15) vs SS Crystals (1)
TRANSP:OPAQUE
END:VEVENT
BEGIN:VEVENT
DTSTART:20180818T101500
DTEND:20180818T105500
DTSTAMP:20181215T114445Z
UID:7e68c6f6da569e0a857fb981acf70135@pvna.com.au
CREATED:20181215T194445Z
DESCRIPTION:2018 Spring Section:8-10s\nRound:Rnd 5
LAST-MODIFIED:20181215T194445Z
LOCATION:Court: 4
SEQUENCE:0
STATUS:CONFIRMED
SUMMARY:8-10-Rnd 5: NB Tigers (1) vs Golden Girls (12)
TRANSP:OPAQUE
END:VEVENT
BEGIN:VEVENT
DTSTART:20180825T114500
DTEND:20180825T122500
DTSTAMP:20181215T114445Z
UID:07848c481c89229dc3b7329ee92fab00@pvna.com.au
CREATED:20181215T194445Z
DESCRIPTION:2018 Spring Section:8-10s\nRound:Rnd 6
LAST-MODIFIED:20181215T194445Z
LOCATION:Court: 4
SEQUENCE:0
STATUS:CONFIRMED
SUMMARY:8-10-Rnd 6: Golden Girls (6) vs Awesome Angels 8-10s1 (7)
TRANSP:OPAQUE
END:VEVENT
BEGIN:VEVENT
DTSTART:20180901T114500
DTEND:20180901T122500
DTSTAMP:20181215T114445Z
UID:08c48a5a7095bf028eb43ef841ef7f2c@pvna.com.au
CREATED:20181215T194445Z
DESCRIPTION:2018 Spring Section:8-10s\nRound:Rnd 7
LAST-MODIFIED:20181215T194445Z
LOCATION:Court: 5
SEQUENCE:0
STATUS:CONFIRMED
SUMMARY:8-10-Rnd 7: Golden Girls (23) vs SS Crystals (0)
TRANSP:OPAQUE
END:VEVENT
BEGIN:VEVENT
DTSTART:20180908T123000
DTEND:20180908T131000
DTSTAMP:20181215T114445Z
UID:cf7933e8f3f2f1ca3a28aa9d5272a305@pvna.com.au
CREATED:20181215T194445Z
DESCRIPTION:2018 Spring Section:8-10s\nRound:Rnd 8
LAST-MODIFIED:20181215T194445Z
LOCATION:Court: 3
SEQUENCE:0
STATUS:CONFIRMED
SUMMARY:8-10-Rnd 8: Golden Girls (18) vs NB Tigers (4)
TRANSP:OPAQUE
END:VEVENT
BEGIN:VEVENT
DTSTART:20180915T084500
DTEND:20180915T092500
DTSTAMP:20181215T114445Z
UID:407c2e752d53f15bd684c76a305b669f@pvna.com.au
CREATED:20181215T194445Z
DESCRIPTION:2018 Spring Section:8-10s\nRound:Rnd 9
LAST-MODIFIED:20181215T194445Z
LOCATION:Court: 4
SEQUENCE:0
STATUS:CONFIRMED
SUMMARY:8-10-Rnd 9: Golden Girls (12) vs Awesome Angels 8-10s1 (3)
TRANSP:OPAQUE
END:VEVENT
BEGIN:VEVENT
DTSTART:20180922T101500
DTEND:20180922T105500
DTSTAMP:20181215T114445Z
UID:f6fe200f91c0b895beed1bd0fcd378bd@pvna.com.au
CREATED:20181215T194445Z
DESCRIPTION:2018 Spring Section:8-10s\nRound:Rnd 10
LAST-MODIFIED:20181215T194445Z
LOCATION:Court: 4
SEQUENCE:0
STATUS:CONFIRMED
SUMMARY:8-10-Rnd 10: SS Crystals (0) vs Golden Girls (16)
TRANSP:OPAQUE
END:VEVENT
BEGIN:VEVENT
DTSTART:20181013T084500
DTEND:20181013T092500
DTSTAMP:20181215T114445Z
UID:f03d80097e9830caf93a1bf9701c63b1@pvna.com.au
CREATED:20181215T194445Z
DESCRIPTION:2018 Spring Section:8-10s\nRound:Rnd 11
LAST-MODIFIED:20181215T194445Z
LOCATION:Court: 4
SEQUENCE:0
STATUS:CONFIRMED
SUMMARY:8-10-Rnd 11: NB Tigers (1) vs Golden Girls (29)
TRANSP:OPAQUE
END:VEVENT
BEGIN:VEVENT
DTSTART:20181020T101500
DTEND:20181020T105500
DTSTAMP:20181215T114445Z
UID:becc1eb5f3bd56f57dd9e1e9bc227d22@pvna.com.au
CREATED:20181215T194445Z
DESCRIPTION:2018 Spring Section:8-10s\nRound:Rnd 12
LAST-MODIFIED:20181215T194445Z
LOCATION:Court: 4
SEQUENCE:0
STATUS:CONFIRMED
SUMMARY:8-10-Rnd 12: Awesome Angels 8-10s1 (9) vs Golden Girls (14)
TRANSP:OPAQUE
END:VEVENT
BEGIN:VEVENT
DTSTART:20181027T114500
DTEND:20181027T122500
DTSTAMP:20181215T114445Z
UID:e354b5cc5c36f6307abe83b40ac2e464@pvna.com.au
CREATED:20181215T194445Z
DESCRIPTION:2018 Spring Section:8-10s\nRound:Rnd 13
LAST-MODIFIED:20181215T194445Z
LOCATION:Court: 4
SEQUENCE:0
STATUS:CONFIRMED
SUMMARY:8-10-Rnd 13: SS Crystals (1) vs Golden Girls (19)
TRANSP:OPAQUE
END:VEVENT
BEGIN:VEVENT
DTSTART:20181110T101500
DTEND:20181110T105500
DTSTAMP:20181215T114445Z
UID:bcc7f99ff044ab29469845736bbf2938@pvna.com.au
CREATED:20181215T194445Z
DESCRIPTION:2018 Spring Section:8-10s\nRound:Rnd 14
LAST-MODIFIED:20181215T194445Z
LOCATION:Court: 4
SEQUENCE:0
STATUS:CONFIRMED
SUMMARY:8-10-Rnd 14: Golden Girls (24) vs NB Tigers (1)
TRANSP:OPAQUE
END:VEVENT
BEGIN:VEVENT
DTSTART:20181117T093000
DTEND:20181117T101000
DTSTAMP:20181215T114445Z
UID:cacfd44e499994b437f8edfc9e13a28d@pvna.com.au
CREATED:20181215T194445Z
DESCRIPTION:2018 Spring Section:8-10s\nRound:Rnd 15
LAST-MODIFIED:20181215T194445Z
LOCATION:Court: 4
SEQUENCE:0
STATUS:CONFIRMED
SUMMARY:8-10-Rnd 15: Golden Girls (13) vs Awesome Angels 8-10s1 (5)
TRANSP:OPAQUE
END:VEVENT
BEGIN:VEVENT
DTSTART:20181124T094500
DTEND:20181124T102500
DTSTAMP:20181215T114445Z
UID:f41e0763e64f46232e63e63d78dc5ee3@pvna.com.au
CREATED:20181215T194445Z
DESCRIPTION:2018 Spring Section:8-10s\nRound:Rnd 16
LAST-MODIFIED:20181215T194445Z
LOCATION:Court: 4
SEQUENCE:0
STATUS:CONFIRMED
SUMMARY:8-10-Rnd 16: Golden Girls (25) vs SS Crystals (2)
TRANSP:OPAQUE
END:VEVENT
BEGIN:VEVENT
DTSTART:20181201T090000
DTEND:20181201T094000
DTSTAMP:20181215T114445Z
UID:68995e2d27d7b7264b731a61cc08d298@pvna.com.au
CREATED:20181215T194445Z
DESCRIPTION:2018 Spring Section:8-10s\nRound:Rnd 17
LAST-MODIFIED:20181215T194445Z
LOCATION:Court: 3
SEQUENCE:0
STATUS:CONFIRMED
SUMMARY:8-10-Rnd 17: NB Tigers (2) vs Golden Girls (23)
TRANSP:OPAQUE
END:VEVENT
BEGIN:VEVENT
DTSTART:20181208T120000
DTEND:20181208T124000
DTSTAMP:20181215T114445Z
UID:a3fa8dfd00849509649b80bc365b5b52@pvna.com.au
CREATED:20181215T194445Z
DESCRIPTION:2018 Spring Section:8-10s\nRound:Rnd 18
LAST-MODIFIED:20181215T194445Z
LOCATION:Court: 3
SEQUENCE:0
STATUS:CONFIRMED
SUMMARY:8-10-Rnd 18: Golden Girls (12) vs Awesome Angels 8-10s1 (8)
TRANSP:OPAQUE
END:VEVENT
END:VCALENDAR
