BEGIN:VCALENDAR
PRODID:-//Google Inc//Google Calendar 70.9054//EN
VERSION:2.0
CALSCALE:GREGORIAN
METHOD:PUBLISH
X-WR-CALNAME:PV Comets NB Cheetahs
X-WR-TIMEZONE:Australia/Sydney
X-WR-CALDESC:PV Comets Parkville Calendars
BEGIN:VEVENT
DTSTART:20180721T084500
DTEND:20180721T092500
DTSTAMP:20181215T114445Z
UID:20b8e032f99190aeb4bec9266264b890@pvna.com.au
CREATED:20181215T194445Z
DESCRIPTION:2018 Spring Section:17&Under\nRound:Rnd 1
LAST-MODIFIED:20181215T194445Z
LOCATION:Court: 1
SEQUENCE:0
STATUS:CONFIRMED
SUMMARY:17&U-Rnd 1: NB Cheetahs (44) vs Ravens (18)
TRANSP:OPAQUE
END:VEVENT
BEGIN:VEVENT
DTSTART:20180728T110000
DTEND:20180728T114500
DTSTAMP:20181215T114445Z
UID:7489f94f3829dd04d586ea513d71cf4d@pvna.com.au
CREATED:20181215T194445Z
DESCRIPTION:2018 Spring Section:17&Under\nRound:Rnd 2
LAST-MODIFIED:20181215T194445Z
LOCATION:Court: 2
SEQUENCE:0
STATUS:CONFIRMED
SUMMARY:17&U-Rnd 2: NB Kangas (20) vs NB Cheetahs (34)
TRANSP:OPAQUE
END:VEVENT
BEGIN:VEVENT
DTSTART:20180804T084500
DTEND:20180804T092500
DTSTAMP:20181215T114445Z
UID:7a8e0b914a786432be6be60e95486ee8@pvna.com.au
CREATED:20181215T194445Z
DESCRIPTION:2018 Spring Section:17&Under\nRound:Rnd 3
LAST-MODIFIED:20181215T194445Z
LOCATION:Court: 3
SEQUENCE:0
STATUS:CONFIRMED
SUMMARY:17&U-Rnd 3: NB Cheetahs (16) vs Phoenix (38)
TRANSP:OPAQUE
END:VEVENT
BEGIN:VEVENT
DTSTART:20180811T093000
DTEND:20180811T101000
DTSTAMP:20181215T114445Z
UID:f918413627a46acce92ce194a8a017cf@pvna.com.au
CREATED:20181215T194445Z
DESCRIPTION:2018 Spring Section:17&Under\nRound:Rnd 4
LAST-MODIFIED:20181215T194445Z
LOCATION:Court: 3
SEQUENCE:0
STATUS:CONFIRMED
SUMMARY:17&U-Rnd 4: NB Cheetahs (16) vs Roxy (31)
TRANSP:OPAQUE
END:VEVENT
BEGIN:VEVENT
DTSTART:20180818T101500
DTEND:20180818T105500
DTSTAMP:20181215T114445Z
UID:561c9921c0a6cc6a834db47ee3b7cfe4@pvna.com.au
CREATED:20181215T194445Z
DESCRIPTION:2018 Spring Section:17&Under\nRound:Rnd 5
LAST-MODIFIED:20181215T194445Z
LOCATION:Court: 3
SEQUENCE:0
STATUS:CONFIRMED
SUMMARY:17&U-Rnd 5: NB Cheetahs (19) vs SS Magic (23)
TRANSP:OPAQUE
END:VEVENT
BEGIN:VEVENT
DTSTART:20180825T093000
DTEND:20180825T101000
DTSTAMP:20181215T114445Z
UID:25e520f8712c1ec9eb762535fcffd607@pvna.com.au
CREATED:20181215T194445Z
DESCRIPTION:2018 Spring Section:17&Under\nRound:Rnd 6
LAST-MODIFIED:20181215T194445Z
LOCATION:Court: 3
SEQUENCE:0
STATUS:CONFIRMED
SUMMARY:17&U-Rnd 6: NB Cheetahs (33) vs Ravens (12)
TRANSP:OPAQUE
END:VEVENT
BEGIN:VEVENT
DTSTART:20180901T084500
DTEND:20180901T092500
DTSTAMP:20181215T114445Z
UID:d06ba1280eb3c478c9f085727010b93e@pvna.com.au
CREATED:20181215T194445Z
DESCRIPTION:2018 Spring Section:17&Under\nRound:Rnd 7
LAST-MODIFIED:20181215T194445Z
LOCATION:Court: 2
SEQUENCE:0
STATUS:CONFIRMED
SUMMARY:17&U-Rnd 7: NB Kangas (14) vs NB Cheetahs (14)
TRANSP:OPAQUE
END:VEVENT
BEGIN:VEVENT
DTSTART:20180908T084500
DTEND:20180908T092500
DTSTAMP:20181215T114445Z
UID:52f0cd067ff139b88a8de3647c622ac6@pvna.com.au
CREATED:20181215T194445Z
DESCRIPTION:2018 Spring Section:17&Under\nRound:Rnd 8
LAST-MODIFIED:20181215T194445Z
LOCATION:Court: 3
SEQUENCE:0
STATUS:CONFIRMED
SUMMARY:17&U-Rnd 8: NB Cheetahs (16) vs Phoenix (26)
TRANSP:OPAQUE
END:VEVENT
BEGIN:VEVENT
DTSTART:20180915T093000
DTEND:20180915T101000
DTSTAMP:20181215T114445Z
UID:786b584a518d710eaff015581e6ef331@pvna.com.au
CREATED:20181215T194445Z
DESCRIPTION:2018 Spring Section:17&Under\nRound:Rnd 9
LAST-MODIFIED:20181215T194445Z
LOCATION:Court: 3
SEQUENCE:0
STATUS:CONFIRMED
SUMMARY:17&U-Rnd 9: NB Cheetahs (10) vs Roxy (33)
TRANSP:OPAQUE
END:VEVENT
BEGIN:VEVENT
DTSTART:20180922T093000
DTEND:20180922T101000
DTSTAMP:20181215T114445Z
UID:1eea88defa8dd8abe17ec0af93659304@pvna.com.au
CREATED:20181215T194445Z
DESCRIPTION:2018 Spring Section:17&Under\nRound:Rnd 10
LAST-MODIFIED:20181215T194445Z
LOCATION:Court: 2
SEQUENCE:0
STATUS:CONFIRMED
SUMMARY:17&U-Rnd 10: NB Cheetahs (19) vs SS Magic (43)
TRANSP:OPAQUE
END:VEVENT
BEGIN:VEVENT
DTSTART:20181013T101500
DTEND:20181013T105500
DTSTAMP:20181215T114445Z
UID:497c45a6603c971a594cd471ed954375@pvna.com.au
CREATED:20181215T194445Z
DESCRIPTION:2018 Spring Section:17&Under\nRound:Rnd 11
LAST-MODIFIED:20181215T194445Z
LOCATION:Court: 3
SEQUENCE:0
STATUS:CONFIRMED
SUMMARY:17&U-Rnd 11: NB Cheetahs (32) vs Ravens (23)
TRANSP:OPAQUE
END:VEVENT
BEGIN:VEVENT
DTSTART:20181020T084500
DTEND:20181020T092500
DTSTAMP:20181215T114445Z
UID:4a7a9a9eb2d44a12b132a6c78441ed27@pvna.com.au
CREATED:20181215T194445Z
DESCRIPTION:2018 Spring Section:17&Under\nRound:Rnd 12
LAST-MODIFIED:20181215T194445Z
LOCATION:Court: 2
SEQUENCE:0
STATUS:CONFIRMED
SUMMARY:17&U-Rnd 12: NB Cheetahs (22) vs NB Kangas (20)
TRANSP:OPAQUE
END:VEVENT
BEGIN:VEVENT
DTSTART:20181027T084500
DTEND:20181027T092500
DTSTAMP:20181215T114445Z
UID:9f1a15cbcfd84339624ae892fe6cd244@pvna.com.au
CREATED:20181215T194445Z
DESCRIPTION:2018 Spring Section:17&Under\nRound:Rnd 13
LAST-MODIFIED:20181215T194445Z
LOCATION:Court: 3
SEQUENCE:0
STATUS:CONFIRMED
SUMMARY:17&U-Rnd 13: NB Cheetahs (9) vs Phoenix (32)
TRANSP:OPAQUE
END:VEVENT
BEGIN:VEVENT
DTSTART:20181110T084500
DTEND:20181110T092500
DTSTAMP:20181215T114445Z
UID:1ef2845ba7c05f341b355414aaca4f06@pvna.com.au
CREATED:20181215T194445Z
DESCRIPTION:2018 Spring Section:17&Under\nRound:Rnd 14
LAST-MODIFIED:20181215T194445Z
LOCATION:Court: 3
SEQUENCE:0
STATUS:CONFIRMED
SUMMARY:17&U-Rnd 14: NB Cheetahs (15) vs Roxy (30)
TRANSP:OPAQUE
END:VEVENT
BEGIN:VEVENT
DTSTART:20181117T084500
DTEND:20181117T092500
DTSTAMP:20181215T114445Z
UID:8df587db12cc6bd7ad1e63133c1ecb43@pvna.com.au
CREATED:20181215T194445Z
DESCRIPTION:2018 Spring Section:17&Under\nRound:Rnd 15
LAST-MODIFIED:20181215T194445Z
LOCATION:Court: 4
SEQUENCE:0
STATUS:CONFIRMED
SUMMARY:17&U-Rnd 15: NB Cheetahs (10) vs SS Magic (29)
TRANSP:OPAQUE
END:VEVENT
BEGIN:VEVENT
DTSTART:20181124T090000
DTEND:20181124T094000
DTSTAMP:20181215T114445Z
UID:3b7d017352f383d46d071b016a2a4065@pvna.com.au
CREATED:20181215T194445Z
DESCRIPTION:2018 Spring Section:17&Under\nRound:Semi
LAST-MODIFIED:20181215T194445Z
LOCATION:Court: 3
SEQUENCE:0
STATUS:CONFIRMED
SUMMARY:17&U-Semi: SS Magic (34) vs NB Cheetahs (21)
TRANSP:OPAQUE
END:VEVENT
END:VCALENDAR
