BEGIN:VCALENDAR
PRODID:-//Google Inc//Google Calendar 70.9054//EN
VERSION:2.0
CALSCALE:GREGORIAN
METHOD:PUBLISH
X-WR-CALNAME:PV Comets NB Chicks
X-WR-TIMEZONE:Australia/Sydney
X-WR-CALDESC:PV Comets Parkville Calendars
BEGIN:VEVENT
DTSTART:20180721T084500
DTEND:20180721T092500
DTSTAMP:20181215T114445Z
UID:6bfaed153f032ae8bfed0cbed1835151@pvna.com.au
CREATED:20181215T194445Z
DESCRIPTION:2018 Spring Section:11&Under\nRound:Rnd 1
LAST-MODIFIED:20181215T194445Z
LOCATION:Court: 4
SEQUENCE:0
STATUS:CONFIRMED
SUMMARY:11&U-Rnd 1: NB Chicks (12) vs Neon Nightmares 11s (5)
TRANSP:OPAQUE
END:VEVENT
BEGIN:VEVENT
DTSTART:20180728T093000
DTEND:20180728T101000
DTSTAMP:20181215T114445Z
UID:f58cd25b407e4361fc456f67afe5bfa1@pvna.com.au
CREATED:20181215T194445Z
DESCRIPTION:2018 Spring Section:11&Under\nRound:Rnd 2
LAST-MODIFIED:20181215T194445Z
LOCATION:Court: 1
SEQUENCE:0
STATUS:CONFIRMED
SUMMARY:11&U-Rnd 2: Falcons (1) vs NB Chicks (10)
TRANSP:OPAQUE
END:VEVENT
BEGIN:VEVENT
DTSTART:20180804T093000
DTEND:20180804T101000
DTSTAMP:20181215T114445Z
UID:8008f1f110b70c9f2ff1835b92665fcc@pvna.com.au
CREATED:20181215T194445Z
DESCRIPTION:2018 Spring Section:11&Under\nRound:Rnd 3
LAST-MODIFIED:20181215T194445Z
LOCATION:Court: 5
SEQUENCE:0
STATUS:CONFIRMED
SUMMARY:11&U-Rnd 3: NB Chicks (17) vs Awesome Angels 11s2 (2)
TRANSP:OPAQUE
END:VEVENT
BEGIN:VEVENT
DTSTART:20180811T101500
DTEND:20180811T105500
DTSTAMP:20181215T114445Z
UID:85a0fa36512c4abcee848dba1566aff5@pvna.com.au
CREATED:20181215T194445Z
DESCRIPTION:2018 Spring Section:11&Under\nRound:Rnd 4
LAST-MODIFIED:20181215T194445Z
LOCATION:Court: 4
SEQUENCE:0
STATUS:CONFIRMED
SUMMARY:11&U-Rnd 4: Bluebirds (3) vs NB Chicks (14)
TRANSP:OPAQUE
END:VEVENT
BEGIN:VEVENT
DTSTART:20180818T093000
DTEND:20180818T101000
DTSTAMP:20181215T114445Z
UID:c9a654ae500029c04db2305c4b6a5946@pvna.com.au
CREATED:20181215T194445Z
DESCRIPTION:2018 Spring Section:11&Under\nRound:Rnd 5
LAST-MODIFIED:20181215T194445Z
LOCATION:Court: 4
SEQUENCE:0
STATUS:CONFIRMED
SUMMARY:11&U-Rnd 5: NB Chicks (12) vs Awesome Angels 11s1 (12)
TRANSP:OPAQUE
END:VEVENT
BEGIN:VEVENT
DTSTART:20180825T101500
DTEND:20180825T105500
DTSTAMP:20181215T114445Z
UID:73a3d22c9f4d602e769b1f789380adc2@pvna.com.au
CREATED:20181215T194445Z
DESCRIPTION:2018 Spring Section:11&Under\nRound:Rnd 6
LAST-MODIFIED:20181215T194445Z
LOCATION:Court: 4
SEQUENCE:0
STATUS:CONFIRMED
SUMMARY:11&U-Rnd 6: NB Chicks (4) vs Neon Nightmares 11s (11)
TRANSP:OPAQUE
END:VEVENT
BEGIN:VEVENT
DTSTART:20180901T101500
DTEND:20180901T105500
DTSTAMP:20181215T114445Z
UID:3e033236c685e4494981516a2c080f8a@pvna.com.au
CREATED:20181215T194445Z
DESCRIPTION:2018 Spring Section:11&Under\nRound:Rnd 7
LAST-MODIFIED:20181215T194445Z
LOCATION:Court: 5
SEQUENCE:0
STATUS:CONFIRMED
SUMMARY:11&U-Rnd 7: Falcons (9) vs NB Chicks (3)
TRANSP:OPAQUE
END:VEVENT
BEGIN:VEVENT
DTSTART:20180908T084500
DTEND:20180908T092500
DTSTAMP:20181215T114445Z
UID:6f4a961273b315829d68f9381c7ab30a@pvna.com.au
CREATED:20181215T194445Z
DESCRIPTION:2018 Spring Section:11&Under\nRound:Rnd 8
LAST-MODIFIED:20181215T194445Z
LOCATION:Court: 4
SEQUENCE:0
STATUS:CONFIRMED
SUMMARY:11&U-Rnd 8: NB Chicks (21) vs Awesome Angels 11s2 (4)
TRANSP:OPAQUE
END:VEVENT
BEGIN:VEVENT
DTSTART:20180915T093000
DTEND:20180915T101000
DTSTAMP:20181215T114445Z
UID:c27cb027c28bd8d7f50f6fa3f371c016@pvna.com.au
CREATED:20181215T194445Z
DESCRIPTION:2018 Spring Section:11&Under\nRound:Rnd 9
LAST-MODIFIED:20181215T194445Z
LOCATION:Court: 4
SEQUENCE:0
STATUS:CONFIRMED
SUMMARY:11&U-Rnd 9: Bluebirds (6) vs NB Chicks (19)
TRANSP:OPAQUE
END:VEVENT
BEGIN:VEVENT
DTSTART:20180922T093000
DTEND:20180922T101000
DTSTAMP:20181215T114445Z
UID:cc644e9ee64e2dea49e009533ad62750@pvna.com.au
CREATED:20181215T194445Z
DESCRIPTION:2018 Spring Section:11&Under\nRound:Rnd 10
LAST-MODIFIED:20181215T194445Z
LOCATION:Court: 4
SEQUENCE:0
STATUS:CONFIRMED
SUMMARY:11&U-Rnd 10: NB Chicks (11) vs Awesome Angels 11s1 (10)
TRANSP:OPAQUE
END:VEVENT
BEGIN:VEVENT
DTSTART:20181013T093000
DTEND:20181013T101000
DTSTAMP:20181215T114445Z
UID:79245467eaff6fea86c05f5075c7c922@pvna.com.au
CREATED:20181215T194445Z
DESCRIPTION:2018 Spring Section:11&Under\nRound:Rnd 11
LAST-MODIFIED:20181215T194445Z
LOCATION:Court: 4
SEQUENCE:0
STATUS:CONFIRMED
SUMMARY:11&U-Rnd 11: NB Chicks (8) vs Neon Nightmares 11s (10)
TRANSP:OPAQUE
END:VEVENT
BEGIN:VEVENT
DTSTART:20181020T093000
DTEND:20181020T101000
DTSTAMP:20181215T114445Z
UID:e5f624c82a76e599ffbf6acaaebed167@pvna.com.au
CREATED:20181215T194445Z
DESCRIPTION:2018 Spring Section:11&Under\nRound:Rnd 12
LAST-MODIFIED:20181215T194445Z
LOCATION:Court: 4
SEQUENCE:0
STATUS:CONFIRMED
SUMMARY:11&U-Rnd 12: NB Chicks (10) vs Falcons (7)
TRANSP:OPAQUE
END:VEVENT
BEGIN:VEVENT
DTSTART:20181027T093000
DTEND:20181027T101000
DTSTAMP:20181215T114445Z
UID:eb4d90b2b855d8d4fc68c3a4b16579bb@pvna.com.au
CREATED:20181215T194445Z
DESCRIPTION:2018 Spring Section:11&Under\nRound:Rnd 13
LAST-MODIFIED:20181215T194445Z
LOCATION:Court: 4
SEQUENCE:0
STATUS:CONFIRMED
SUMMARY:11&U-Rnd 13: Awesome Angels 11s2 (4) vs NB Chicks (21)
TRANSP:OPAQUE
END:VEVENT
BEGIN:VEVENT
DTSTART:20181110T084500
DTEND:20181110T092500
DTSTAMP:20181215T114445Z
UID:6d7fe15dff3e10f4b6c994b42c6630b1@pvna.com.au
CREATED:20181215T194445Z
DESCRIPTION:2018 Spring Section:11&Under\nRound:Rnd 14
LAST-MODIFIED:20181215T194445Z
LOCATION:Court: 4
SEQUENCE:0
STATUS:CONFIRMED
SUMMARY:11&U-Rnd 14: NB Chicks (11) vs Bluebirds (10)
TRANSP:OPAQUE
END:VEVENT
BEGIN:VEVENT
DTSTART:20181117T101500
DTEND:20181117T105500
DTSTAMP:20181215T114445Z
UID:ef92a2c9267dca2dfdc428c45f768cd5@pvna.com.au
CREATED:20181215T194445Z
DESCRIPTION:2018 Spring Section:11&Under\nRound:Rnd 15
LAST-MODIFIED:20181215T194445Z
LOCATION:Court: 2
SEQUENCE:0
STATUS:CONFIRMED
SUMMARY:11&U-Rnd 15: NB Chicks (10) vs Awesome Angels 11s1 (9)
TRANSP:OPAQUE
END:VEVENT
BEGIN:VEVENT
DTSTART:20181124T104000
DTEND:20181124T105500
DTSTAMP:20181215T114445Z
UID:d8ed30ae1ccbed6f2a38aff54db88bda@pvna.com.au
CREATED:20181215T194445Z
DESCRIPTION:2018 Spring Section:11&Under\nRound:Rnd 16
LAST-MODIFIED:20181215T194445Z
LOCATION:Court: 1
SEQUENCE:0
STATUS:CONFIRMED
SUMMARY:11&U-Rnd 16: NB Chicks (19) vs Neon Nightmares 11s (10)
TRANSP:OPAQUE
END:VEVENT
BEGIN:VEVENT
DTSTART:20181201T095000
DTEND:20181201T105500
DTSTAMP:20181215T114445Z
UID:7f650f023d9bed7d85ed1c338f0d98fe@pvna.com.au
CREATED:20181215T194445Z
DESCRIPTION:2018 Spring Section:11&Under\nRound:Rnd 17
LAST-MODIFIED:20181215T194445Z
LOCATION:Court: 3
SEQUENCE:0
STATUS:CONFIRMED
SUMMARY:11&U-Rnd 17: Falcons (7) vs NB Chicks (13)
TRANSP:OPAQUE
END:VEVENT
BEGIN:VEVENT
DTSTART:20181208T110000
DTEND:20181208T114500
DTSTAMP:20181215T114445Z
UID:9f7082d151edbfa84c808b87275fe04f@pvna.com.au
CREATED:20181215T194445Z
DESCRIPTION:2018 Spring Section:11&Under\nRound:Rnd 18
LAST-MODIFIED:20181215T194445Z
LOCATION:Court: 3
SEQUENCE:0
STATUS:CONFIRMED
SUMMARY:11&U-Rnd 18: NB Chicks (4) vs Awesome Angels 11s2 (0)
TRANSP:OPAQUE
END:VEVENT
END:VCALENDAR
