BEGIN:VCALENDAR
PRODID:-//Google Inc//Google Calendar 70.9054//EN
VERSION:2.0
CALSCALE:GREGORIAN
METHOD:PUBLISH
X-WR-CALNAME:PV Comets NB Cubs
X-WR-TIMEZONE:Australia/Sydney
X-WR-CALDESC:PV Comets Parkville Calendars
BEGIN:VEVENT
DTSTART:20180721T101500
DTEND:20180721T105500
DTSTAMP:20181215T114445Z
UID:a76f7a3d1c057db51adb97454af74d43@pvna.com.au
CREATED:20181215T194445Z
DESCRIPTION:2018 Spring Section:13&U Res\nRound:Rnd 1
LAST-MODIFIED:20181215T194445Z
LOCATION:Court: 1
SEQUENCE:0
STATUS:CONFIRMED
SUMMARY:13&U-Rnd 1: NB Dragons  (0) vs NB Cubs (21)
TRANSP:OPAQUE
END:VEVENT
BEGIN:VEVENT
DTSTART:20180728T101500
DTEND:20180728T105500
DTSTAMP:20181215T114445Z
UID:614ca29d9392e2192e5913f701dace20@pvna.com.au
CREATED:20181215T194445Z
DESCRIPTION:2018 Spring Section:13&U Res\nRound:Rnd 2
LAST-MODIFIED:20181215T194445Z
LOCATION:Court: 3
SEQUENCE:0
STATUS:CONFIRMED
SUMMARY:13&U-Rnd 2: NB Cubs (18) vs Awesome Angels 13s2 (3)
TRANSP:OPAQUE
END:VEVENT
BEGIN:VEVENT
DTSTART:20180804T084500
DTEND:20180804T092500
DTSTAMP:20181215T114445Z
UID:027ec08ab3c7d1cc55fbb62f3268fb3b@pvna.com.au
CREATED:20181215T194445Z
DESCRIPTION:2018 Spring Section:13&U Res\nRound:Rnd 3
LAST-MODIFIED:20181215T194445Z
LOCATION:Court: 2
SEQUENCE:0
STATUS:CONFIRMED
SUMMARY:13&U-Rnd 3: Awesome Angels 13s3 (3) vs NB Cubs (18)
TRANSP:OPAQUE
END:VEVENT
BEGIN:VEVENT
DTSTART:20180811T123000
DTEND:20180811T131000
DTSTAMP:20181215T114445Z
UID:0c747944fe58b759a4f2521728057961@pvna.com.au
CREATED:20181215T194445Z
DESCRIPTION:2018 Spring Section:13&U Res\nRound:Rnd 4
LAST-MODIFIED:20181215T194445Z
LOCATION:Court: 3
SEQUENCE:0
STATUS:CONFIRMED
SUMMARY:13&U-Rnd 4: NB Cubs (24) vs Awesome Angels 13s4 (1)
TRANSP:OPAQUE
END:VEVENT
BEGIN:VEVENT
DTSTART:20180818T110000
DTEND:20180818T114500
DTSTAMP:20181215T114445Z
UID:2b3030ae57aa074dfe410e0c8fa17713@pvna.com.au
CREATED:20181215T194445Z
DESCRIPTION:2018 Spring Section:13&Under\nRound:Rnd 5
LAST-MODIFIED:20181215T194445Z
LOCATION:Court: 1
SEQUENCE:0
STATUS:CONFIRMED
SUMMARY:13&U-Rnd 5: Storm (22) vs NB Cubs (10)
TRANSP:OPAQUE
END:VEVENT
BEGIN:VEVENT
DTSTART:20180825T101500
DTEND:20180825T105500
DTSTAMP:20181215T114445Z
UID:4f3d304a1cffc7ce37b09b762414d3c2@pvna.com.au
CREATED:20181215T194445Z
DESCRIPTION:2018 Spring Section:13&Under\nRound:Rnd 6
LAST-MODIFIED:20181215T194445Z
LOCATION:Court: 2
SEQUENCE:0
STATUS:CONFIRMED
SUMMARY:13&U-Rnd 6: Wildcats 13s (13) vs NB Cubs (11)
TRANSP:OPAQUE
END:VEVENT
BEGIN:VEVENT
DTSTART:20180901T101500
DTEND:20180901T105500
DTSTAMP:20181215T114445Z
UID:cc6bd9720f5d77de12875cbf8020c76e@pvna.com.au
CREATED:20181215T194445Z
DESCRIPTION:2018 Spring Section:13&Under\nRound:Rnd 7
LAST-MODIFIED:20181215T194445Z
LOCATION:Court: 1
SEQUENCE:0
STATUS:CONFIRMED
SUMMARY:13&U-Rnd 7: Neon Nightmares 13s (23) vs NB Cubs (9)
TRANSP:OPAQUE
END:VEVENT
BEGIN:VEVENT
DTSTART:20180908T093000
DTEND:20180908T101000
DTSTAMP:20181215T114445Z
UID:f28fff23dc7526c95d46aae9fe8a083e@pvna.com.au
CREATED:20181215T194445Z
DESCRIPTION:2018 Spring Section:13&Under\nRound:Rnd 8
LAST-MODIFIED:20181215T194445Z
LOCATION:Court: 1
SEQUENCE:0
STATUS:CONFIRMED
SUMMARY:13&U-Rnd 8: SS Rubies (46) vs NB Cubs (3)
TRANSP:OPAQUE
END:VEVENT
BEGIN:VEVENT
DTSTART:20180915T101500
DTEND:20180915T105500
DTSTAMP:20181215T114445Z
UID:e67e8be4a2d02da902fd6ffd74733326@pvna.com.au
CREATED:20181215T194445Z
DESCRIPTION:2018 Spring Section:13&Under\nRound:Rnd 9
LAST-MODIFIED:20181215T194445Z
LOCATION:Court: 1
SEQUENCE:0
STATUS:CONFIRMED
SUMMARY:13&U-Rnd 9: Awesome Angels 13s1 (23) vs NB Cubs (1)
TRANSP:OPAQUE
END:VEVENT
BEGIN:VEVENT
DTSTART:20180922T101500
DTEND:20180922T105500
DTSTAMP:20181215T114445Z
UID:d034f16e015620f1a1946d8a7656106a@pvna.com.au
CREATED:20181215T194445Z
DESCRIPTION:2018 Spring Section:13&Under\nRound:Rnd 10
LAST-MODIFIED:20181215T194445Z
LOCATION:Court: 1
SEQUENCE:0
STATUS:CONFIRMED
SUMMARY:13&U-Rnd 10: Roxy Jnr (19) vs NB Cubs (4)
TRANSP:OPAQUE
END:VEVENT
BEGIN:VEVENT
DTSTART:20181013T101500
DTEND:20181013T105500
DTSTAMP:20181215T114445Z
UID:430e2210e3c60e0da81bf1b15ca684e6@pvna.com.au
CREATED:20181215T194445Z
DESCRIPTION:2018 Spring Section:13&Under\nRound:Rnd 11
LAST-MODIFIED:20181215T194445Z
LOCATION:Court: 1
SEQUENCE:0
STATUS:CONFIRMED
SUMMARY:13&U-Rnd 11: NB Cubs (9) vs SS Diamonds (10)
TRANSP:OPAQUE
END:VEVENT
BEGIN:VEVENT
DTSTART:20181020T093000
DTEND:20181020T101000
DTSTAMP:20181215T114445Z
UID:f328cfa7251b5bdef7ab1929e78adc76@pvna.com.au
CREATED:20181215T194445Z
DESCRIPTION:2018 Spring Section:13&Under\nRound:Rnd 12
LAST-MODIFIED:20181215T194445Z
LOCATION:Court: 1
SEQUENCE:0
STATUS:CONFIRMED
SUMMARY:13&U-Rnd 12: NB Cubs (4) vs Storm (30)
TRANSP:OPAQUE
END:VEVENT
BEGIN:VEVENT
DTSTART:20181027T110000
DTEND:20181027T114500
DTSTAMP:20181215T114445Z
UID:cda8fa043fb792816b580d86d853ca4e@pvna.com.au
CREATED:20181215T194445Z
DESCRIPTION:2018 Spring Section:13&Under\nRound:Rnd 13
LAST-MODIFIED:20181215T194445Z
LOCATION:Court: 2
SEQUENCE:0
STATUS:CONFIRMED
SUMMARY:13&U-Rnd 13: Wildcats 13s (15) vs NB Cubs (6)
TRANSP:OPAQUE
END:VEVENT
BEGIN:VEVENT
DTSTART:20181110T114500
DTEND:20181110T122500
DTSTAMP:20181215T114445Z
UID:a1d5f93a7bc8bb9898932ce5582a03da@pvna.com.au
CREATED:20181215T194445Z
DESCRIPTION:2018 Spring Section:13&Under\nRound:Rnd 14
LAST-MODIFIED:20181215T194445Z
LOCATION:Court: 4
SEQUENCE:0
STATUS:CONFIRMED
SUMMARY:13&U-Rnd 14: Neon Nightmares 13s (24) vs NB Cubs (7)
TRANSP:OPAQUE
END:VEVENT
BEGIN:VEVENT
DTSTART:20181117T093000
DTEND:20181117T101000
DTSTAMP:20181215T114445Z
UID:97784a0e76b9753e07ead07269eddb9f@pvna.com.au
CREATED:20181215T194445Z
DESCRIPTION:2018 Spring Section:13&Under\nRound:Rnd 15
LAST-MODIFIED:20181215T194445Z
LOCATION:Court: 2
SEQUENCE:0
STATUS:CONFIRMED
SUMMARY:13&U-Rnd 15: SS Rubies (19) vs NB Cubs (6)
TRANSP:OPAQUE
END:VEVENT
BEGIN:VEVENT
DTSTART:20181124T122000
DTEND:20181124T101000
DTSTAMP:20181215T114445Z
UID:03ea2426549f6293e735509df771b678@pvna.com.au
CREATED:20181215T194445Z
DESCRIPTION:2018 Spring Section:13&Under\nRound:B Semi
LAST-MODIFIED:20181215T194445Z
LOCATION:Court: 2
SEQUENCE:0
STATUS:CONFIRMED
SUMMARY:13&U-B Semi: Wildcats 13s (12) vs NB Cubs (13)
TRANSP:OPAQUE
END:VEVENT
BEGIN:VEVENT
DTSTART:20181201T122000
DTEND:20181201T101000
DTSTAMP:20181215T114445Z
UID:5f046edc1f8dd80ff5b2614b547551b7@pvna.com.au
CREATED:20181215T194445Z
DESCRIPTION:2018 Spring Section:13&Under\nRound:B Prelim
LAST-MODIFIED:20181215T194445Z
LOCATION:Court: 1
SEQUENCE:0
STATUS:CONFIRMED
SUMMARY:13&U-B Prelim: SS Diamonds (8) vs NB Cubs (9)
TRANSP:OPAQUE
END:VEVENT
BEGIN:VEVENT
DTSTART:20181208T090000
DTEND:20181208T094000
DTSTAMP:20181215T114445Z
UID:bbf11b98eed9d524874b113318cb99ef@pvna.com.au
CREATED:20181215T194445Z
DESCRIPTION:2018 Spring Section:13&Under\nRound:B Grand\n\nCurrent Ladder:\nTeam            P  W  L  D  Pts\nSS Rubies       15 15 0  0  60\nStorm           15 11 4  0  44\nAwesome Angels 13s1 15 9  5  1  38\nRoxy Jnr        16 7  7  2  32\nNeon Nightmares 13s 16 7  8  1  30\nSS Diamonds     15 5  8  2  24\nWildcats 13s    15 4  11 0  16\nNB Cubs         11 0  11 0  16*\n
LAST-MODIFIED:20181215T194445Z
LOCATION:Court: 4
SEQUENCE:0
STATUS:CONFIRMED
SUMMARY:13&U-B Grand: Neon Nightmares 13s (12) vs NB Cubs (11)
TRANSP:OPAQUE
END:VEVENT
END:VCALENDAR
