BEGIN:VCALENDAR
PRODID:-//Google Inc//Google Calendar 70.9054//EN
VERSION:2.0
CALSCALE:GREGORIAN
METHOD:PUBLISH
X-WR-CALNAME:PV Comets NB Dragons 
X-WR-TIMEZONE:Australia/Sydney
X-WR-CALDESC:PV Comets Parkville Calendars
BEGIN:VEVENT
DTSTART:20180721T101500
DTEND:20180721T105500
DTSTAMP:20181215T114445Z
UID:9c30bf3841a7e06c5ef05f2c6a86a84f@pvna.com.au
CREATED:20181215T194445Z
DESCRIPTION:2018 Spring Section:13&U Res\nRound:Rnd 1
LAST-MODIFIED:20181215T194445Z
LOCATION:Court: 1
SEQUENCE:0
STATUS:CONFIRMED
SUMMARY:13&U-Rnd 1: NB Dragons  (0) vs NB Cubs (21)
TRANSP:OPAQUE
END:VEVENT
BEGIN:VEVENT
DTSTART:20180728T123000
DTEND:20180728T131000
DTSTAMP:20181215T114445Z
UID:6fdbaf0eb10745e789808d925d00bfac@pvna.com.au
CREATED:20181215T194445Z
DESCRIPTION:2018 Spring Section:13&U Res\nRound:Rnd 2
LAST-MODIFIED:20181215T194445Z
LOCATION:Court: 99
SEQUENCE:0
STATUS:CONFIRMED
SUMMARY:13&U-Rnd 2: NB Dragons  vs BYE
TRANSP:OPAQUE
END:VEVENT
BEGIN:VEVENT
DTSTART:20180804T101500
DTEND:20180804T105500
DTSTAMP:20181215T114445Z
UID:c558a83e62f46b515ca5c43e80c275f3@pvna.com.au
CREATED:20181215T194445Z
DESCRIPTION:2018 Spring Section:13&U Res\nRound:Rnd 3
LAST-MODIFIED:20181215T194445Z
LOCATION:Court: 2
SEQUENCE:0
STATUS:CONFIRMED
SUMMARY:13&U-Rnd 3: All Starz Jnr (16) vs NB Dragons  (10)
TRANSP:OPAQUE
END:VEVENT
BEGIN:VEVENT
DTSTART:20180811T110000
DTEND:20180811T114500
DTSTAMP:20181215T114445Z
UID:b15348631ef1bb501933408e8df9b585@pvna.com.au
CREATED:20181215T194445Z
DESCRIPTION:2018 Spring Section:13&U Res\nRound:Rnd 4
LAST-MODIFIED:20181215T194445Z
LOCATION:Court: 1
SEQUENCE:0
STATUS:CONFIRMED
SUMMARY:13&U-Rnd 4: Awesome Angels 13s3 (5) vs NB Dragons  (20)
TRANSP:OPAQUE
END:VEVENT
BEGIN:VEVENT
DTSTART:20180818T114500
DTEND:20180818T122500
DTSTAMP:20181215T114445Z
UID:08181af385563d876fccc53e79f2ea9f@pvna.com.au
CREATED:20181215T194445Z
DESCRIPTION:2018 Spring Section:13&U Res\nRound:Rnd 5
LAST-MODIFIED:20181215T194445Z
LOCATION:Court: 2
SEQUENCE:0
STATUS:CONFIRMED
SUMMARY:13&U-Rnd 5: Awesome Angels 13s2 (10) vs NB Dragons  (16)
TRANSP:OPAQUE
END:VEVENT
BEGIN:VEVENT
DTSTART:20180825T123000
DTEND:20180825T131000
DTSTAMP:20181215T114445Z
UID:58db83ee7fce5336fd562ccd490c7427@pvna.com.au
CREATED:20181215T194445Z
DESCRIPTION:2018 Spring Section:13&U Res\nRound:Rnd 6
LAST-MODIFIED:20181215T194445Z
LOCATION:Court: 99
SEQUENCE:0
STATUS:CONFIRMED
SUMMARY:13&U-Rnd 6: NB Dragons  vs BYE
TRANSP:OPAQUE
END:VEVENT
BEGIN:VEVENT
DTSTART:20180901T110000
DTEND:20180901T114500
DTSTAMP:20181215T114445Z
UID:71a1280344b9c68c7e69df2b1e83c82e@pvna.com.au
CREATED:20181215T194445Z
DESCRIPTION:2018 Spring Section:13&U Res\nRound:Rnd 7
LAST-MODIFIED:20181215T194445Z
LOCATION:Court: 1
SEQUENCE:0
STATUS:CONFIRMED
SUMMARY:13&U-Rnd 7: Awesome Angels 13s4 (6) vs NB Dragons  (7)
TRANSP:OPAQUE
END:VEVENT
BEGIN:VEVENT
DTSTART:20180908T110000
DTEND:20180908T114500
DTSTAMP:20181215T114445Z
UID:c471aa1da26d771a5eed33387c70395c@pvna.com.au
CREATED:20181215T194445Z
DESCRIPTION:2018 Spring Section:13&U Res\nRound:Rnd 8
LAST-MODIFIED:20181215T194445Z
LOCATION:Court: 2
SEQUENCE:0
STATUS:CONFIRMED
SUMMARY:13&U-Rnd 8: All Starz Jnr (6) vs NB Dragons  (15)
TRANSP:OPAQUE
END:VEVENT
BEGIN:VEVENT
DTSTART:20180915T101500
DTEND:20180915T105500
DTSTAMP:20181215T114445Z
UID:78ca76af6586fed94c6846fe835c85ef@pvna.com.au
CREATED:20181215T194445Z
DESCRIPTION:2018 Spring Section:13&U Res\nRound:Rnd 9
LAST-MODIFIED:20181215T194445Z
LOCATION:Court: 2
SEQUENCE:0
STATUS:CONFIRMED
SUMMARY:13&U-Rnd 9: Awesome Angels 13s3 (4) vs NB Dragons  (17)
TRANSP:OPAQUE
END:VEVENT
BEGIN:VEVENT
DTSTART:20180922T114500
DTEND:20180922T122500
DTSTAMP:20181215T114445Z
UID:8ceb958314dbdc791432d8339a750ce6@pvna.com.au
CREATED:20181215T194445Z
DESCRIPTION:2018 Spring Section:13&U Res\nRound:Rnd 10
LAST-MODIFIED:20181215T194445Z
LOCATION:Court: 2
SEQUENCE:0
STATUS:CONFIRMED
SUMMARY:13&U-Rnd 10: Awesome Angels 13s2 (11) vs NB Dragons  (17)
TRANSP:OPAQUE
END:VEVENT
BEGIN:VEVENT
DTSTART:20181013T093000
DTEND:20181013T101000
DTSTAMP:20181215T114445Z
UID:2155d308391c02c8f2236b1f466b7cd7@pvna.com.au
CREATED:20181215T194445Z
DESCRIPTION:2018 Spring Section:13&U Res\nRound:Rnd 11
LAST-MODIFIED:20181215T194445Z
LOCATION:Court: 99
SEQUENCE:0
STATUS:CONFIRMED
SUMMARY:13&U-Rnd 11: NB Dragons  vs BYE
TRANSP:OPAQUE
END:VEVENT
BEGIN:VEVENT
DTSTART:20181020T101500
DTEND:20181020T105500
DTSTAMP:20181215T114445Z
UID:74babac35abb13131e12d2283e13f53f@pvna.com.au
CREATED:20181215T194445Z
DESCRIPTION:2018 Spring Section:13&U Res\nRound:Rnd 12
LAST-MODIFIED:20181215T194445Z
LOCATION:Court: 1
SEQUENCE:0
STATUS:CONFIRMED
SUMMARY:13&U-Rnd 12: NB Dragons  (8) vs Awesome Angels 13s4 (3)
TRANSP:OPAQUE
END:VEVENT
BEGIN:VEVENT
DTSTART:20181027T114500
DTEND:20181027T122500
DTSTAMP:20181215T114445Z
UID:26055a4a92e88d1b5486facec15f8e09@pvna.com.au
CREATED:20181215T194445Z
DESCRIPTION:2018 Spring Section:13&U Res\nRound:Rnd 13
LAST-MODIFIED:20181215T194445Z
LOCATION:Court: 1
SEQUENCE:0
STATUS:CONFIRMED
SUMMARY:13&U-Rnd 13: NB Dragons  (18) vs All Starz Jnr (10)
TRANSP:OPAQUE
END:VEVENT
BEGIN:VEVENT
DTSTART:20181110T110000
DTEND:20181110T114500
DTSTAMP:20181215T114445Z
UID:dbd843f51305f51253dac5909b342546@pvna.com.au
CREATED:20181215T194445Z
DESCRIPTION:2018 Spring Section:13&U Res\nRound:Rnd 14
LAST-MODIFIED:20181215T194445Z
LOCATION:Court: 2
SEQUENCE:0
STATUS:CONFIRMED
SUMMARY:13&U-Rnd 14: Awesome Angels 13s3 (1) vs NB Dragons  (20)
TRANSP:OPAQUE
END:VEVENT
BEGIN:VEVENT
DTSTART:20181117T110000
DTEND:20181117T114500
DTSTAMP:20181215T114445Z
UID:94b2f308b3c19fb3cb2ae37962a76195@pvna.com.au
CREATED:20181215T194445Z
DESCRIPTION:2018 Spring Section:13&U Res\nRound:Rnd 15
LAST-MODIFIED:20181215T194445Z
LOCATION:Court: 4
SEQUENCE:0
STATUS:CONFIRMED
SUMMARY:13&U-Rnd 15: Awesome Angels 13s2 (12) vs NB Dragons  (14)
TRANSP:OPAQUE
END:VEVENT
BEGIN:VEVENT
DTSTART:20181124T113000
DTEND:20181124T114500
DTSTAMP:20181215T114445Z
UID:252e4c6de13d05ac2f28b52da6a9d10a@pvna.com.au
CREATED:20181215T194445Z
DESCRIPTION:2018 Spring Section:13&U Res\nRound:Semi
LAST-MODIFIED:20181215T194445Z
LOCATION:Court: 2
SEQUENCE:0
STATUS:CONFIRMED
SUMMARY:13&U-Semi: NB Dragons  (10) vs All Starz Jnr (14)
TRANSP:OPAQUE
END:VEVENT
BEGIN:VEVENT
DTSTART:20181201T090000
DTEND:20181201T094000
DTSTAMP:20181215T114445Z
UID:dfb55d7b6ed191a04a775da81bc5ab89@pvna.com.au
CREATED:20181215T194445Z
DESCRIPTION:2018 Spring Section:13&U Res\nRound:Prelim
LAST-MODIFIED:20181215T194445Z
LOCATION:Court: 2
SEQUENCE:0
STATUS:CONFIRMED
SUMMARY:13&U-Prelim: NB Dragons  (19) vs Awesome Angels 13s2 (16)
TRANSP:OPAQUE
END:VEVENT
BEGIN:VEVENT
DTSTART:20181208T090000
DTEND:20181208T094000
DTSTAMP:20181215T114445Z
UID:d51bbdca2c5750f75c63a4c31560199e@pvna.com.au
CREATED:20181215T194445Z
DESCRIPTION:2018 Spring Section:13&U Res\nRound:Grand
LAST-MODIFIED:20181215T194445Z
LOCATION:Court: 3
SEQUENCE:0
STATUS:CONFIRMED
SUMMARY:13&U-Grand: All Starz Jnr (17) vs NB Dragons  (22)
TRANSP:OPAQUE
END:VEVENT
END:VCALENDAR
