BEGIN:VCALENDAR
PRODID:-//Google Inc//Google Calendar 70.9054//EN
VERSION:2.0
CALSCALE:GREGORIAN
METHOD:PUBLISH
X-WR-CALNAME:PV Comets NetSetGo!
X-WR-TIMEZONE:Australia/Sydney
X-WR-CALDESC:PV Comets Parkville Calendars
BEGIN:VEVENT
DTSTART:20180721T113000
DTEND:20180721T094000
DTSTAMP:20181215T114445Z
UID:58013e0b16a92b5ab7f84edc5d18687d@pvna.com.au
CREATED:20181215T194445Z
DESCRIPTION:2018 Spring Section:Net-Set-Go\nRound:Rnd 1
LAST-MODIFIED:20181215T194445Z
LOCATION:Court: 3
SEQUENCE:0
STATUS:CONFIRMED
SUMMARY:Net--Rnd 1: Netta vs NetSetGo!
TRANSP:OPAQUE
END:VEVENT
BEGIN:VEVENT
DTSTART:20180728T113000
DTEND:20180728T094000
DTSTAMP:20181215T114445Z
UID:33b73d15f0ba198f451c86a2e026a6ba@pvna.com.au
CREATED:20181215T194445Z
DESCRIPTION:2018 Spring Section:Net-Set-Go\nRound:Rnd 2
LAST-MODIFIED:20181215T194445Z
LOCATION:Court: 3
SEQUENCE:0
STATUS:CONFIRMED
SUMMARY:Net--Rnd 2: Netta vs NetSetGo!
TRANSP:OPAQUE
END:VEVENT
BEGIN:VEVENT
DTSTART:20180804T111500
DTEND:20180804T115500
DTSTAMP:20181215T114445Z
UID:cf7f1b0249c325942c3f16d0aae3772e@pvna.com.au
CREATED:20181215T194445Z
DESCRIPTION:2018 Spring Section:Net-Set-Go\nRound:Rnd 3
LAST-MODIFIED:20181215T194445Z
LOCATION:Court: 3
SEQUENCE:0
STATUS:CONFIRMED
SUMMARY:Net--Rnd 3: NetSetGo! vs Netta
TRANSP:OPAQUE
END:VEVENT
BEGIN:VEVENT
DTSTART:20180811T111500
DTEND:20180811T115500
DTSTAMP:20181215T114445Z
UID:9b42f41f5939885ee1a9d8a86a86abcc@pvna.com.au
CREATED:20181215T194445Z
DESCRIPTION:2018 Spring Section:Net-Set-Go\nRound:Rnd 4
LAST-MODIFIED:20181215T194445Z
LOCATION:Court: 3
SEQUENCE:0
STATUS:CONFIRMED
SUMMARY:Net--Rnd 4: Netta vs NetSetGo!
TRANSP:OPAQUE
END:VEVENT
BEGIN:VEVENT
DTSTART:20180818T113000
DTEND:20180818T115500
DTSTAMP:20181215T114445Z
UID:c7f1202ec4dabf57ecf0a28d2a61a70d@pvna.com.au
CREATED:20181215T194445Z
DESCRIPTION:2018 Spring Section:Net-Set-Go\nRound:Rnd 5
LAST-MODIFIED:20181215T194445Z
LOCATION:Court: 3
SEQUENCE:0
STATUS:CONFIRMED
SUMMARY:Net--Rnd 5: NetSetGo! vs Netta
TRANSP:OPAQUE
END:VEVENT
BEGIN:VEVENT
DTSTART:20180825T113000
DTEND:20180825T115500
DTSTAMP:20181215T114445Z
UID:b5f7b146f6fa9ea5253090929e7d1206@pvna.com.au
CREATED:20181215T194445Z
DESCRIPTION:2018 Spring Section:Net-Set-Go\nRound:Rnd 6
LAST-MODIFIED:20181215T194445Z
LOCATION:Court: 3
SEQUENCE:0
STATUS:CONFIRMED
SUMMARY:Net--Rnd 6: Netta vs NetSetGo!
TRANSP:OPAQUE
END:VEVENT
BEGIN:VEVENT
DTSTART:20180901T113000
DTEND:20180901T115500
DTSTAMP:20181215T114445Z
UID:bd75784f10c053207ece81553e42f385@pvna.com.au
CREATED:20181215T194445Z
DESCRIPTION:2018 Spring Section:Net-Set-Go\nRound:Rnd 7
LAST-MODIFIED:20181215T194445Z
LOCATION:Court: 3
SEQUENCE:0
STATUS:CONFIRMED
SUMMARY:Net--Rnd 7: NetSetGo! vs Netta
TRANSP:OPAQUE
END:VEVENT
BEGIN:VEVENT
DTSTART:20180908T111500
DTEND:20180908T115500
DTSTAMP:20181215T114445Z
UID:aca4af128e34a4e20e956c26d71e6636@pvna.com.au
CREATED:20181215T194445Z
DESCRIPTION:2018 Spring Section:Net-Set-Go\nRound:Rnd 8
LAST-MODIFIED:20181215T194445Z
LOCATION:Court: 3
SEQUENCE:0
STATUS:CONFIRMED
SUMMARY:Net--Rnd 8: Netta vs NetSetGo!
TRANSP:OPAQUE
END:VEVENT
BEGIN:VEVENT
DTSTART:20180915T113000
DTEND:20180915T115500
DTSTAMP:20181215T114445Z
UID:fa3210d36eac822cebafdd2a9cf60f53@pvna.com.au
CREATED:20181215T194445Z
DESCRIPTION:2018 Spring Section:Net-Set-Go\nRound:Rnd 9
LAST-MODIFIED:20181215T194445Z
LOCATION:Court: 3
SEQUENCE:0
STATUS:CONFIRMED
SUMMARY:Net--Rnd 9: NetSetGo! vs Netta
TRANSP:OPAQUE
END:VEVENT
BEGIN:VEVENT
DTSTART:20180922T113000
DTEND:20180922T115500
DTSTAMP:20181215T114445Z
UID:8ec90c0d575be778ce40826695233fce@pvna.com.au
CREATED:20181215T194445Z
DESCRIPTION:2018 Spring Section:Net-Set-Go\nRound:Rnd 10
LAST-MODIFIED:20181215T194445Z
LOCATION:Court: 3
SEQUENCE:0
STATUS:CONFIRMED
SUMMARY:Net--Rnd 10: Netta vs NetSetGo!
TRANSP:OPAQUE
END:VEVENT
BEGIN:VEVENT
DTSTART:20181013T111500
DTEND:20181013T115500
DTSTAMP:20181215T114445Z
UID:06d8310712edf2970092f49cbf942d5a@pvna.com.au
CREATED:20181215T194445Z
DESCRIPTION:2018 Spring Section:Net-Set-Go\nRound:Rnd 11
LAST-MODIFIED:20181215T194445Z
LOCATION:Court: 3
SEQUENCE:0
STATUS:CONFIRMED
SUMMARY:Net--Rnd 11: NetSetGo! vs Netta
TRANSP:OPAQUE
END:VEVENT
BEGIN:VEVENT
DTSTART:20181020T113000
DTEND:20181020T115500
DTSTAMP:20181215T114445Z
UID:4745d3968969f0e541fe58352043d3b4@pvna.com.au
CREATED:20181215T194445Z
DESCRIPTION:2018 Spring Section:Net-Set-Go\nRound:Rnd 12
LAST-MODIFIED:20181215T194445Z
LOCATION:Court: 3
SEQUENCE:0
STATUS:CONFIRMED
SUMMARY:Net--Rnd 12: Netta vs NetSetGo!
TRANSP:OPAQUE
END:VEVENT
BEGIN:VEVENT
DTSTART:20181027T113000
DTEND:20181027T115500
DTSTAMP:20181215T114445Z
UID:a4422b745b12150e7c5499fafcd3bf8b@pvna.com.au
CREATED:20181215T194445Z
DESCRIPTION:2018 Spring Section:Net-Set-Go\nRound:Rnd 13
LAST-MODIFIED:20181215T194445Z
LOCATION:Court: 3
SEQUENCE:0
STATUS:CONFIRMED
SUMMARY:Net--Rnd 13: NetSetGo! vs Netta
TRANSP:OPAQUE
END:VEVENT
BEGIN:VEVENT
DTSTART:20181110T113000
DTEND:20181110T115500
DTSTAMP:20181215T114445Z
UID:69d1a40caa20f09a1c0084483c56e67d@pvna.com.au
CREATED:20181215T194445Z
DESCRIPTION:2018 Spring Section:Net-Set-Go\nRound:Rnd 14
LAST-MODIFIED:20181215T194445Z
LOCATION:Court: 3
SEQUENCE:0
STATUS:CONFIRMED
SUMMARY:Net--Rnd 14: Netta vs NetSetGo!
TRANSP:OPAQUE
END:VEVENT
BEGIN:VEVENT
DTSTART:20181117T113000
DTEND:20181117T115500
DTSTAMP:20181215T114445Z
UID:993fe0245bdb4e1cc8cd75bac1894fda@pvna.com.au
CREATED:20181215T194445Z
DESCRIPTION:2018 Spring Section:Net-Set-Go\nRound:Rnd 15
LAST-MODIFIED:20181215T194445Z
LOCATION:Court: 3
SEQUENCE:0
STATUS:CONFIRMED
SUMMARY:Net--Rnd 15: NetSetGo! vs Netta
TRANSP:OPAQUE
END:VEVENT
BEGIN:VEVENT
DTSTART:20181124T110000
DTEND:20181124T114500
DTSTAMP:20181215T114445Z
UID:ebddb70a6eab58c774cacc83dc30c9b7@pvna.com.au
CREATED:20181215T194445Z
DESCRIPTION:2018 Spring Section:Net-Set-Go\nRound:Rnd 16
LAST-MODIFIED:20181215T194445Z
LOCATION:Court: 4
SEQUENCE:0
STATUS:CONFIRMED
SUMMARY:Net--Rnd 16: Netta vs NetSetGo!
TRANSP:OPAQUE
END:VEVENT
BEGIN:VEVENT
DTSTART:20181201T111500
DTEND:20181201T115500
DTSTAMP:20181215T114445Z
UID:f07cdc8ddcc8bcc55f672fb3b8c0495f@pvna.com.au
CREATED:20181215T194445Z
DESCRIPTION:2018 Spring Section:Net-Set-Go\nRound:Rnd 17
LAST-MODIFIED:20181215T194445Z
LOCATION:Court: 3
SEQUENCE:0
STATUS:CONFIRMED
SUMMARY:Net--Rnd 17: NetSetGo! vs Netta
TRANSP:OPAQUE
END:VEVENT
END:VCALENDAR
