BEGIN:VCALENDAR
PRODID:-//Google Inc//Google Calendar 70.9054//EN
VERSION:2.0
CALSCALE:GREGORIAN
METHOD:PUBLISH
X-WR-CALNAME:PV Comets Northern Blues Cheetahs
X-WR-TIMEZONE:Australia/Sydney
X-WR-CALDESC:PV Comets Parkville Calendars
BEGIN:VEVENT
DTSTART:20180203T101500
DTEND:20180203T105500
DTSTAMP:20180205T075350Z
UID:417405e21687c459cc59fcdff5670aa6@pvna.com.au
CREATED:20180205T075350Z
DESCRIPTION:2018 Autumn Section:17&Under\nRound:Rnd 1
LAST-MODIFIED:20180205T075350Z
LOCATION:Court: 3
SEQUENCE:0
STATUS:CONFIRMED
SUMMARY:17&U-Rnd 1: Ravens (5) vs Northern Blues Cheetahs (42)
TRANSP:OPAQUE
END:VEVENT
BEGIN:VEVENT
DTSTART:20180210T084500
DTEND:20180210T092500
DTSTAMP:20180205T075353Z
UID:9bc3d644b03d28c3404abc38ee8f5d23@pvna.com.au
CREATED:20180205T075353Z
DESCRIPTION:2018 Autumn Section:17&Under\nRound:Rnd 2\n\nCurrent Ladder:\nTeam            P  W  L  D  Pts\nNorthern Blues Cheetahs 1  1  0  0  4 \nPhoenix         1  1  0  0  4 \nRoxy            1  1  0  0  4 \nSS Magic        1  0  1  0  0 \nRavens          1  0  1  0  0 \nNorthern Blues Kangas 1  0  1  0  0 \nBlazers         0  0  0  0  0 \n
LAST-MODIFIED:20180205T075353Z
LOCATION:Court: 2
SEQUENCE:0
STATUS:CONFIRMED
SUMMARY:17&U-Rnd 2: 19s vs Northern Blues Cheetahs
TRANSP:OPAQUE
END:VEVENT
BEGIN:VEVENT
DTSTART:20180217T093000
DTEND:20180217T101000
DTSTAMP:20180205T075353Z
UID:7d662e72c1c1e34e4e54d84a61396b00@pvna.com.au
CREATED:20180205T075353Z
DESCRIPTION:2018 Autumn Section:17&Under\nRound:Rnd 3
LAST-MODIFIED:20180205T075353Z
LOCATION:Court: 3
SEQUENCE:0
STATUS:CONFIRMED
SUMMARY:17&U-Rnd 3: Northern Blues Kangas vs Northern Blues Cheetahs
TRANSP:OPAQUE
END:VEVENT
BEGIN:VEVENT
DTSTART:20180224T084500
DTEND:20180224T092500
DTSTAMP:20180205T075353Z
UID:c0c91711d151cdb754ef8074b845fe11@pvna.com.au
CREATED:20180205T075353Z
DESCRIPTION:2018 Autumn Section:17&Under\nRound:Rnd 4
LAST-MODIFIED:20180205T075353Z
LOCATION:Court: 2
SEQUENCE:0
STATUS:CONFIRMED
SUMMARY:17&U-Rnd 4: Northern Blues Cheetahs vs Phoenix
TRANSP:OPAQUE
END:VEVENT
BEGIN:VEVENT
DTSTART:20180303T084500
DTEND:20180303T092500
DTSTAMP:20180205T075353Z
UID:8dc36226243cc8425d670f4d540b3527@pvna.com.au
CREATED:20180205T075353Z
DESCRIPTION:2018 Autumn Section:17&Under\nRound:Rnd 5
LAST-MODIFIED:20180205T075353Z
LOCATION:Court: 3
SEQUENCE:0
STATUS:CONFIRMED
SUMMARY:17&U-Rnd 5: Roxy vs Northern Blues Cheetahs
TRANSP:OPAQUE
END:VEVENT
BEGIN:VEVENT
DTSTART:20180317T114500
DTEND:20180317T122500
DTSTAMP:20180205T075353Z
UID:62cd96ed9a89689b8fa88218b2a9512b@pvna.com.au
CREATED:20180205T075353Z
DESCRIPTION:2018 Autumn Section:17&Under\nRound:Rnd 6
LAST-MODIFIED:20180205T075353Z
LOCATION:Court: 2
SEQUENCE:0
STATUS:CONFIRMED
SUMMARY:17&U-Rnd 6: Ravens vs Northern Blues Cheetahs
TRANSP:OPAQUE
END:VEVENT
BEGIN:VEVENT
DTSTART:20180324T114500
DTEND:20180324T122500
DTSTAMP:20180205T075353Z
UID:d1d369803edf47ad6fc68afc9a9e5c21@pvna.com.au
CREATED:20180205T075353Z
DESCRIPTION:2018 Autumn Section:17&Under\nRound:Rnd 7
LAST-MODIFIED:20180205T075353Z
LOCATION:Court: 1
SEQUENCE:0
STATUS:CONFIRMED
SUMMARY:17&U-Rnd 7: Northern Blues Cheetahs vs SS Magic
TRANSP:OPAQUE
END:VEVENT
BEGIN:VEVENT
DTSTART:20180421T110000
DTEND:20180421T114500
DTSTAMP:20180205T075353Z
UID:a42a75b83450e8b7e1367ed7a8fffb16@pvna.com.au
CREATED:20180205T075353Z
DESCRIPTION:2018 Autumn Section:17&Under\nRound:Rnd 8
LAST-MODIFIED:20180205T075353Z
LOCATION:Court: 4
SEQUENCE:0
STATUS:CONFIRMED
SUMMARY:17&U-Rnd 8: Blazers vs Northern Blues Cheetahs
TRANSP:OPAQUE
END:VEVENT
BEGIN:VEVENT
DTSTART:20180428T110000
DTEND:20180428T114500
DTSTAMP:20180205T075353Z
UID:9c55b9ddd5578e8dbe5fa2e3e8ed9a75@pvna.com.au
CREATED:20180205T075353Z
DESCRIPTION:2018 Autumn Section:17&Under\nRound:Rnd 9
LAST-MODIFIED:20180205T075353Z
LOCATION:Court: 4
SEQUENCE:0
STATUS:CONFIRMED
SUMMARY:17&U-Rnd 9: Northern Blues Cheetahs vs Phoenix
TRANSP:OPAQUE
END:VEVENT
BEGIN:VEVENT
DTSTART:20180505T114500
DTEND:20180505T122500
DTSTAMP:20180205T075353Z
UID:8c82370d19be7262618441b9c0a2f385@pvna.com.au
CREATED:20180205T075353Z
DESCRIPTION:2018 Autumn Section:17&Under\nRound:Rnd 10
LAST-MODIFIED:20180205T075353Z
LOCATION:Court: 2
SEQUENCE:0
STATUS:CONFIRMED
SUMMARY:17&U-Rnd 10: Roxy vs Northern Blues Cheetahs
TRANSP:OPAQUE
END:VEVENT
BEGIN:VEVENT
DTSTART:20180519T114500
DTEND:20180519T122500
DTSTAMP:20180205T075353Z
UID:6cc638b2663cdd368f33d4b13fe9cfd9@pvna.com.au
CREATED:20180205T075353Z
DESCRIPTION:2018 Autumn Section:17&Under\nRound:Rnd 12
LAST-MODIFIED:20180205T075353Z
LOCATION:Court: 2
SEQUENCE:0
STATUS:CONFIRMED
SUMMARY:17&U-Rnd 12: Ravens vs Northern Blues Cheetahs
TRANSP:OPAQUE
END:VEVENT
BEGIN:VEVENT
DTSTART:20180526T114500
DTEND:20180526T122500
DTSTAMP:20180205T075353Z
UID:e0046dff3a806388359851cc38c6e43d@pvna.com.au
CREATED:20180205T075353Z
DESCRIPTION:2018 Autumn Section:17&Under\nRound:Rnd 13
LAST-MODIFIED:20180205T075353Z
LOCATION:Court: 2
SEQUENCE:0
STATUS:CONFIRMED
SUMMARY:17&U-Rnd 13: Northern Blues Cheetahs vs SS Magic
TRANSP:OPAQUE
END:VEVENT
BEGIN:VEVENT
DTSTART:20180602T110000
DTEND:20180602T114500
DTSTAMP:20180205T075353Z
UID:9b6ab96f0664050c1101e75451fb04f1@pvna.com.au
CREATED:20180205T075353Z
DESCRIPTION:2018 Autumn Section:17&Under\nRound:Rnd 14
LAST-MODIFIED:20180205T075353Z
LOCATION:Court: 4
SEQUENCE:0
STATUS:CONFIRMED
SUMMARY:17&U-Rnd 14: Blazers vs Northern Blues Cheetahs
TRANSP:OPAQUE
END:VEVENT
END:VCALENDAR
