BEGIN:VCALENDAR
PRODID:-//Google Inc//Google Calendar 70.9054//EN
VERSION:2.0
CALSCALE:GREGORIAN
METHOD:PUBLISH
X-WR-CALNAME:PV Comets Northern Blues Chicks
X-WR-TIMEZONE:Australia/Sydney
X-WR-CALDESC:PV Comets Parkville Calendars
BEGIN:VEVENT
DTSTART:20180203T084500
DTEND:20180203T092500
DTSTAMP:20180205T075353Z
UID:f083f73c7037fffdae6b1ad0ffd0260b@pvna.com.au
CREATED:20180205T075353Z
DESCRIPTION:2018 Autumn Section:11&Under\nRound:Rnd 1
LAST-MODIFIED:20180205T075353Z
LOCATION:Court: 4
SEQUENCE:0
STATUS:CONFIRMED
SUMMARY:11&U-Rnd 1: Falcons (1) vs Northern Blues Chicks (3)
TRANSP:OPAQUE
END:VEVENT
BEGIN:VEVENT
DTSTART:20180210T084500
DTEND:20180210T092500
DTSTAMP:20180205T075355Z
UID:d2be6daba7ccd669ce0529bf165dd2fa@pvna.com.au
CREATED:20180205T075355Z
DESCRIPTION:2018 Autumn Section:11&Under\nRound:Rnd 2\n\nCurrent Ladder:\nTeam            P  W  L  D  Pts\nNorthern Blues Chicks 1  1  0  0  4 \nNeon Nightmares 11s 1  1  0  0  4 \nBluebirds       1  1  0  0  4 \nAwesome Angels 11s1 1  0  1  0  0 \nFalcons         1  0  1  0  0 \nWaterlillies    0  0  0  0  0 \n
LAST-MODIFIED:20180205T075355Z
LOCATION:Court: 99
SEQUENCE:0
STATUS:CONFIRMED
SUMMARY:11&U-Rnd 2: Northern Blues Chicks vs BYE
TRANSP:OPAQUE
END:VEVENT
BEGIN:VEVENT
DTSTART:20180217T110000
DTEND:20180217T114500
DTSTAMP:20180205T075355Z
UID:5832144c19398ecb44d363221818806c@pvna.com.au
CREATED:20180205T075355Z
DESCRIPTION:2018 Autumn Section:11&Under\nRound:Rnd 3
LAST-MODIFIED:20180205T075355Z
LOCATION:Court: 4
SEQUENCE:0
STATUS:CONFIRMED
SUMMARY:11&U-Rnd 3: Neon Nightmares 11s vs Northern Blues Chicks
TRANSP:OPAQUE
END:VEVENT
BEGIN:VEVENT
DTSTART:20180224T114500
DTEND:20180224T122500
DTSTAMP:20180205T075355Z
UID:c09ef9f105e5bd4acfa3cb724353e7d9@pvna.com.au
CREATED:20180205T075355Z
DESCRIPTION:2018 Autumn Section:11&Under\nRound:Rnd 4
LAST-MODIFIED:20180205T075355Z
LOCATION:Court: 2
SEQUENCE:0
STATUS:CONFIRMED
SUMMARY:11&U-Rnd 4: Northern Blues Chicks vs Bluebirds
TRANSP:OPAQUE
END:VEVENT
BEGIN:VEVENT
DTSTART:20180303T110000
DTEND:20180303T114500
DTSTAMP:20180205T075355Z
UID:29dde33c762b1f130caa0fcebb4ca5a6@pvna.com.au
CREATED:20180205T075355Z
DESCRIPTION:2018 Autumn Section:11&Under\nRound:Rnd 5
LAST-MODIFIED:20180205T075355Z
LOCATION:Court: 4
SEQUENCE:0
STATUS:CONFIRMED
SUMMARY:11&U-Rnd 5: Waterlillies vs Northern Blues Chicks
TRANSP:OPAQUE
END:VEVENT
BEGIN:VEVENT
DTSTART:20180317T084500
DTEND:20180317T092500
DTSTAMP:20180205T075355Z
UID:5dee2fe1554a1d86b6c6d2b3680afebd@pvna.com.au
CREATED:20180205T075355Z
DESCRIPTION:2018 Autumn Section:11&Under\nRound:Rnd 6
LAST-MODIFIED:20180205T075355Z
LOCATION:Court: 4
SEQUENCE:0
STATUS:CONFIRMED
SUMMARY:11&U-Rnd 6: Falcons vs Northern Blues Chicks
TRANSP:OPAQUE
END:VEVENT
BEGIN:VEVENT
DTSTART:20180324T084500
DTEND:20180324T092500
DTSTAMP:20180205T075355Z
UID:7324de2ac6ecdca6e344585cb77a3664@pvna.com.au
CREATED:20180205T075355Z
DESCRIPTION:2018 Autumn Section:11&Under\nRound:Rnd 7
LAST-MODIFIED:20180205T075355Z
LOCATION:Court: 3
SEQUENCE:0
STATUS:CONFIRMED
SUMMARY:11&U-Rnd 7: Northern Blues Chicks vs Awesome Angels 11s1
TRANSP:OPAQUE
END:VEVENT
BEGIN:VEVENT
DTSTART:20180421T084500
DTEND:20180421T092500
DTSTAMP:20180205T075355Z
UID:c6f7d310f0f2f3dcc7f97780ce8f3988@pvna.com.au
CREATED:20180205T075355Z
DESCRIPTION:2018 Autumn Section:11&Under\nRound:Rnd 8
LAST-MODIFIED:20180205T075355Z
LOCATION:Court: 2
SEQUENCE:0
STATUS:CONFIRMED
SUMMARY:11&U-Rnd 8: Neon Nightmares 11s vs Northern Blues Chicks
TRANSP:OPAQUE
END:VEVENT
BEGIN:VEVENT
DTSTART:20180428T084500
DTEND:20180428T092500
DTSTAMP:20180205T075355Z
UID:2b5208e2d2aa16e0c4f57c256b54359f@pvna.com.au
CREATED:20180205T075355Z
DESCRIPTION:2018 Autumn Section:11&Under\nRound:Rnd 9
LAST-MODIFIED:20180205T075355Z
LOCATION:Court: 2
SEQUENCE:0
STATUS:CONFIRMED
SUMMARY:11&U-Rnd 9: Northern Blues Chicks vs Bluebirds
TRANSP:OPAQUE
END:VEVENT
BEGIN:VEVENT
DTSTART:20180505T084500
DTEND:20180505T092500
DTSTAMP:20180205T075355Z
UID:e213a3e64f7b8f81163d97053e6c5d2e@pvna.com.au
CREATED:20180205T075355Z
DESCRIPTION:2018 Autumn Section:11&Under\nRound:Rnd 10
LAST-MODIFIED:20180205T075355Z
LOCATION:Court: 4
SEQUENCE:0
STATUS:CONFIRMED
SUMMARY:11&U-Rnd 10: Waterlillies vs Northern Blues Chicks
TRANSP:OPAQUE
END:VEVENT
BEGIN:VEVENT
DTSTART:20180519T084500
DTEND:20180519T092500
DTSTAMP:20180205T075355Z
UID:6701c102bd71f0fcecf8eace14676d4d@pvna.com.au
CREATED:20180205T075355Z
DESCRIPTION:2018 Autumn Section:11&Under\nRound:Rnd 12
LAST-MODIFIED:20180205T075355Z
LOCATION:Court: 4
SEQUENCE:0
STATUS:CONFIRMED
SUMMARY:11&U-Rnd 12: Falcons vs Northern Blues Chicks
TRANSP:OPAQUE
END:VEVENT
BEGIN:VEVENT
DTSTART:20180526T084500
DTEND:20180526T092500
DTSTAMP:20180205T075355Z
UID:e8d98814c5d2f716fc5cdefaeb9786d8@pvna.com.au
CREATED:20180205T075355Z
DESCRIPTION:2018 Autumn Section:11&Under\nRound:Rnd 13
LAST-MODIFIED:20180205T075355Z
LOCATION:Court: 4
SEQUENCE:0
STATUS:CONFIRMED
SUMMARY:11&U-Rnd 13: Northern Blues Chicks vs Awesome Angels 11s1
TRANSP:OPAQUE
END:VEVENT
BEGIN:VEVENT
DTSTART:20180602T084500
DTEND:20180602T092500
DTSTAMP:20180205T075355Z
UID:52ef03d59651c6b02afdfcb6bbad13cf@pvna.com.au
CREATED:20180205T075355Z
DESCRIPTION:2018 Autumn Section:11&Under\nRound:Rnd 14
LAST-MODIFIED:20180205T075355Z
LOCATION:Court: 2
SEQUENCE:0
STATUS:CONFIRMED
SUMMARY:11&U-Rnd 14: Neon Nightmares 11s vs Northern Blues Chicks
TRANSP:OPAQUE
END:VEVENT
BEGIN:VEVENT
DTSTART:20180616T084500
DTEND:20180616T092500
DTSTAMP:20180205T075355Z
UID:2cae4a939242d635ef93d8d53028045e@pvna.com.au
CREATED:20180205T075355Z
DESCRIPTION:2018 Autumn Section:11&Under\nRound:Rnd 15
LAST-MODIFIED:20180205T075355Z
LOCATION:Court: 1
SEQUENCE:0
STATUS:CONFIRMED
SUMMARY:11&U-Rnd 15: Northern Blues Chicks vs Bluebirds
TRANSP:OPAQUE
END:VEVENT
BEGIN:VEVENT
DTSTART:20180623T084500
DTEND:20180623T092500
DTSTAMP:20180205T075355Z
UID:55b96d5726eec560c18b25c7789d53de@pvna.com.au
CREATED:20180205T075355Z
DESCRIPTION:2018 Autumn Section:11&Under\nRound:Rnd 16
LAST-MODIFIED:20180205T075355Z
LOCATION:Court: 4
SEQUENCE:0
STATUS:CONFIRMED
SUMMARY:11&U-Rnd 16: Waterlillies vs Northern Blues Chicks
TRANSP:OPAQUE
END:VEVENT
END:VCALENDAR
