BEGIN:VCALENDAR
PRODID:-//Google Inc//Google Calendar 70.9054//EN
VERSION:2.0
CALSCALE:GREGORIAN
METHOD:PUBLISH
X-WR-CALNAME:PV Comets Northern Blues Cubs
X-WR-TIMEZONE:Australia/Sydney
X-WR-CALDESC:PV Comets Parkville Calendars
BEGIN:VEVENT
DTSTART:20180203T110000
DTEND:20180203T114500
DTSTAMP:20180205T075355Z
UID:6c878e5a48c26f310af8a1fb9698d617@pvna.com.au
CREATED:20180205T075355Z
DESCRIPTION:2018 Autumn Section:13&Under\nRound:Rnd 1
LAST-MODIFIED:20180205T075355Z
LOCATION:Court: 1
SEQUENCE:0
STATUS:CONFIRMED
SUMMARY:13&U-Rnd 1: Northern Blues Cubs (2) vs Northern Blues Wallabies (6)
TRANSP:OPAQUE
END:VEVENT
BEGIN:VEVENT
DTSTART:20180210T093000
DTEND:20180210T101000
DTSTAMP:20180205T075358Z
UID:7320f81fef29825c0b96ea713d6b333a@pvna.com.au
CREATED:20180205T075358Z
DESCRIPTION:2018 Autumn Section:13&Under\nRound:Rnd 2\n\nCurrent Ladder:\nTeam            P  W  L  D  Pts\nThunderbolts    1  1  0  0  4 \nNorthern Blues Wallabies 1  1  0  0  4 \nStorm           1  1  0  0  4 \nAll Starz Jnr   1  1  0  0  4 \nAwesome Angels 13s1 1  1  0  0  4 \nAwesome Angels 13s3 1  1  0  0  4 \nNeon Nightmares 13s 1  0  1  0  0 \nAwesome Angels 13s2 1  0  1  0  0 \nSS Diamonds     1  0  1  0  0 \nNorthern Blues Cubs 1  0  1  0  0 \nNorthern Blues Joeys 1  0  1  0  0 \nWildcats 13s    0  0  0  0  0 \n
LAST-MODIFIED:20180205T075358Z
LOCATION:Court: 1
SEQUENCE:0
STATUS:CONFIRMED
SUMMARY:13&U-Rnd 2: Thunderbolts vs Northern Blues Cubs
TRANSP:OPAQUE
END:VEVENT
BEGIN:VEVENT
DTSTART:20180217T101500
DTEND:20180217T105500
DTSTAMP:20180205T075358Z
UID:0791f0254899a4061494b461bdf317ad@pvna.com.au
CREATED:20180205T075358Z
DESCRIPTION:2018 Autumn Section:13&Under\nRound:Rnd 3
LAST-MODIFIED:20180205T075358Z
LOCATION:Court: 1
SEQUENCE:0
STATUS:CONFIRMED
SUMMARY:13&U-Rnd 3: Northern Blues Cubs vs Awesome Angels 13s3
TRANSP:OPAQUE
END:VEVENT
BEGIN:VEVENT
DTSTART:20180224T101500
DTEND:20180224T105500
DTSTAMP:20180205T075358Z
UID:e6cd683d8233ff5fb718d931fe611082@pvna.com.au
CREATED:20180205T075358Z
DESCRIPTION:2018 Autumn Section:13&Under\nRound:Rnd 4
LAST-MODIFIED:20180205T075358Z
LOCATION:Court: 1
SEQUENCE:0
STATUS:CONFIRMED
SUMMARY:13&U-Rnd 4: Thunderbolts vs Northern Blues Cubs
TRANSP:OPAQUE
END:VEVENT
BEGIN:VEVENT
DTSTART:20180303T101500
DTEND:20180303T105500
DTSTAMP:20180205T075358Z
UID:d76ee0159e7260fd4219a1cdee0b7928@pvna.com.au
CREATED:20180205T075358Z
DESCRIPTION:2018 Autumn Section:13&Under\nRound:Rnd 5
LAST-MODIFIED:20180205T075358Z
LOCATION:Court: 1
SEQUENCE:0
STATUS:CONFIRMED
SUMMARY:13&U-Rnd 5: Northern Blues Joeys vs Northern Blues Cubs
TRANSP:OPAQUE
END:VEVENT
BEGIN:VEVENT
DTSTART:20180317T101500
DTEND:20180317T105500
DTSTAMP:20180205T075358Z
UID:ec20805bdba90a355b104746f419c9df@pvna.com.au
CREATED:20180205T075358Z
DESCRIPTION:2018 Autumn Section:13&Under\nRound:Rnd 6
LAST-MODIFIED:20180205T075358Z
LOCATION:Court: 1
SEQUENCE:0
STATUS:CONFIRMED
SUMMARY:13&U-Rnd 6: Neon Nightmares 13s vs Northern Blues Cubs
TRANSP:OPAQUE
END:VEVENT
BEGIN:VEVENT
DTSTART:20180324T093000
DTEND:20180324T101000
DTSTAMP:20180205T075358Z
UID:85092b1151a4628f6d04beacce4f731d@pvna.com.au
CREATED:20180205T075358Z
DESCRIPTION:2018 Autumn Section:13&Under\nRound:Rnd 7
LAST-MODIFIED:20180205T075358Z
LOCATION:Court: 1
SEQUENCE:0
STATUS:CONFIRMED
SUMMARY:13&U-Rnd 7: SS Diamonds vs Northern Blues Cubs
TRANSP:OPAQUE
END:VEVENT
BEGIN:VEVENT
DTSTART:20180421T093000
DTEND:20180421T101000
DTSTAMP:20180205T075358Z
UID:f422c9c7c6501e3c28ce97413c1ec942@pvna.com.au
CREATED:20180205T075358Z
DESCRIPTION:2018 Autumn Section:13&Under\nRound:Rnd 8
LAST-MODIFIED:20180205T075358Z
LOCATION:Court: 1
SEQUENCE:0
STATUS:CONFIRMED
SUMMARY:13&U-Rnd 8: Storm vs Northern Blues Cubs
TRANSP:OPAQUE
END:VEVENT
BEGIN:VEVENT
DTSTART:20180428T093000
DTEND:20180428T101000
DTSTAMP:20180205T075358Z
UID:c04db6707bf87a93eac7de6d63f6974a@pvna.com.au
CREATED:20180205T075358Z
DESCRIPTION:2018 Autumn Section:13&Under\nRound:Rnd 9
LAST-MODIFIED:20180205T075358Z
LOCATION:Court: 4
SEQUENCE:0
STATUS:CONFIRMED
SUMMARY:13&U-Rnd 9: Awesome Angels 13s2 vs Northern Blues Cubs
TRANSP:OPAQUE
END:VEVENT
BEGIN:VEVENT
DTSTART:20180505T101500
DTEND:20180505T105500
DTSTAMP:20180205T075358Z
UID:7c00eff64fcbf680386a1ef95a9a0d47@pvna.com.au
CREATED:20180205T075358Z
DESCRIPTION:2018 Autumn Section:13&Under\nRound:Rnd 10
LAST-MODIFIED:20180205T075358Z
LOCATION:Court: 1
SEQUENCE:0
STATUS:CONFIRMED
SUMMARY:13&U-Rnd 10: Northern Blues Cubs vs Northern Blues Wallabies
TRANSP:OPAQUE
END:VEVENT
BEGIN:VEVENT
DTSTART:20180512T084500
DTEND:20180512T092500
DTSTAMP:20180205T075358Z
UID:d2de793cdec9841a05716b265240d19c@pvna.com.au
CREATED:20180205T075358Z
DESCRIPTION:2018 Autumn Section:13&Under\nRound:Rnd 11
LAST-MODIFIED:20180205T075358Z
LOCATION:Court: 2
SEQUENCE:0
STATUS:CONFIRMED
SUMMARY:13&U-Rnd 11: Awesome Angels 13s1 vs Northern Blues Cubs
TRANSP:OPAQUE
END:VEVENT
BEGIN:VEVENT
DTSTART:20180519T093000
DTEND:20180519T101000
DTSTAMP:20180205T075358Z
UID:2a3e53e9d370e82e3ab53a25a2939299@pvna.com.au
CREATED:20180205T075358Z
DESCRIPTION:2018 Autumn Section:13&Under\nRound:Rnd 12
LAST-MODIFIED:20180205T075358Z
LOCATION:Court: 3
SEQUENCE:0
STATUS:CONFIRMED
SUMMARY:13&U-Rnd 12: All Starz Jnr vs Northern Blues Cubs
TRANSP:OPAQUE
END:VEVENT
BEGIN:VEVENT
DTSTART:20180526T101500
DTEND:20180526T105500
DTSTAMP:20180205T075358Z
UID:0a6100a7af77f58a4608e931af53089d@pvna.com.au
CREATED:20180205T075358Z
DESCRIPTION:2018 Autumn Section:13&Under\nRound:Rnd 13
LAST-MODIFIED:20180205T075358Z
LOCATION:Court: 1
SEQUENCE:0
STATUS:CONFIRMED
SUMMARY:13&U-Rnd 13: Thunderbolts vs Northern Blues Cubs
TRANSP:OPAQUE
END:VEVENT
BEGIN:VEVENT
DTSTART:20180602T101500
DTEND:20180602T105500
DTSTAMP:20180205T075358Z
UID:500d4daf42e82ad1cd44c475628c85d7@pvna.com.au
CREATED:20180205T075358Z
DESCRIPTION:2018 Autumn Section:13&Under\nRound:Rnd 14
LAST-MODIFIED:20180205T075358Z
LOCATION:Court: 1
SEQUENCE:0
STATUS:CONFIRMED
SUMMARY:13&U-Rnd 14: Northern Blues Joeys vs Northern Blues Cubs
TRANSP:OPAQUE
END:VEVENT
END:VCALENDAR
