BEGIN:VCALENDAR
PRODID:-//Google Inc//Google Calendar 70.9054//EN
VERSION:2.0
CALSCALE:GREGORIAN
METHOD:PUBLISH
X-WR-CALNAME:PV Comets Northern Blues Joeys
X-WR-TIMEZONE:Australia/Sydney
X-WR-CALDESC:PV Comets Parkville Calendars
BEGIN:VEVENT
DTSTART:20180203T093000
DTEND:20180203T101000
DTSTAMP:20180205T075358Z
UID:f707205446c382d3f538834ed43b0128@pvna.com.au
CREATED:20180205T075358Z
DESCRIPTION:2018 Autumn Section:13&Under\nRound:Rnd 1
LAST-MODIFIED:20180205T075358Z
LOCATION:Court: 1
SEQUENCE:0
STATUS:CONFIRMED
SUMMARY:13&U-Rnd 1: Thunderbolts (41) vs Northern Blues Joeys (3)
TRANSP:OPAQUE
END:VEVENT
BEGIN:VEVENT
DTSTART:20180210T084500
DTEND:20180210T092500
DTSTAMP:20180205T075402Z
UID:03e0e8e520a9c8900f578215c6315f32@pvna.com.au
CREATED:20180205T075402Z
DESCRIPTION:2018 Autumn Section:13&Under\nRound:Rnd 2\n\nCurrent Ladder:\nTeam            P  W  L  D  Pts\nThunderbolts    1  1  0  0  4 \nNorthern Blues Wallabies 1  1  0  0  4 \nStorm           1  1  0  0  4 \nAll Starz Jnr   1  1  0  0  4 \nAwesome Angels 13s1 1  1  0  0  4 \nAwesome Angels 13s3 1  1  0  0  4 \nNeon Nightmares 13s 1  0  1  0  0 \nAwesome Angels 13s2 1  0  1  0  0 \nSS Diamonds     1  0  1  0  0 \nNorthern Blues Cubs 1  0  1  0  0 \nNorthern Blues Joeys 1  0  1  0  0 \nWildcats 13s    0  0  0  0  0 \n
LAST-MODIFIED:20180205T075402Z
LOCATION:Court: 4
SEQUENCE:0
STATUS:CONFIRMED
SUMMARY:13&U-Rnd 2: Northern Blues Joeys vs Awesome Angels 13s3
TRANSP:OPAQUE
END:VEVENT
BEGIN:VEVENT
DTSTART:20180217T113000
DTEND:20180217T092500
DTSTAMP:20180205T075402Z
UID:19315ce09953ee6270cb7742a3aa8bb4@pvna.com.au
CREATED:20180205T075402Z
DESCRIPTION:2018 Autumn Section:13&Under\nRound:Rnd 3
LAST-MODIFIED:20180205T075402Z
LOCATION:Court: 99
SEQUENCE:0
STATUS:CONFIRMED
SUMMARY:13&U-Rnd 3: Northern Blues Joeys vs BYE
TRANSP:OPAQUE
END:VEVENT
BEGIN:VEVENT
DTSTART:20180224T093000
DTEND:20180224T101000
DTSTAMP:20180205T075402Z
UID:0a5dda2ef0cae8808c46013f05475720@pvna.com.au
CREATED:20180205T075402Z
DESCRIPTION:2018 Autumn Section:13&Under\nRound:Rnd 4
LAST-MODIFIED:20180205T075402Z
LOCATION:Court: 3
SEQUENCE:0
STATUS:CONFIRMED
SUMMARY:13&U-Rnd 4: Awesome Angels 13s2 vs Northern Blues Joeys
TRANSP:OPAQUE
END:VEVENT
BEGIN:VEVENT
DTSTART:20180303T101500
DTEND:20180303T105500
DTSTAMP:20180205T075402Z
UID:ba4d951619aeb6d4fc84809ebdcaba7e@pvna.com.au
CREATED:20180205T075402Z
DESCRIPTION:2018 Autumn Section:13&Under\nRound:Rnd 5
LAST-MODIFIED:20180205T075402Z
LOCATION:Court: 1
SEQUENCE:0
STATUS:CONFIRMED
SUMMARY:13&U-Rnd 5: Northern Blues Joeys vs Northern Blues Cubs
TRANSP:OPAQUE
END:VEVENT
BEGIN:VEVENT
DTSTART:20180317T093000
DTEND:20180317T101000
DTSTAMP:20180205T075402Z
UID:1d346806383352c0c879c27231909322@pvna.com.au
CREATED:20180205T075402Z
DESCRIPTION:2018 Autumn Section:13&Under\nRound:Rnd 6
LAST-MODIFIED:20180205T075402Z
LOCATION:Court: 2
SEQUENCE:0
STATUS:CONFIRMED
SUMMARY:13&U-Rnd 6: SS Diamonds vs Northern Blues Joeys
TRANSP:OPAQUE
END:VEVENT
BEGIN:VEVENT
DTSTART:20180324T084500
DTEND:20180324T092500
DTSTAMP:20180205T075402Z
UID:8ec8e5e355c9cbeb4b5f25e97f0811d8@pvna.com.au
CREATED:20180205T075402Z
DESCRIPTION:2018 Autumn Section:13&Under\nRound:Rnd 7
LAST-MODIFIED:20180205T075402Z
LOCATION:Court: 4
SEQUENCE:0
STATUS:CONFIRMED
SUMMARY:13&U-Rnd 7: Storm vs Northern Blues Joeys
TRANSP:OPAQUE
END:VEVENT
BEGIN:VEVENT
DTSTART:20180421T101500
DTEND:20180421T105500
DTSTAMP:20180205T075402Z
UID:afe331bba81ff94388d2f531b45619c2@pvna.com.au
CREATED:20180205T075402Z
DESCRIPTION:2018 Autumn Section:13&Under\nRound:Rnd 8
LAST-MODIFIED:20180205T075402Z
LOCATION:Court: 1
SEQUENCE:0
STATUS:CONFIRMED
SUMMARY:13&U-Rnd 8: Awesome Angels 13s1 vs Northern Blues Joeys
TRANSP:OPAQUE
END:VEVENT
BEGIN:VEVENT
DTSTART:20180428T093000
DTEND:20180428T101000
DTSTAMP:20180205T075402Z
UID:3a4e2a2febd156848d08783359c3d99b@pvna.com.au
CREATED:20180205T075402Z
DESCRIPTION:2018 Autumn Section:13&Under\nRound:Rnd 9
LAST-MODIFIED:20180205T075402Z
LOCATION:Court: 3
SEQUENCE:0
STATUS:CONFIRMED
SUMMARY:13&U-Rnd 9: All Starz Jnr vs Northern Blues Joeys
TRANSP:OPAQUE
END:VEVENT
BEGIN:VEVENT
DTSTART:20180505T093000
DTEND:20180505T101000
DTSTAMP:20180205T075402Z
UID:f0a80cba1dcfa0ea11019f249bda6cfe@pvna.com.au
CREATED:20180205T075402Z
DESCRIPTION:2018 Autumn Section:13&Under\nRound:Rnd 10
LAST-MODIFIED:20180205T075402Z
LOCATION:Court: 4
SEQUENCE:0
STATUS:CONFIRMED
SUMMARY:13&U-Rnd 10: Thunderbolts vs Northern Blues Joeys
TRANSP:OPAQUE
END:VEVENT
BEGIN:VEVENT
DTSTART:20180512T084500
DTEND:20180512T092500
DTSTAMP:20180205T075402Z
UID:7a9594ab52d720d4291ce82c1a1ed217@pvna.com.au
CREATED:20180205T075402Z
DESCRIPTION:2018 Autumn Section:13&Under\nRound:Rnd 11
LAST-MODIFIED:20180205T075402Z
LOCATION:Court: 3
SEQUENCE:0
STATUS:CONFIRMED
SUMMARY:13&U-Rnd 11: Neon Nightmares 13s vs Northern Blues Joeys
TRANSP:OPAQUE
END:VEVENT
BEGIN:VEVENT
DTSTART:20180519T101500
DTEND:20180519T105500
DTSTAMP:20180205T075402Z
UID:f372ca36465393e36ea226069bc43711@pvna.com.au
CREATED:20180205T075402Z
DESCRIPTION:2018 Autumn Section:13&Under\nRound:Rnd 12
LAST-MODIFIED:20180205T075402Z
LOCATION:Court: 1
SEQUENCE:0
STATUS:CONFIRMED
SUMMARY:13&U-Rnd 12: Northern Blues Joeys vs Northern Blues Wallabies
TRANSP:OPAQUE
END:VEVENT
BEGIN:VEVENT
DTSTART:20180526T093000
DTEND:20180526T101000
DTSTAMP:20180205T075402Z
UID:38d36c56fe9b2f08a56a45ef824b79ab@pvna.com.au
CREATED:20180205T075402Z
DESCRIPTION:2018 Autumn Section:13&Under\nRound:Rnd 13
LAST-MODIFIED:20180205T075402Z
LOCATION:Court: 3
SEQUENCE:0
STATUS:CONFIRMED
SUMMARY:13&U-Rnd 13: Awesome Angels 13s2 vs Northern Blues Joeys
TRANSP:OPAQUE
END:VEVENT
BEGIN:VEVENT
DTSTART:20180602T101500
DTEND:20180602T105500
DTSTAMP:20180205T075402Z
UID:4b774c04b517bfd43df2c8eaea9cea5c@pvna.com.au
CREATED:20180205T075402Z
DESCRIPTION:2018 Autumn Section:13&Under\nRound:Rnd 14
LAST-MODIFIED:20180205T075402Z
LOCATION:Court: 1
SEQUENCE:0
STATUS:CONFIRMED
SUMMARY:13&U-Rnd 14: Northern Blues Joeys vs Northern Blues Cubs
TRANSP:OPAQUE
END:VEVENT
END:VCALENDAR
