BEGIN:VCALENDAR
PRODID:-//Google Inc//Google Calendar 70.9054//EN
VERSION:2.0
CALSCALE:GREGORIAN
METHOD:PUBLISH
X-WR-CALNAME:PV Comets Northern Blues Kangas
X-WR-TIMEZONE:Australia/Sydney
X-WR-CALDESC:PV Comets Parkville Calendars
BEGIN:VEVENT
DTSTART:20180203T093000
DTEND:20180203T101000
DTSTAMP:20180205T075402Z
UID:3bd08fbc0d31d4ea6024fccc3d15da3d@pvna.com.au
CREATED:20180205T075402Z
DESCRIPTION:2018 Autumn Section:17&Under\nRound:Rnd 1
LAST-MODIFIED:20180205T075402Z
LOCATION:Court: 3
SEQUENCE:0
STATUS:CONFIRMED
SUMMARY:17&U-Rnd 1: Northern Blues Kangas (0) vs Roxy (10)
TRANSP:OPAQUE
END:VEVENT
BEGIN:VEVENT
DTSTART:20180210T084500
DTEND:20180210T092500
DTSTAMP:20180205T075406Z
UID:5679c9cf88e5549767c2b8e98a1c8300@pvna.com.au
CREATED:20180205T075406Z
DESCRIPTION:2018 Autumn Section:17&Under\nRound:Rnd 2\n\nCurrent Ladder:\nTeam            P  W  L  D  Pts\nNorthern Blues Cheetahs 1  1  0  0  4 \nPhoenix         1  1  0  0  4 \nRoxy            1  1  0  0  4 \nSS Magic        1  0  1  0  0 \nRavens          1  0  1  0  0 \nNorthern Blues Kangas 1  0  1  0  0 \nBlazers         0  0  0  0  0 \n
LAST-MODIFIED:20180205T075406Z
LOCATION:Court: 3
SEQUENCE:0
STATUS:CONFIRMED
SUMMARY:17&U-Rnd 2: Phoenix vs Northern Blues Kangas
TRANSP:OPAQUE
END:VEVENT
BEGIN:VEVENT
DTSTART:20180217T093000
DTEND:20180217T101000
DTSTAMP:20180205T075406Z
UID:9ac8964041ec2eb4b9cd5f977eb83947@pvna.com.au
CREATED:20180205T075406Z
DESCRIPTION:2018 Autumn Section:17&Under\nRound:Rnd 3
LAST-MODIFIED:20180205T075406Z
LOCATION:Court: 3
SEQUENCE:0
STATUS:CONFIRMED
SUMMARY:17&U-Rnd 3: Northern Blues Kangas vs Northern Blues Cheetahs
TRANSP:OPAQUE
END:VEVENT
BEGIN:VEVENT
DTSTART:20180224T093000
DTEND:20180224T101000
DTSTAMP:20180205T075406Z
UID:4b49fd368deedda5cff3c32845a1df80@pvna.com.au
CREATED:20180205T075406Z
DESCRIPTION:2018 Autumn Section:17&Under\nRound:Rnd 4
LAST-MODIFIED:20180205T075406Z
LOCATION:Court: 2
SEQUENCE:0
STATUS:CONFIRMED
SUMMARY:17&U-Rnd 4: Ravens vs Northern Blues Kangas
TRANSP:OPAQUE
END:VEVENT
BEGIN:VEVENT
DTSTART:20180303T114500
DTEND:20180303T122500
DTSTAMP:20180205T075406Z
UID:7f64d08b6508bdce5ec5bb6c80bab2ae@pvna.com.au
CREATED:20180205T075406Z
DESCRIPTION:2018 Autumn Section:17&Under\nRound:Rnd 5
LAST-MODIFIED:20180205T075406Z
LOCATION:Court: 1
SEQUENCE:0
STATUS:CONFIRMED
SUMMARY:17&U-Rnd 5: Northern Blues Kangas vs SS Magic
TRANSP:OPAQUE
END:VEVENT
END:VCALENDAR
