BEGIN:VCALENDAR
PRODID:-//Google Inc//Google Calendar 70.9054//EN
VERSION:2.0
CALSCALE:GREGORIAN
METHOD:PUBLISH
X-WR-CALNAME:PV Comets Northern Blues Koalas
X-WR-TIMEZONE:Australia/Sydney
X-WR-CALDESC:PV Comets Parkville Calendars
BEGIN:VEVENT
DTSTART:20180203T110000
DTEND:20180203T114500
DTSTAMP:20180205T075406Z
UID:579929ed4918d69e7e6538ccd120206d@pvna.com.au
CREATED:20180205T075406Z
DESCRIPTION:2018 Autumn Section:15&Under\nRound:Rnd 1
LAST-MODIFIED:20180205T075406Z
LOCATION:Court: 2
SEQUENCE:0
STATUS:CONFIRMED
SUMMARY:15&U-Rnd 1: Northern Blues Koalas (35) vs Awesome Angels 15s1 (6)
TRANSP:OPAQUE
END:VEVENT
BEGIN:VEVENT
DTSTART:20180210T110000
DTEND:20180210T114500
DTSTAMP:20180205T075408Z
UID:f733709808526f258e208e85a95b4360@pvna.com.au
CREATED:20180205T075408Z
DESCRIPTION:2018 Autumn Section:15&Under\nRound:Rnd 2\n\nCurrent Ladder:\nTeam            P  W  L  D  Pts\nNorthern Blues Koalas 1  1  0  0  4 \nFirestorm       1  1  0  0  4 \nPower           1  1  0  0  4 \nSS Saphires     1  1  0  0  4 \nDevils          1  1  0  0  4 \nStrikers        1  1  0  0  4 \nSS Sparks       1  0  1  0  0 \nWildcats 15s    1  0  1  0  0 \nSS Rubies       1  0  1  0  0 \nAwesome Angels 15s2 1  0  1  0  0 \nAwesome Angels 15s1 1  0  1  0  0 \n
LAST-MODIFIED:20180205T075408Z
LOCATION:Court: 2
SEQUENCE:0
STATUS:CONFIRMED
SUMMARY:15&U-Rnd 2: Devils vs Northern Blues Koalas
TRANSP:OPAQUE
END:VEVENT
BEGIN:VEVENT
DTSTART:20180217T110000
DTEND:20180217T114500
DTSTAMP:20180205T075408Z
UID:8bbd02a6a187cbdff4cdfff74cbbf978@pvna.com.au
CREATED:20180205T075408Z
DESCRIPTION:2018 Autumn Section:15&Under\nRound:Rnd 3
LAST-MODIFIED:20180205T075408Z
LOCATION:Court: 2
SEQUENCE:0
STATUS:CONFIRMED
SUMMARY:15&U-Rnd 3: Northern Blues Koalas vs Wildcats 15s
TRANSP:OPAQUE
END:VEVENT
BEGIN:VEVENT
DTSTART:20180224T101500
DTEND:20180224T105500
DTSTAMP:20180205T075408Z
UID:f9d358249bb21266b97d62687169a6cc@pvna.com.au
CREATED:20180205T075408Z
DESCRIPTION:2018 Autumn Section:15&Under\nRound:Rnd 4
LAST-MODIFIED:20180205T075408Z
LOCATION:Court: 4
SEQUENCE:0
STATUS:CONFIRMED
SUMMARY:15&U-Rnd 4: Northern Blues Koalas vs SS Saphires
TRANSP:OPAQUE
END:VEVENT
BEGIN:VEVENT
DTSTART:20180303T101500
DTEND:20180303T105500
DTSTAMP:20180205T075408Z
UID:7efdd88eed706d062eca026a2130d4fa@pvna.com.au
CREATED:20180205T075408Z
DESCRIPTION:2018 Autumn Section:15&Under\nRound:Rnd 5
LAST-MODIFIED:20180205T075408Z
LOCATION:Court: 3
SEQUENCE:0
STATUS:CONFIRMED
SUMMARY:15&U-Rnd 5: SS Sparks vs Northern Blues Koalas
TRANSP:OPAQUE
END:VEVENT
BEGIN:VEVENT
DTSTART:20180317T101500
DTEND:20180317T105500
DTSTAMP:20180205T075408Z
UID:4a71f3280811904f176236387de5d89f@pvna.com.au
CREATED:20180205T075408Z
DESCRIPTION:2018 Autumn Section:15&Under\nRound:Rnd 6
LAST-MODIFIED:20180205T075408Z
LOCATION:Court: 4
SEQUENCE:0
STATUS:CONFIRMED
SUMMARY:15&U-Rnd 6: Northern Blues Koalas vs Power
TRANSP:OPAQUE
END:VEVENT
BEGIN:VEVENT
DTSTART:20180324T101500
DTEND:20180324T105500
DTSTAMP:20180205T075408Z
UID:1642f92d49ce13aa18781b93b0b8f5c0@pvna.com.au
CREATED:20180205T075408Z
DESCRIPTION:2018 Autumn Section:15&Under\nRound:Rnd 7
LAST-MODIFIED:20180205T075408Z
LOCATION:Court: 3
SEQUENCE:0
STATUS:CONFIRMED
SUMMARY:15&U-Rnd 7: Northern Blues Koalas vs SS Rubies
TRANSP:OPAQUE
END:VEVENT
BEGIN:VEVENT
DTSTART:20180421T101500
DTEND:20180421T105500
DTSTAMP:20180205T075408Z
UID:d222075f18a5f0c31c0949cc23a19ab1@pvna.com.au
CREATED:20180205T075408Z
DESCRIPTION:2018 Autumn Section:15&Under\nRound:Rnd 8
LAST-MODIFIED:20180205T075408Z
LOCATION:Court: 4
SEQUENCE:0
STATUS:CONFIRMED
SUMMARY:15&U-Rnd 8: Northern Blues Koalas vs Strikers
TRANSP:OPAQUE
END:VEVENT
BEGIN:VEVENT
DTSTART:20180428T101500
DTEND:20180428T105500
DTSTAMP:20180205T075408Z
UID:d461ba28a451eb18256a2f2606dd2986@pvna.com.au
CREATED:20180205T075408Z
DESCRIPTION:2018 Autumn Section:15&Under\nRound:Rnd 9
LAST-MODIFIED:20180205T075408Z
LOCATION:Court: 99
SEQUENCE:0
STATUS:CONFIRMED
SUMMARY:15&U-Rnd 9: Northern Blues Koalas vs BYE
TRANSP:OPAQUE
END:VEVENT
BEGIN:VEVENT
DTSTART:20180505T101500
DTEND:20180505T105500
DTSTAMP:20180205T075408Z
UID:f23bb44379e8fbb38953564943bd6f14@pvna.com.au
CREATED:20180205T075408Z
DESCRIPTION:2018 Autumn Section:15&Under\nRound:Rnd 10
LAST-MODIFIED:20180205T075408Z
LOCATION:Court: 3
SEQUENCE:0
STATUS:CONFIRMED
SUMMARY:15&U-Rnd 10: Northern Blues Koalas vs Awesome Angels 15s2
TRANSP:OPAQUE
END:VEVENT
BEGIN:VEVENT
DTSTART:20180512T093000
DTEND:20180512T101000
DTSTAMP:20180205T075408Z
UID:1dd6dceb0c8e42e6af18c89ac8eca48d@pvna.com.au
CREATED:20180205T075408Z
DESCRIPTION:2018 Autumn Section:15&Under\nRound:Rnd 11
LAST-MODIFIED:20180205T075408Z
LOCATION:Court: 2
SEQUENCE:0
STATUS:CONFIRMED
SUMMARY:15&U-Rnd 11: Northern Blues Koalas vs Firestorm
TRANSP:OPAQUE
END:VEVENT
BEGIN:VEVENT
DTSTART:20180519T101500
DTEND:20180519T105500
DTSTAMP:20180205T075408Z
UID:3382293bba63cd0f08f1e7e1ebb02060@pvna.com.au
CREATED:20180205T075408Z
DESCRIPTION:2018 Autumn Section:15&Under\nRound:Rnd 12
LAST-MODIFIED:20180205T075408Z
LOCATION:Court: 3
SEQUENCE:0
STATUS:CONFIRMED
SUMMARY:15&U-Rnd 12: Northern Blues Koalas vs Awesome Angels 15s1
TRANSP:OPAQUE
END:VEVENT
BEGIN:VEVENT
DTSTART:20180526T101500
DTEND:20180526T105500
DTSTAMP:20180205T075408Z
UID:cf95ab9370645edf6611f6d1f50a90ec@pvna.com.au
CREATED:20180205T075408Z
DESCRIPTION:2018 Autumn Section:15&Under\nRound:Rnd 13
LAST-MODIFIED:20180205T075408Z
LOCATION:Court: 2
SEQUENCE:0
STATUS:CONFIRMED
SUMMARY:15&U-Rnd 13: Devils vs Northern Blues Koalas
TRANSP:OPAQUE
END:VEVENT
BEGIN:VEVENT
DTSTART:20180602T101500
DTEND:20180602T105500
DTSTAMP:20180205T075408Z
UID:248606c8d2599aeda30d001eab04a02e@pvna.com.au
CREATED:20180205T075408Z
DESCRIPTION:2018 Autumn Section:15&Under\nRound:Rnd 14
LAST-MODIFIED:20180205T075408Z
LOCATION:Court: 4
SEQUENCE:0
STATUS:CONFIRMED
SUMMARY:15&U-Rnd 14: Northern Blues Koalas vs Wildcats 15s
TRANSP:OPAQUE
END:VEVENT
END:VCALENDAR
