BEGIN:VCALENDAR
PRODID:-//Google Inc//Google Calendar 70.9054//EN
VERSION:2.0
CALSCALE:GREGORIAN
METHOD:PUBLISH
X-WR-CALNAME:PV Comets Northern Blues Lions
X-WR-TIMEZONE:Australia/Sydney
X-WR-CALDESC:PV Comets Parkville Calendars
BEGIN:VEVENT
DTSTART:20180203T084500
DTEND:20180203T092500
DTSTAMP:20180205T075408Z
UID:133974a64c09ec07d3eceaabcc78f08e@pvna.com.au
CREATED:20180205T075408Z
DESCRIPTION:2018 Autumn Section:19&Under\nRound:Rnd 1
LAST-MODIFIED:20180205T075408Z
LOCATION:Court: 2
SEQUENCE:0
STATUS:CONFIRMED
SUMMARY:19&U-Rnd 1: Blaze Jnr (25) vs Northern Blues Lions (13)
TRANSP:OPAQUE
END:VEVENT
BEGIN:VEVENT
DTSTART:20180210T101500
DTEND:20180210T105500
DTSTAMP:20180205T075411Z
UID:3e490d35ce15c0f1c127cbdfafd88991@pvna.com.au
CREATED:20180205T075411Z
DESCRIPTION:2018 Autumn Section:19&Under\nRound:Rnd 2\n\nCurrent Ladder:\nTeam            P  W  L  D  Pts\nBlaze Jnr       1  1  0  0  4 \nNorthern Blues Lions 1  0  1  0  0 \nDynamite        0  0  0  0  0 \n
LAST-MODIFIED:20180205T075411Z
LOCATION:Court: 99
SEQUENCE:0
STATUS:CONFIRMED
SUMMARY:19&U-Rnd 2: Northern Blues Lions vs BYE
TRANSP:OPAQUE
END:VEVENT
BEGIN:VEVENT
DTSTART:20180217T084500
DTEND:20180217T092500
DTSTAMP:20180205T075411Z
UID:26a6d52153335fd35a43527fbee4cc10@pvna.com.au
CREATED:20180205T075411Z
DESCRIPTION:2018 Autumn Section:19&Under\nRound:Rnd 3
LAST-MODIFIED:20180205T075411Z
LOCATION:Court: 1
SEQUENCE:0
STATUS:CONFIRMED
SUMMARY:19&U-Rnd 3: Northern Blues Lions vs Blaze Jnr
TRANSP:OPAQUE
END:VEVENT
BEGIN:VEVENT
DTSTART:20180224T123000
DTEND:20180224T131000
DTSTAMP:20180205T075411Z
UID:1a1b4afc9e5a7490e24d04a8f9588ce3@pvna.com.au
CREATED:20180205T075411Z
DESCRIPTION:2018 Autumn Section:19&Under\nRound:Rnd 4
LAST-MODIFIED:20180205T075411Z
LOCATION:Court: 99
SEQUENCE:0
STATUS:CONFIRMED
SUMMARY:19&U-Rnd 4: Northern Blues Lions vs BYE
TRANSP:OPAQUE
END:VEVENT
BEGIN:VEVENT
DTSTART:20180303T123000
DTEND:20180303T131000
DTSTAMP:20180205T075411Z
UID:a7796ccd4be1876e2feab282f6e1e706@pvna.com.au
CREATED:20180205T075411Z
DESCRIPTION:2018 Autumn Section:19&Under\nRound:Rnd 5
LAST-MODIFIED:20180205T075411Z
LOCATION:Court: 1
SEQUENCE:0
STATUS:CONFIRMED
SUMMARY:19&U-Rnd 5: Dynamite vs Northern Blues Lions
TRANSP:OPAQUE
END:VEVENT
BEGIN:VEVENT
DTSTART:20180317T123000
DTEND:20180317T131000
DTSTAMP:20180205T075411Z
UID:47f2393d932cef15e9bbaac261892f54@pvna.com.au
CREATED:20180205T075411Z
DESCRIPTION:2018 Autumn Section:19&Under\nRound:Rnd 6
LAST-MODIFIED:20180205T075411Z
LOCATION:Court: 1
SEQUENCE:0
STATUS:CONFIRMED
SUMMARY:19&U-Rnd 6: Northern Blues Lions vs Blaze Jnr
TRANSP:OPAQUE
END:VEVENT
BEGIN:VEVENT
DTSTART:20180421T123000
DTEND:20180421T131000
DTSTAMP:20180205T075411Z
UID:b488e20b9bec16fa2445a5fa3cef7a66@pvna.com.au
CREATED:20180205T075411Z
DESCRIPTION:2018 Autumn Section:19&Under\nRound:Rnd 8
LAST-MODIFIED:20180205T075411Z
LOCATION:Court: 99
SEQUENCE:0
STATUS:CONFIRMED
SUMMARY:19&U-Rnd 8: Northern Blues Lions vs BYE
TRANSP:OPAQUE
END:VEVENT
BEGIN:VEVENT
DTSTART:20180428T123000
DTEND:20180428T131000
DTSTAMP:20180205T075411Z
UID:181cc5cbb0be37e631757b8b63eab1e7@pvna.com.au
CREATED:20180205T075411Z
DESCRIPTION:2018 Autumn Section:19&Under\nRound:Rnd 9
LAST-MODIFIED:20180205T075411Z
LOCATION:Court: 1
SEQUENCE:0
STATUS:CONFIRMED
SUMMARY:19&U-Rnd 9: Dynamite vs Northern Blues Lions
TRANSP:OPAQUE
END:VEVENT
BEGIN:VEVENT
DTSTART:20180505T123000
DTEND:20180505T131000
DTSTAMP:20180205T075411Z
UID:0389b84073bd1942b73dcae51dd4dae1@pvna.com.au
CREATED:20180205T075411Z
DESCRIPTION:2018 Autumn Section:19&Under\nRound:Rnd 10
LAST-MODIFIED:20180205T075411Z
LOCATION:Court: 1
SEQUENCE:0
STATUS:CONFIRMED
SUMMARY:19&U-Rnd 10: Northern Blues Lions vs Blaze Jnr
TRANSP:OPAQUE
END:VEVENT
BEGIN:VEVENT
DTSTART:20180519T123000
DTEND:20180519T131000
DTSTAMP:20180205T075411Z
UID:1ad6fbf32432fa33d661eaf7cb8a3cf0@pvna.com.au
CREATED:20180205T075411Z
DESCRIPTION:2018 Autumn Section:19&Under\nRound:Rnd 12
LAST-MODIFIED:20180205T075411Z
LOCATION:Court: 99
SEQUENCE:0
STATUS:CONFIRMED
SUMMARY:19&U-Rnd 12: Northern Blues Lions vs BYE
TRANSP:OPAQUE
END:VEVENT
BEGIN:VEVENT
DTSTART:20180526T123000
DTEND:20180526T131000
DTSTAMP:20180205T075411Z
UID:ae92dc7356984b2cbf7c1b6ad905f992@pvna.com.au
CREATED:20180205T075411Z
DESCRIPTION:2018 Autumn Section:19&Under\nRound:Rnd 13
LAST-MODIFIED:20180205T075411Z
LOCATION:Court: 1
SEQUENCE:0
STATUS:CONFIRMED
SUMMARY:19&U-Rnd 13: Dynamite vs Northern Blues Lions
TRANSP:OPAQUE
END:VEVENT
BEGIN:VEVENT
DTSTART:20180602T123000
DTEND:20180602T131000
DTSTAMP:20180205T075411Z
UID:807b1bfa14e0a65aabbd0a4ab838f203@pvna.com.au
CREATED:20180205T075411Z
DESCRIPTION:2018 Autumn Section:19&Under\nRound:Rnd 14
LAST-MODIFIED:20180205T075411Z
LOCATION:Court: 1
SEQUENCE:0
STATUS:CONFIRMED
SUMMARY:19&U-Rnd 14: Northern Blues Lions vs Blaze Jnr
TRANSP:OPAQUE
END:VEVENT
END:VCALENDAR
