BEGIN:VCALENDAR
PRODID:-//Google Inc//Google Calendar 70.9054//EN
VERSION:2.0
CALSCALE:GREGORIAN
METHOD:PUBLISH
X-WR-CALNAME:PV Comets Northern Blues Tigers
X-WR-TIMEZONE:Australia/Sydney
X-WR-CALDESC:PV Comets Parkville Calendars
BEGIN:VEVENT
DTSTART:20180203T114500
DTEND:20180203T122500
DTSTAMP:20180205T075411Z
UID:fed54e5c8a0e33e42e372e1e2b5ffbd3@pvna.com.au
CREATED:20180205T075411Z
DESCRIPTION:2018 Autumn Section:8-10s\nRound:Rnd 1
LAST-MODIFIED:20180205T075411Z
LOCATION:Court: 4
SEQUENCE:0
STATUS:CONFIRMED
SUMMARY:8-10-Rnd 1: Golden Girls (21) vs Northern Blues Tigers (1)
TRANSP:OPAQUE
END:VEVENT
BEGIN:VEVENT
DTSTART:20180210T101500
DTEND:20180210T105500
DTSTAMP:20180205T075415Z
UID:a7d6614884d91de79d88751fbab10bd2@pvna.com.au
CREATED:20180205T075415Z
DESCRIPTION:2018 Autumn Section:8-10s\nRound:Rnd 2\n\nCurrent Ladder:\nTeam            P  W  L  D  Pts\nGolden Girls    1  1  0  0  4 \nAwesome Angels 8-10s1 1  1  0  0  4 \nNorthern Blues Tigers 1  0  1  0  0 \nSS Crystal      0  0  0  0  0 \n
LAST-MODIFIED:20180205T075415Z
LOCATION:Court: 4
SEQUENCE:0
STATUS:CONFIRMED
SUMMARY:8-10-Rnd 2: Northern Blues Tigers vs Awesome Angels 8-10s1
TRANSP:OPAQUE
END:VEVENT
BEGIN:VEVENT
DTSTART:20180217T084500
DTEND:20180217T092500
DTSTAMP:20180205T075415Z
UID:3943c53c044eedc83cdac7effa88a698@pvna.com.au
CREATED:20180205T075415Z
DESCRIPTION:2018 Autumn Section:8-10s\nRound:Rnd 3
LAST-MODIFIED:20180205T075415Z
LOCATION:Court: 99
SEQUENCE:0
STATUS:CONFIRMED
SUMMARY:8-10-Rnd 3: Northern Blues Tigers vs BYE
TRANSP:OPAQUE
END:VEVENT
BEGIN:VEVENT
DTSTART:20180224T123000
DTEND:20180224T131000
DTSTAMP:20180205T075415Z
UID:56f2e0b8ef0a682fbbe7ce698e9c8293@pvna.com.au
CREATED:20180205T075415Z
DESCRIPTION:2018 Autumn Section:8-10s\nRound:Rnd 4
LAST-MODIFIED:20180205T075415Z
LOCATION:Court: 1
SEQUENCE:0
STATUS:CONFIRMED
SUMMARY:8-10-Rnd 4: Golden Girls vs Northern Blues Tigers
TRANSP:OPAQUE
END:VEVENT
BEGIN:VEVENT
DTSTART:20180303T084500
DTEND:20180303T092500
DTSTAMP:20180205T075415Z
UID:bf1501dc27e743ad4255cbb98b9c97ce@pvna.com.au
CREATED:20180205T075415Z
DESCRIPTION:2018 Autumn Section:8-10s\nRound:Rnd 5
LAST-MODIFIED:20180205T075415Z
LOCATION:Court: 1
SEQUENCE:0
STATUS:CONFIRMED
SUMMARY:8-10-Rnd 5: Northern Blues Tigers vs Awesome Angels 8-10s1
TRANSP:OPAQUE
END:VEVENT
BEGIN:VEVENT
DTSTART:20180317T084500
DTEND:20180317T092500
DTSTAMP:20180205T075415Z
UID:3fd2b2a91d450fa8b61d8413312188e7@pvna.com.au
CREATED:20180205T075415Z
DESCRIPTION:2018 Autumn Section:8-10s\nRound:Rnd 6
LAST-MODIFIED:20180205T075415Z
LOCATION:Court: 99
SEQUENCE:0
STATUS:CONFIRMED
SUMMARY:8-10-Rnd 6: Northern Blues Tigers vs BYE
TRANSP:OPAQUE
END:VEVENT
BEGIN:VEVENT
DTSTART:20180421T084500
DTEND:20180421T092500
DTSTAMP:20180205T075415Z
UID:0756dab309cf9851075078053b61aab3@pvna.com.au
CREATED:20180205T075415Z
DESCRIPTION:2018 Autumn Section:8-10s\nRound:Rnd 8
LAST-MODIFIED:20180205T075415Z
LOCATION:Court: 1
SEQUENCE:0
STATUS:CONFIRMED
SUMMARY:8-10-Rnd 8: Golden Girls vs Northern Blues Tigers
TRANSP:OPAQUE
END:VEVENT
BEGIN:VEVENT
DTSTART:20180428T084500
DTEND:20180428T092500
DTSTAMP:20180205T075415Z
UID:abdc34f82b57f3410c5c36753b6da428@pvna.com.au
CREATED:20180205T075415Z
DESCRIPTION:2018 Autumn Section:8-10s\nRound:Rnd 9
LAST-MODIFIED:20180205T075415Z
LOCATION:Court: 1
SEQUENCE:0
STATUS:CONFIRMED
SUMMARY:8-10-Rnd 9: Northern Blues Tigers vs Awesome Angels 8-10s1
TRANSP:OPAQUE
END:VEVENT
BEGIN:VEVENT
DTSTART:20180505T084500
DTEND:20180505T092500
DTSTAMP:20180205T075415Z
UID:800d2cb4efa933d7a934547104b8f816@pvna.com.au
CREATED:20180205T075415Z
DESCRIPTION:2018 Autumn Section:8-10s\nRound:Rnd 10
LAST-MODIFIED:20180205T075415Z
LOCATION:Court: 99
SEQUENCE:0
STATUS:CONFIRMED
SUMMARY:8-10-Rnd 10: Northern Blues Tigers vs BYE
TRANSP:OPAQUE
END:VEVENT
BEGIN:VEVENT
DTSTART:20180519T084500
DTEND:20180519T092500
DTSTAMP:20180205T075415Z
UID:4982c927d3a7db9883a94a767877764f@pvna.com.au
CREATED:20180205T075415Z
DESCRIPTION:2018 Autumn Section:8-10s\nRound:Rnd 12
LAST-MODIFIED:20180205T075415Z
LOCATION:Court: 1
SEQUENCE:0
STATUS:CONFIRMED
SUMMARY:8-10-Rnd 12: Golden Girls vs Northern Blues Tigers
TRANSP:OPAQUE
END:VEVENT
BEGIN:VEVENT
DTSTART:20180526T084500
DTEND:20180526T092500
DTSTAMP:20180205T075415Z
UID:56c8b2acba40e3beecef4666c3901865@pvna.com.au
CREATED:20180205T075415Z
DESCRIPTION:2018 Autumn Section:8-10s\nRound:Rnd 13
LAST-MODIFIED:20180205T075415Z
LOCATION:Court: 1
SEQUENCE:0
STATUS:CONFIRMED
SUMMARY:8-10-Rnd 13: Northern Blues Tigers vs Awesome Angels 8-10s1
TRANSP:OPAQUE
END:VEVENT
BEGIN:VEVENT
DTSTART:20180602T084500
DTEND:20180602T092500
DTSTAMP:20180205T075415Z
UID:93848a491f6bafa913824a7a5facfa91@pvna.com.au
CREATED:20180205T075415Z
DESCRIPTION:2018 Autumn Section:8-10s\nRound:Rnd 14
LAST-MODIFIED:20180205T075415Z
LOCATION:Court: 99
SEQUENCE:0
STATUS:CONFIRMED
SUMMARY:8-10-Rnd 14: Northern Blues Tigers vs BYE
TRANSP:OPAQUE
END:VEVENT
BEGIN:VEVENT
DTSTART:20180623T084500
DTEND:20180623T092500
DTSTAMP:20180205T075415Z
UID:a1e642408ff2ab8b772d3c53650721d6@pvna.com.au
CREATED:20180205T075415Z
DESCRIPTION:2018 Autumn Section:8-10s\nRound:Rnd 16
LAST-MODIFIED:20180205T075415Z
LOCATION:Court: 1
SEQUENCE:0
STATUS:CONFIRMED
SUMMARY:8-10-Rnd 16: Golden Girls vs Northern Blues Tigers
TRANSP:OPAQUE
END:VEVENT
BEGIN:VEVENT
DTSTART:20180630T084500
DTEND:20180630T092500
DTSTAMP:20180205T075415Z
UID:bc5faec3fde827f2f12f80bc9d5756fd@pvna.com.au
CREATED:20180205T075415Z
DESCRIPTION:2018 Autumn Section:8-10s\nRound:Rnd 17
LAST-MODIFIED:20180205T075415Z
LOCATION:Court: 1
SEQUENCE:0
STATUS:CONFIRMED
SUMMARY:8-10-Rnd 17: Northern Blues Tigers vs Awesome Angels 8-10s1
TRANSP:OPAQUE
END:VEVENT
END:VCALENDAR
