BEGIN:VCALENDAR
PRODID:-//Google Inc//Google Calendar 70.9054//EN
VERSION:2.0
CALSCALE:GREGORIAN
METHOD:PUBLISH
X-WR-CALNAME:PV Comets Northern Blues Wallabies
X-WR-TIMEZONE:Australia/Sydney
X-WR-CALDESC:PV Comets Parkville Calendars
BEGIN:VEVENT
DTSTART:20180203T110000
DTEND:20180203T114500
DTSTAMP:20180701T121634Z
UID:66d7d68c0b48f4389b1ba359bc1febce@pvna.com.au
CREATED:20180701T121634Z
DESCRIPTION:2018 Autumn Section:13&Under\nRound:Rnd 1
LAST-MODIFIED:20180701T121634Z
LOCATION:Court: 1
SEQUENCE:0
STATUS:CONFIRMED
SUMMARY:13&U-Rnd 1: NB Cubs (2) vs Northern Blues Wallabies (6)
TRANSP:OPAQUE
END:VEVENT
END:VCALENDAR
