BEGIN:VCALENDAR
PRODID:-//Google Inc//Google Calendar 70.9054//EN
VERSION:2.0
CALSCALE:GREGORIAN
METHOD:PUBLISH
X-WR-CALNAME:PV Comets 9
X-WR-TIMEZONE:Australia/Sydney
X-WR-CALDESC:Plenty Valley Comets Calendar
BEGIN:VEVENT
DTSTART:20180811T080000
DTEND:20180811T080000
DTSTAMP:20181215T114438Z
UID:dc932198660223ec7b827366647c539a@pvna.com.au
CREATED:20181215T194438Z
DESCRIPTION:PVComet: Fundraiser: Bunnings BBQ
LAST-MODIFIED:20181215T194438Z
LOCATION:761-781 Plenty Road, Mill Park 3082
SEQUENCE:0
STATUS:CONFIRMED
SUMMARY:Fundraiser: Bunnings BBQ at 761-781 Plenty Road, Mill Park 3082
Need volunteers to help with BBQ
TRANSP:OPAQUE
END:VEVENT
END:VCALENDAR
