BEGIN:VCALENDAR
PRODID:-//Google Inc//Google Calendar 70.9054//EN
VERSION:2.0
CALSCALE:GREGORIAN
METHOD:PUBLISH
X-WR-CALNAME:PV Comets Power
X-WR-TIMEZONE:Australia/Sydney
X-WR-CALDESC:PV Comets Parkville Calendars
BEGIN:VEVENT
DTSTART:20180721T114500
DTEND:20180721T122500
DTSTAMP:20181215T114445Z
UID:c4e94d6aa4c5aa2808fd74167f8e1c55@pvna.com.au
CREATED:20181215T194445Z
DESCRIPTION:2018 Spring Section:15&U Res\nRound:Rnd 1
LAST-MODIFIED:20181215T194445Z
LOCATION:Court: 1
SEQUENCE:0
STATUS:CONFIRMED
SUMMARY:15&U-Rnd 1: SS Strikers (6) vs Power (18)
TRANSP:OPAQUE
END:VEVENT
BEGIN:VEVENT
DTSTART:20180728T110000
DTEND:20180728T114500
DTSTAMP:20181215T114445Z
UID:0d0d1106b65e5334915d47b5e0a271c9@pvna.com.au
CREATED:20181215T194445Z
DESCRIPTION:2018 Spring Section:15&U Res\nRound:Rnd 2
LAST-MODIFIED:20181215T194445Z
LOCATION:Court: 1
SEQUENCE:0
STATUS:CONFIRMED
SUMMARY:15&U-Rnd 2: Power (23) vs Awesome Angels 15s1 (20)
TRANSP:OPAQUE
END:VEVENT
BEGIN:VEVENT
DTSTART:20180804T114500
DTEND:20180804T122500
DTSTAMP:20181215T114445Z
UID:de20b49c0892aeaba574263bab296a3c@pvna.com.au
CREATED:20181215T194445Z
DESCRIPTION:2018 Spring Section:15&U Res\nRound:Rnd 3
LAST-MODIFIED:20181215T194445Z
LOCATION:Court: 1
SEQUENCE:0
STATUS:CONFIRMED
SUMMARY:15&U-Rnd 3: Power (30) vs Awesome Angels 15s2 (7)
TRANSP:OPAQUE
END:VEVENT
BEGIN:VEVENT
DTSTART:20180811T114500
DTEND:20180811T122500
DTSTAMP:20181215T114445Z
UID:ca5004698c51534644e548cbc9dd8eb8@pvna.com.au
CREATED:20181215T194445Z
DESCRIPTION:2018 Spring Section:15&U Res\nRound:Rnd 4
LAST-MODIFIED:20181215T194445Z
LOCATION:Court: 1
SEQUENCE:0
STATUS:CONFIRMED
SUMMARY:15&U-Rnd 4: SS Strikers (3) vs Power (26)
TRANSP:OPAQUE
END:VEVENT
BEGIN:VEVENT
DTSTART:20180818T110000
DTEND:20180818T114500
DTSTAMP:20181215T114445Z
UID:b5ffb54398e7eaaee2c214989e1e3391@pvna.com.au
CREATED:20181215T194445Z
DESCRIPTION:2018 Spring Section:15&Under\nRound:Rnd 5
LAST-MODIFIED:20181215T194445Z
LOCATION:Court: 2
SEQUENCE:0
STATUS:CONFIRMED
SUMMARY:15&U-Rnd 5: Devils (15) vs Power (28)
TRANSP:OPAQUE
END:VEVENT
BEGIN:VEVENT
DTSTART:20180825T110000
DTEND:20180825T114500
DTSTAMP:20181215T114445Z
UID:fa26839c64e3df102329bb470c518f0f@pvna.com.au
CREATED:20181215T194445Z
DESCRIPTION:2018 Spring Section:15&Under\nRound:Rnd 6
LAST-MODIFIED:20181215T194445Z
LOCATION:Court: 1
SEQUENCE:0
STATUS:CONFIRMED
SUMMARY:15&U-Rnd 6: Power (16) vs SS Sparks (29)
TRANSP:OPAQUE
END:VEVENT
BEGIN:VEVENT
DTSTART:20180901T093000
DTEND:20180901T101000
DTSTAMP:20181215T114445Z
UID:17e8050d805c564cfb0aaecdf6c7d1fe@pvna.com.au
CREATED:20181215T194445Z
DESCRIPTION:2018 Spring Section:15&Under\nRound:Rnd 7
LAST-MODIFIED:20181215T194445Z
LOCATION:Court: 1
SEQUENCE:0
STATUS:CONFIRMED
SUMMARY:15&U-Rnd 7: Power (18) vs Wildcats 15s (15)
TRANSP:OPAQUE
END:VEVENT
BEGIN:VEVENT
DTSTART:20180908T101500
DTEND:20180908T105500
DTSTAMP:20181215T114445Z
UID:06d4c9a68f5b9b48a794ffd8b5215464@pvna.com.au
CREATED:20181215T194445Z
DESCRIPTION:2018 Spring Section:15&Under\nRound:Rnd 8
LAST-MODIFIED:20181215T194445Z
LOCATION:Court: 1
SEQUENCE:0
STATUS:CONFIRMED
SUMMARY:15&U-Rnd 8: Firestorm (27) vs Power (25)
TRANSP:OPAQUE
END:VEVENT
BEGIN:VEVENT
DTSTART:20180915T114500
DTEND:20180915T122500
DTSTAMP:20181215T114445Z
UID:3b8ed831c1d4c71b02e041a4cbcbc29d@pvna.com.au
CREATED:20181215T194445Z
DESCRIPTION:2018 Spring Section:15&Under\nRound:Rnd 9
LAST-MODIFIED:20181215T194445Z
LOCATION:Court: 1
SEQUENCE:0
STATUS:CONFIRMED
SUMMARY:15&U-Rnd 9: Power (7) vs NB Lions (29)
TRANSP:OPAQUE
END:VEVENT
BEGIN:VEVENT
DTSTART:20180922T114500
DTEND:20180922T122500
DTSTAMP:20181215T114445Z
UID:f8bfa7d1a35d90926b3d434956b58dd3@pvna.com.au
CREATED:20181215T194445Z
DESCRIPTION:2018 Spring Section:15&Under\nRound:Rnd 10
LAST-MODIFIED:20181215T194445Z
LOCATION:Court: 1
SEQUENCE:0
STATUS:CONFIRMED
SUMMARY:15&U-Rnd 10: Power (12) vs SS Saphires (36)
TRANSP:OPAQUE
END:VEVENT
BEGIN:VEVENT
DTSTART:20181013T093000
DTEND:20181013T101000
DTSTAMP:20181215T114445Z
UID:00fe860926387cd65aa14a991e3ef6a0@pvna.com.au
CREATED:20181215T194445Z
DESCRIPTION:2018 Spring Section:15&Under\nRound:Rnd 11
LAST-MODIFIED:20181215T194445Z
LOCATION:Court: 3
SEQUENCE:0
STATUS:CONFIRMED
SUMMARY:15&U-Rnd 11: Power (23) vs Thunderbolts (28)
TRANSP:OPAQUE
END:VEVENT
BEGIN:VEVENT
DTSTART:20181020T110000
DTEND:20181020T114500
DTSTAMP:20181215T114445Z
UID:bf61df1e2e1dd530cfdf10911a0b13f3@pvna.com.au
CREATED:20181215T194445Z
DESCRIPTION:2018 Spring Section:15&Under\nRound:Rnd 12
LAST-MODIFIED:20181215T194445Z
LOCATION:Court: 1
SEQUENCE:0
STATUS:CONFIRMED
SUMMARY:15&U-Rnd 12: Devils (34) vs Power (20)
TRANSP:OPAQUE
END:VEVENT
BEGIN:VEVENT
DTSTART:20181027T101500
DTEND:20181027T105500
DTSTAMP:20181215T114445Z
UID:85e686fd57280583fefa040ba76e38c8@pvna.com.au
CREATED:20181215T194445Z
DESCRIPTION:2018 Spring Section:15&Under\nRound:Rnd 13
LAST-MODIFIED:20181215T194445Z
LOCATION:Court: 3
SEQUENCE:0
STATUS:CONFIRMED
SUMMARY:15&U-Rnd 13: Power (4) vs SS Sparks (46)
TRANSP:OPAQUE
END:VEVENT
BEGIN:VEVENT
DTSTART:20181110T093000
DTEND:20181110T101000
DTSTAMP:20181215T114445Z
UID:c98a0aefddfdc21f9d56c26fab88e586@pvna.com.au
CREATED:20181215T194445Z
DESCRIPTION:2018 Spring Section:15&Under\nRound:Rnd 14
LAST-MODIFIED:20181215T194445Z
LOCATION:Court: 2
SEQUENCE:0
STATUS:CONFIRMED
SUMMARY:15&U-Rnd 14: Power (12) vs Wildcats 15s (23)
TRANSP:OPAQUE
END:VEVENT
BEGIN:VEVENT
DTSTART:20181117T093000
DTEND:20181117T101000
DTSTAMP:20181215T114445Z
UID:bf3197cc1045bb95fd4ba1c675fba416@pvna.com.au
CREATED:20181215T194445Z
DESCRIPTION:2018 Spring Section:15&Under\nRound:Rnd 15
LAST-MODIFIED:20181215T194445Z
LOCATION:Court: 1
SEQUENCE:0
STATUS:CONFIRMED
SUMMARY:15&U-Rnd 15: Firestorm (20) vs Power (11)
TRANSP:OPAQUE
END:VEVENT
BEGIN:VEVENT
DTSTART:20181124T104000
DTEND:20181124T101000
DTSTAMP:20181215T114445Z
UID:84c647a0b9101c17e40117d347a17e61@pvna.com.au
CREATED:20181215T194445Z
DESCRIPTION:2018 Spring Section:15&Under\nRound:B Semi
LAST-MODIFIED:20181215T194445Z
LOCATION:Court: 3
SEQUENCE:0
STATUS:CONFIRMED
SUMMARY:15&U-B Semi: Power (13) vs SS Saphires (26)
TRANSP:OPAQUE
END:VEVENT
BEGIN:VEVENT
DTSTART:20181201T113000
DTEND:20181201T101000
DTSTAMP:20181215T114445Z
UID:4f53ee6ac32541271781d1cec61d8190@pvna.com.au
CREATED:20181215T194445Z
DESCRIPTION:2018 Spring Section:15&Under\nRound:B Prelim
LAST-MODIFIED:20181215T194445Z
LOCATION:Court: 1
SEQUENCE:0
STATUS:CONFIRMED
SUMMARY:15&U-B Prelim: Wildcats 15s (31) vs Power (16)
TRANSP:OPAQUE
END:VEVENT
END:VCALENDAR
