BEGIN:VCALENDAR
PRODID:-//Google Inc//Google Calendar 70.9054//EN
VERSION:2.0
CALSCALE:GREGORIAN
METHOD:PUBLISH
X-WR-CALNAME:PV Comets Ravens
X-WR-TIMEZONE:Australia/Sydney
X-WR-CALDESC:PV Comets Parkville Calendars
BEGIN:VEVENT
DTSTART:20180721T084500
DTEND:20180721T092500
DTSTAMP:20181215T114445Z
UID:a9d6f5d0fa05a145c4c2d0f1cc52025b@pvna.com.au
CREATED:20181215T194445Z
DESCRIPTION:2018 Spring Section:17&Under\nRound:Rnd 1
LAST-MODIFIED:20181215T194445Z
LOCATION:Court: 1
SEQUENCE:0
STATUS:CONFIRMED
SUMMARY:17&U-Rnd 1: NB Cheetahs (44) vs Ravens (18)
TRANSP:OPAQUE
END:VEVENT
BEGIN:VEVENT
DTSTART:20180728T084500
DTEND:20180728T092500
DTSTAMP:20181215T114445Z
UID:3a9ff19a84df24b519afcd2988157fe0@pvna.com.au
CREATED:20181215T194445Z
DESCRIPTION:2018 Spring Section:17&Under\nRound:Rnd 2
LAST-MODIFIED:20181215T194445Z
LOCATION:Court: 3
SEQUENCE:0
STATUS:CONFIRMED
SUMMARY:17&U-Rnd 2: Ravens (3) vs Phoenix (42)
TRANSP:OPAQUE
END:VEVENT
BEGIN:VEVENT
DTSTART:20180804T093000
DTEND:20180804T101000
DTSTAMP:20181215T114445Z
UID:8dc5f346354cd08dd1cfa80ad9906403@pvna.com.au
CREATED:20181215T194445Z
DESCRIPTION:2018 Spring Section:17&Under\nRound:Rnd 3
LAST-MODIFIED:20181215T194445Z
LOCATION:Court: 3
SEQUENCE:0
STATUS:CONFIRMED
SUMMARY:17&U-Rnd 3: Roxy (36) vs Ravens (2)
TRANSP:OPAQUE
END:VEVENT
BEGIN:VEVENT
DTSTART:20180811T101500
DTEND:20180811T105500
DTSTAMP:20181215T114445Z
UID:68bca6a87ab53f98ca0fa9ebdf5a2632@pvna.com.au
CREATED:20181215T194445Z
DESCRIPTION:2018 Spring Section:17&Under\nRound:Rnd 4
LAST-MODIFIED:20181215T194445Z
LOCATION:Court: 2
SEQUENCE:0
STATUS:CONFIRMED
SUMMARY:17&U-Rnd 4: Ravens (9) vs SS Magic (22)
TRANSP:OPAQUE
END:VEVENT
BEGIN:VEVENT
DTSTART:20180818T084500
DTEND:20180818T092500
DTSTAMP:20181215T114445Z
UID:dd868b03051d180347179dce91c1cafd@pvna.com.au
CREATED:20181215T194445Z
DESCRIPTION:2018 Spring Section:17&Under\nRound:Rnd 5
LAST-MODIFIED:20181215T194445Z
LOCATION:Court: 2
SEQUENCE:0
STATUS:CONFIRMED
SUMMARY:17&U-Rnd 5: NB Kangas (34) vs Ravens (6)
TRANSP:OPAQUE
END:VEVENT
BEGIN:VEVENT
DTSTART:20180825T093000
DTEND:20180825T101000
DTSTAMP:20181215T114445Z
UID:ce7f93aa68cf3e3a8d83f414f45f184c@pvna.com.au
CREATED:20181215T194445Z
DESCRIPTION:2018 Spring Section:17&Under\nRound:Rnd 6
LAST-MODIFIED:20181215T194445Z
LOCATION:Court: 3
SEQUENCE:0
STATUS:CONFIRMED
SUMMARY:17&U-Rnd 6: NB Cheetahs (33) vs Ravens (12)
TRANSP:OPAQUE
END:VEVENT
BEGIN:VEVENT
DTSTART:20180901T084500
DTEND:20180901T092500
DTSTAMP:20181215T114445Z
UID:e9b309bf7830c49be35eab3dd3c72637@pvna.com.au
CREATED:20181215T194445Z
DESCRIPTION:2018 Spring Section:17&Under\nRound:Rnd 7
LAST-MODIFIED:20181215T194445Z
LOCATION:Court: 3
SEQUENCE:0
STATUS:CONFIRMED
SUMMARY:17&U-Rnd 7: Ravens (10) vs Phoenix (48)
TRANSP:OPAQUE
END:VEVENT
BEGIN:VEVENT
DTSTART:20180908T093000
DTEND:20180908T101000
DTSTAMP:20181215T114445Z
UID:612b4fce35627635646bcb2536850b6d@pvna.com.au
CREATED:20181215T194445Z
DESCRIPTION:2018 Spring Section:17&Under\nRound:Rnd 8
LAST-MODIFIED:20181215T194445Z
LOCATION:Court: 3
SEQUENCE:0
STATUS:CONFIRMED
SUMMARY:17&U-Rnd 8: Roxy (53) vs Ravens (9)
TRANSP:OPAQUE
END:VEVENT
BEGIN:VEVENT
DTSTART:20180915T101500
DTEND:20180915T105500
DTSTAMP:20181215T114445Z
UID:2945c882f45650c1c9c86c8789717438@pvna.com.au
CREATED:20181215T194445Z
DESCRIPTION:2018 Spring Section:17&Under\nRound:Rnd 9
LAST-MODIFIED:20181215T194445Z
LOCATION:Court: 3
SEQUENCE:0
STATUS:CONFIRMED
SUMMARY:17&U-Rnd 9: Ravens (14) vs SS Magic (31)
TRANSP:OPAQUE
END:VEVENT
BEGIN:VEVENT
DTSTART:20180922T084500
DTEND:20180922T092500
DTSTAMP:20181215T114445Z
UID:ba0022e3355f1941bb08cdbd6ae34532@pvna.com.au
CREATED:20181215T194445Z
DESCRIPTION:2018 Spring Section:17&Under\nRound:Rnd 10
LAST-MODIFIED:20181215T194445Z
LOCATION:Court: 2
SEQUENCE:0
STATUS:CONFIRMED
SUMMARY:17&U-Rnd 10: NB Kangas (25) vs Ravens (19)
TRANSP:OPAQUE
END:VEVENT
BEGIN:VEVENT
DTSTART:20181013T101500
DTEND:20181013T105500
DTSTAMP:20181215T114445Z
UID:afcf6338567dc8a2b685e21a4ba8aa69@pvna.com.au
CREATED:20181215T194445Z
DESCRIPTION:2018 Spring Section:17&Under\nRound:Rnd 11
LAST-MODIFIED:20181215T194445Z
LOCATION:Court: 3
SEQUENCE:0
STATUS:CONFIRMED
SUMMARY:17&U-Rnd 11: NB Cheetahs (32) vs Ravens (23)
TRANSP:OPAQUE
END:VEVENT
BEGIN:VEVENT
DTSTART:20181020T084500
DTEND:20181020T092500
DTSTAMP:20181215T114445Z
UID:f8d15099ed33b81bea9855f82b50930b@pvna.com.au
CREATED:20181215T194445Z
DESCRIPTION:2018 Spring Section:17&Under\nRound:Rnd 12
LAST-MODIFIED:20181215T194445Z
LOCATION:Court: 3
SEQUENCE:0
STATUS:CONFIRMED
SUMMARY:17&U-Rnd 12: Phoenix (38) vs Ravens (5)
TRANSP:OPAQUE
END:VEVENT
BEGIN:VEVENT
DTSTART:20181027T093000
DTEND:20181027T101000
DTSTAMP:20181215T114445Z
UID:735192efdcf508f7e07c89721db3ade3@pvna.com.au
CREATED:20181215T194445Z
DESCRIPTION:2018 Spring Section:17&Under\nRound:Rnd 13
LAST-MODIFIED:20181215T194445Z
LOCATION:Court: 3
SEQUENCE:0
STATUS:CONFIRMED
SUMMARY:17&U-Rnd 13: Ravens (14) vs Roxy (34)
TRANSP:OPAQUE
END:VEVENT
BEGIN:VEVENT
DTSTART:20181110T093000
DTEND:20181110T101000
DTSTAMP:20181215T114445Z
UID:f98fd40bf328ff7d45d5be616f59491b@pvna.com.au
CREATED:20181215T194445Z
DESCRIPTION:2018 Spring Section:17&Under\nRound:Rnd 14
LAST-MODIFIED:20181215T194445Z
LOCATION:Court: 3
SEQUENCE:0
STATUS:CONFIRMED
SUMMARY:17&U-Rnd 14: SS Magic (23) vs Ravens (6)
TRANSP:OPAQUE
END:VEVENT
BEGIN:VEVENT
DTSTART:20181117T084500
DTEND:20181117T092500
DTSTAMP:20181215T114445Z
UID:8ad2a3ab9799acf6d17741cd6adbf0ea@pvna.com.au
CREATED:20181215T194445Z
DESCRIPTION:2018 Spring Section:17&Under\nRound:Rnd 15
LAST-MODIFIED:20181215T194445Z
LOCATION:Court: 2
SEQUENCE:0
STATUS:CONFIRMED
SUMMARY:17&U-Rnd 15: NB Kangas (27) vs Ravens (13)
TRANSP:OPAQUE
END:VEVENT
END:VCALENDAR
