BEGIN:VCALENDAR
PRODID:-//Google Inc//Google Calendar 70.9054//EN
VERSION:2.0
CALSCALE:GREGORIAN
METHOD:PUBLISH
X-WR-CALNAME:PV Comets Roxy
X-WR-TIMEZONE:Australia/Sydney
X-WR-CALDESC:PV Comets Parkville Calendars
BEGIN:VEVENT
DTSTART:20180721T093000
DTEND:20180721T101000
DTSTAMP:20181215T114445Z
UID:f2980a12e34c9236c2d73f66f6a2cab9@pvna.com.au
CREATED:20181215T194445Z
DESCRIPTION:2018 Spring Section:17&Under\nRound:Rnd 1
LAST-MODIFIED:20181215T194445Z
LOCATION:Court: 3
SEQUENCE:0
STATUS:CONFIRMED
SUMMARY:17&U-Rnd 1: Roxy (28) vs NB Kangas (14)
TRANSP:OPAQUE
END:VEVENT
BEGIN:VEVENT
DTSTART:20180728T093000
DTEND:20180728T101000
DTSTAMP:20181215T114445Z
UID:8021515dbe36579697de965f50a9c396@pvna.com.au
CREATED:20181215T194445Z
DESCRIPTION:2018 Spring Section:17&Under\nRound:Rnd 2
LAST-MODIFIED:20181215T194445Z
LOCATION:Court: 3
SEQUENCE:0
STATUS:CONFIRMED
SUMMARY:17&U-Rnd 2: SS Magic (16) vs Roxy (24)
TRANSP:OPAQUE
END:VEVENT
BEGIN:VEVENT
DTSTART:20180804T093000
DTEND:20180804T101000
DTSTAMP:20181215T114445Z
UID:cf4231b268573d826356696d3dba0710@pvna.com.au
CREATED:20181215T194445Z
DESCRIPTION:2018 Spring Section:17&Under\nRound:Rnd 3
LAST-MODIFIED:20181215T194445Z
LOCATION:Court: 3
SEQUENCE:0
STATUS:CONFIRMED
SUMMARY:17&U-Rnd 3: Roxy (36) vs Ravens (2)
TRANSP:OPAQUE
END:VEVENT
BEGIN:VEVENT
DTSTART:20180811T093000
DTEND:20180811T101000
DTSTAMP:20181215T114445Z
UID:8b685043b8573ecce0f9ab9603c00e28@pvna.com.au
CREATED:20181215T194445Z
DESCRIPTION:2018 Spring Section:17&Under\nRound:Rnd 4
LAST-MODIFIED:20181215T194445Z
LOCATION:Court: 3
SEQUENCE:0
STATUS:CONFIRMED
SUMMARY:17&U-Rnd 4: NB Cheetahs (16) vs Roxy (31)
TRANSP:OPAQUE
END:VEVENT
BEGIN:VEVENT
DTSTART:20180818T084500
DTEND:20180818T092500
DTSTAMP:20181215T114445Z
UID:c95127084acfeca7b95647f2de8bf40b@pvna.com.au
CREATED:20181215T194445Z
DESCRIPTION:2018 Spring Section:17&Under\nRound:Rnd 5
LAST-MODIFIED:20181215T194445Z
LOCATION:Court: 3
SEQUENCE:0
STATUS:CONFIRMED
SUMMARY:17&U-Rnd 5: Roxy (19) vs Phoenix (26)
TRANSP:OPAQUE
END:VEVENT
BEGIN:VEVENT
DTSTART:20180825T084500
DTEND:20180825T092500
DTSTAMP:20181215T114445Z
UID:7379a526e59075cafaa9076d029e58af@pvna.com.au
CREATED:20181215T194445Z
DESCRIPTION:2018 Spring Section:17&Under\nRound:Rnd 6
LAST-MODIFIED:20181215T194445Z
LOCATION:Court: 2
SEQUENCE:0
STATUS:CONFIRMED
SUMMARY:17&U-Rnd 6: Roxy (26) vs NB Kangas (10)
TRANSP:OPAQUE
END:VEVENT
BEGIN:VEVENT
DTSTART:20180901T093000
DTEND:20180901T101000
DTSTAMP:20181215T114445Z
UID:00809b29357b0f1e44e13f97f601d718@pvna.com.au
CREATED:20181215T194445Z
DESCRIPTION:2018 Spring Section:17&Under\nRound:Rnd 7
LAST-MODIFIED:20181215T194445Z
LOCATION:Court: 3
SEQUENCE:0
STATUS:CONFIRMED
SUMMARY:17&U-Rnd 7: Roxy (22) vs SS Magic (15)
TRANSP:OPAQUE
END:VEVENT
BEGIN:VEVENT
DTSTART:20180908T093000
DTEND:20180908T101000
DTSTAMP:20181215T114445Z
UID:aeba84903f325585f783988f1104a65b@pvna.com.au
CREATED:20181215T194445Z
DESCRIPTION:2018 Spring Section:17&Under\nRound:Rnd 8
LAST-MODIFIED:20181215T194445Z
LOCATION:Court: 3
SEQUENCE:0
STATUS:CONFIRMED
SUMMARY:17&U-Rnd 8: Roxy (53) vs Ravens (9)
TRANSP:OPAQUE
END:VEVENT
BEGIN:VEVENT
DTSTART:20180915T093000
DTEND:20180915T101000
DTSTAMP:20181215T114445Z
UID:41815c1ea6b7d8c9ba24099bf6944bb8@pvna.com.au
CREATED:20181215T194445Z
DESCRIPTION:2018 Spring Section:17&Under\nRound:Rnd 9
LAST-MODIFIED:20181215T194445Z
LOCATION:Court: 3
SEQUENCE:0
STATUS:CONFIRMED
SUMMARY:17&U-Rnd 9: NB Cheetahs (10) vs Roxy (33)
TRANSP:OPAQUE
END:VEVENT
BEGIN:VEVENT
DTSTART:20180922T084500
DTEND:20180922T092500
DTSTAMP:20181215T114445Z
UID:d457fbaaac7fb21b5c6e374ef03e052a@pvna.com.au
CREATED:20181215T194445Z
DESCRIPTION:2018 Spring Section:17&Under\nRound:Rnd 10
LAST-MODIFIED:20181215T194445Z
LOCATION:Court: 3
SEQUENCE:0
STATUS:CONFIRMED
SUMMARY:17&U-Rnd 10: Roxy (29) vs Phoenix (16)
TRANSP:OPAQUE
END:VEVENT
BEGIN:VEVENT
DTSTART:20181013T084500
DTEND:20181013T092500
DTSTAMP:20181215T114445Z
UID:da02dd6a4b2039cf992b9677731daa3c@pvna.com.au
CREATED:20181215T194445Z
DESCRIPTION:2018 Spring Section:17&Under\nRound:Rnd 11
LAST-MODIFIED:20181215T194445Z
LOCATION:Court: 2
SEQUENCE:0
STATUS:CONFIRMED
SUMMARY:17&U-Rnd 11: Roxy (30) vs NB Kangas (13)
TRANSP:OPAQUE
END:VEVENT
BEGIN:VEVENT
DTSTART:20181020T093000
DTEND:20181020T101000
DTSTAMP:20181215T114445Z
UID:9bba8c5d47c7c0ba02c59b78d5756e77@pvna.com.au
CREATED:20181215T194445Z
DESCRIPTION:2018 Spring Section:17&Under\nRound:Rnd 12
LAST-MODIFIED:20181215T194445Z
LOCATION:Court: 3
SEQUENCE:0
STATUS:CONFIRMED
SUMMARY:17&U-Rnd 12: Roxy (19) vs SS Magic (12)
TRANSP:OPAQUE
END:VEVENT
BEGIN:VEVENT
DTSTART:20181027T093000
DTEND:20181027T101000
DTSTAMP:20181215T114445Z
UID:ccc2e0f859f6c0ac78380e8e5ca420be@pvna.com.au
CREATED:20181215T194445Z
DESCRIPTION:2018 Spring Section:17&Under\nRound:Rnd 13
LAST-MODIFIED:20181215T194445Z
LOCATION:Court: 3
SEQUENCE:0
STATUS:CONFIRMED
SUMMARY:17&U-Rnd 13: Ravens (14) vs Roxy (34)
TRANSP:OPAQUE
END:VEVENT
BEGIN:VEVENT
DTSTART:20181110T084500
DTEND:20181110T092500
DTSTAMP:20181215T114445Z
UID:09080aea556802136a76c8dd12dfbbea@pvna.com.au
CREATED:20181215T194445Z
DESCRIPTION:2018 Spring Section:17&Under\nRound:Rnd 14
LAST-MODIFIED:20181215T194445Z
LOCATION:Court: 3
SEQUENCE:0
STATUS:CONFIRMED
SUMMARY:17&U-Rnd 14: NB Cheetahs (15) vs Roxy (30)
TRANSP:OPAQUE
END:VEVENT
BEGIN:VEVENT
DTSTART:20181117T084500
DTEND:20181117T092500
DTSTAMP:20181215T114445Z
UID:1e34b3b8fc227e9c0d580621257aa4dd@pvna.com.au
CREATED:20181215T194445Z
DESCRIPTION:2018 Spring Section:17&Under\nRound:Rnd 15
LAST-MODIFIED:20181215T194445Z
LOCATION:Court: 3
SEQUENCE:0
STATUS:CONFIRMED
SUMMARY:17&U-Rnd 15: Roxy (13) vs Phoenix (10)
TRANSP:OPAQUE
END:VEVENT
BEGIN:VEVENT
DTSTART:20181124T090000
DTEND:20181124T094000
DTSTAMP:20181215T114445Z
UID:4aed55613e54352fc42a7fe414b0d9c3@pvna.com.au
CREATED:20181215T194445Z
DESCRIPTION:2018 Spring Section:17&Under\nRound:Semi
LAST-MODIFIED:20181215T194445Z
LOCATION:Court: 1
SEQUENCE:0
STATUS:CONFIRMED
SUMMARY:17&U-Semi: Roxy (23) vs Phoenix (20)
TRANSP:OPAQUE
END:VEVENT
BEGIN:VEVENT
DTSTART:20181208T090000
DTEND:20181208T094000
DTSTAMP:20181215T114445Z
UID:4bc847aad740f42c64398f0b5ca6ce8f@pvna.com.au
CREATED:20181215T194445Z
DESCRIPTION:2018 Spring Section:17&Under\nRound:Grand
LAST-MODIFIED:20181215T194445Z
LOCATION:Court: 1
SEQUENCE:0
STATUS:CONFIRMED
SUMMARY:17&U-Grand: Roxy (19) vs Phoenix (20)
TRANSP:OPAQUE
END:VEVENT
END:VCALENDAR
