BEGIN:VCALENDAR
PRODID:-//Google Inc//Google Calendar 70.9054//EN
VERSION:2.0
CALSCALE:GREGORIAN
METHOD:PUBLISH
X-WR-CALNAME:PV Comets SS Crystal
X-WR-TIMEZONE:Australia/Sydney
X-WR-CALDESC:PV Comets Parkville Calendars
BEGIN:VEVENT
DTSTART:20180721T101500
DTEND:20180721T105500
DTSTAMP:20180804T072128Z
UID:ebc195c1f24004e416bae960f6084f00@pvna.com.au
CREATED:20180804T072128Z
DESCRIPTION:2018 Spring Section:8-10s\nRound:Rnd 1
LAST-MODIFIED:20180804T072128Z
LOCATION:Court: 4
SEQUENCE:0
STATUS:CONFIRMED
SUMMARY:8-10-Rnd 1: Golden Girls (10) vs SS Crystal (1)
TRANSP:OPAQUE
END:VEVENT
BEGIN:VEVENT
DTSTART:20180728T114500
DTEND:20180728T122500
DTSTAMP:20180804T072128Z
UID:500ce7e55ca96628e689388b7bca6575@pvna.com.au
CREATED:20180804T072128Z
DESCRIPTION:2018 Spring Section:8-10s\nRound:Rnd 2
LAST-MODIFIED:20180804T072128Z
LOCATION:Court: 1
SEQUENCE:0
STATUS:CONFIRMED
SUMMARY:8-10-Rnd 2: SS Crystal (1) vs Awesome Angels 8-10s1 (10)
TRANSP:OPAQUE
END:VEVENT
BEGIN:VEVENT
DTSTART:20180804T084500
DTEND:20180804T092500
DTSTAMP:20180804T072128Z
UID:a30815a08b4469eeb4528068708ef1c5@pvna.com.au
CREATED:20180804T072128Z
DESCRIPTION:2018 Spring Section:8-10s\nRound:Rnd 3
LAST-MODIFIED:20180804T072128Z
LOCATION:Court: 5
SEQUENCE:0
STATUS:CONFIRMED
SUMMARY:8-10-Rnd 3: SS Crystal (0) vs NB Tigers (5)
TRANSP:OPAQUE
END:VEVENT
BEGIN:VEVENT
DTSTART:20180811T114500
DTEND:20180811T122500
DTSTAMP:20180804T072132Z
UID:a78f8ec82b86df5eee27442773b3103d@pvna.com.au
CREATED:20180804T072132Z
DESCRIPTION:2018 Spring Section:8-10s\nRound:Rnd 4\n\nCurrent Ladder:\nTeam            P  W  L  D  Pts\nGolden Girls    3  3  0  0  12\nAwesome Angels 8-10s1 3  2  1  0  8 \nNB Tigers       3  1  2  0  4 \nSS Crystal      3  0  3  0  0 \n
LAST-MODIFIED:20180804T072132Z
LOCATION:Court: 4
SEQUENCE:0
STATUS:CONFIRMED
SUMMARY:8-10-Rnd 4: Golden Girls vs SS Crystal
TRANSP:OPAQUE
END:VEVENT
BEGIN:VEVENT
DTSTART:20180818T110000
DTEND:20180818T114500
DTSTAMP:20180804T072132Z
UID:b101d69b1db2ec0c815fd07948bea043@pvna.com.au
CREATED:20180804T072132Z
DESCRIPTION:2018 Spring Section:8-10s\nRound:Rnd 5
LAST-MODIFIED:20180804T072132Z
LOCATION:Court: 4
SEQUENCE:0
STATUS:CONFIRMED
SUMMARY:8-10-Rnd 5: SS Crystal vs Awesome Angels 8-10s1
TRANSP:OPAQUE
END:VEVENT
BEGIN:VEVENT
DTSTART:20180825T084500
DTEND:20180825T092500
DTSTAMP:20180804T072132Z
UID:27c3ff55451610c274831b52edbe9169@pvna.com.au
CREATED:20180804T072132Z
DESCRIPTION:2018 Spring Section:8-10s\nRound:Rnd 6
LAST-MODIFIED:20180804T072132Z
LOCATION:Court: 4
SEQUENCE:0
STATUS:CONFIRMED
SUMMARY:8-10-Rnd 6: SS Crystal vs NB Tigers
TRANSP:OPAQUE
END:VEVENT
BEGIN:VEVENT
DTSTART:20180908T114500
DTEND:20180908T122500
DTSTAMP:20180804T072132Z
UID:bc33a003bd6614b23a552a9ba96eea39@pvna.com.au
CREATED:20180804T072132Z
DESCRIPTION:2018 Spring Section:8-10s\nRound:Rnd 8
LAST-MODIFIED:20180804T072132Z
LOCATION:Court: 4
SEQUENCE:0
STATUS:CONFIRMED
SUMMARY:8-10-Rnd 8: Golden Girls vs SS Crystal
TRANSP:OPAQUE
END:VEVENT
BEGIN:VEVENT
DTSTART:20180915T110000
DTEND:20180915T114500
DTSTAMP:20180804T072132Z
UID:790e76563ee48d383cc6db47bdb512f3@pvna.com.au
CREATED:20180804T072132Z
DESCRIPTION:2018 Spring Section:8-10s\nRound:Rnd 9
LAST-MODIFIED:20180804T072132Z
LOCATION:Court: 4
SEQUENCE:0
STATUS:CONFIRMED
SUMMARY:8-10-Rnd 9: SS Crystal vs Awesome Angels 8-10s1
TRANSP:OPAQUE
END:VEVENT
BEGIN:VEVENT
DTSTART:20180922T084500
DTEND:20180922T092500
DTSTAMP:20180804T072132Z
UID:111c94bf09625b36cea13ad59a0cf7eb@pvna.com.au
CREATED:20180804T072132Z
DESCRIPTION:2018 Spring Section:8-10s\nRound:Rnd 10
LAST-MODIFIED:20180804T072132Z
LOCATION:Court: 4
SEQUENCE:0
STATUS:CONFIRMED
SUMMARY:8-10-Rnd 10: SS Crystal vs NB Tigers
TRANSP:OPAQUE
END:VEVENT
BEGIN:VEVENT
DTSTART:20181006T084500
DTEND:20181006T092500
DTSTAMP:20180804T072132Z
UID:9ef632685b5d3f1ff31dd77797394062@pvna.com.au
CREATED:20180804T072132Z
DESCRIPTION:2018 Spring Section:8-10s\nRound:Rnd 12
LAST-MODIFIED:20180804T072132Z
LOCATION:Court: 2
SEQUENCE:0
STATUS:CONFIRMED
SUMMARY:8-10-Rnd 12: Golden Girls vs SS Crystal
TRANSP:OPAQUE
END:VEVENT
BEGIN:VEVENT
DTSTART:20181013T084500
DTEND:20181013T092500
DTSTAMP:20180804T072132Z
UID:b903c379d78720fd541de19b5a8935ad@pvna.com.au
CREATED:20180804T072132Z
DESCRIPTION:2018 Spring Section:8-10s\nRound:Rnd 13
LAST-MODIFIED:20180804T072132Z
LOCATION:Court: 2
SEQUENCE:0
STATUS:CONFIRMED
SUMMARY:8-10-Rnd 13: SS Crystal vs Awesome Angels 8-10s1
TRANSP:OPAQUE
END:VEVENT
BEGIN:VEVENT
DTSTART:20181020T084500
DTEND:20181020T092500
DTSTAMP:20180804T072132Z
UID:122dbfb417172d7ce9dbf2a1c450e8dd@pvna.com.au
CREATED:20180804T072132Z
DESCRIPTION:2018 Spring Section:8-10s\nRound:Rnd 14
LAST-MODIFIED:20180804T072132Z
LOCATION:Court: 2
SEQUENCE:0
STATUS:CONFIRMED
SUMMARY:8-10-Rnd 14: SS Crystal vs NB Tigers
TRANSP:OPAQUE
END:VEVENT
BEGIN:VEVENT
DTSTART:20181103T084500
DTEND:20181103T092500
DTSTAMP:20180804T072132Z
UID:18d31e1f90b0a17c4a87e92ca507f348@pvna.com.au
CREATED:20180804T072132Z
DESCRIPTION:2018 Spring Section:8-10s\nRound:Rnd 16
LAST-MODIFIED:20180804T072132Z
LOCATION:Court: 2
SEQUENCE:0
STATUS:CONFIRMED
SUMMARY:8-10-Rnd 16: Golden Girls vs SS Crystal
TRANSP:OPAQUE
END:VEVENT
BEGIN:VEVENT
DTSTART:20181110T084500
DTEND:20181110T092500
DTSTAMP:20180804T072132Z
UID:36b5a56d6fe2dd0ecab10c4fad435178@pvna.com.au
CREATED:20180804T072132Z
DESCRIPTION:2018 Spring Section:8-10s\nRound:Rnd 17
LAST-MODIFIED:20180804T072132Z
LOCATION:Court: 2
SEQUENCE:0
STATUS:CONFIRMED
SUMMARY:8-10-Rnd 17: SS Crystal vs Awesome Angels 8-10s1
TRANSP:OPAQUE
END:VEVENT
BEGIN:VEVENT
DTSTART:20181117T084500
DTEND:20181117T092500
DTSTAMP:20180804T072132Z
UID:9e02c717b8176d9132bfbcebf713f942@pvna.com.au
CREATED:20180804T072132Z
DESCRIPTION:2018 Spring Section:8-10s\nRound:Rnd 18
LAST-MODIFIED:20180804T072132Z
LOCATION:Court: 2
SEQUENCE:0
STATUS:CONFIRMED
SUMMARY:8-10-Rnd 18: SS Crystal vs NB Tigers
TRANSP:OPAQUE
END:VEVENT
END:VCALENDAR
