BEGIN:VCALENDAR
PRODID:-//Google Inc//Google Calendar 70.9054//EN
VERSION:2.0
CALSCALE:GREGORIAN
METHOD:PUBLISH
X-WR-CALNAME:PV Comets SS Crystals
X-WR-TIMEZONE:Australia/Sydney
X-WR-CALDESC:PV Comets Parkville Calendars
BEGIN:VEVENT
DTSTART:20180721T101500
DTEND:20180721T105500
DTSTAMP:20181215T114445Z
UID:b66a21d405baf658f72f5870355fbda1@pvna.com.au
CREATED:20181215T194445Z
DESCRIPTION:2018 Spring Section:8-10s\nRound:Rnd 1
LAST-MODIFIED:20181215T194445Z
LOCATION:Court: 4
SEQUENCE:0
STATUS:CONFIRMED
SUMMARY:8-10-Rnd 1: Golden Girls (10) vs SS Crystals (1)
TRANSP:OPAQUE
END:VEVENT
BEGIN:VEVENT
DTSTART:20180728T114500
DTEND:20180728T122500
DTSTAMP:20181215T114445Z
UID:7cc8bf94bbd192f216f791e55dce0f67@pvna.com.au
CREATED:20181215T194445Z
DESCRIPTION:2018 Spring Section:8-10s\nRound:Rnd 2
LAST-MODIFIED:20181215T194445Z
LOCATION:Court: 1
SEQUENCE:0
STATUS:CONFIRMED
SUMMARY:8-10-Rnd 2: SS Crystals (1) vs Awesome Angels 8-10s1 (10)
TRANSP:OPAQUE
END:VEVENT
BEGIN:VEVENT
DTSTART:20180804T084500
DTEND:20180804T092500
DTSTAMP:20181215T114445Z
UID:8c1bf39b8c9a5059d0f6ec8f27407f4c@pvna.com.au
CREATED:20181215T194445Z
DESCRIPTION:2018 Spring Section:8-10s\nRound:Rnd 3
LAST-MODIFIED:20181215T194445Z
LOCATION:Court: 5
SEQUENCE:0
STATUS:CONFIRMED
SUMMARY:8-10-Rnd 3: SS Crystals (0) vs NB Tigers (5)
TRANSP:OPAQUE
END:VEVENT
BEGIN:VEVENT
DTSTART:20180811T093000
DTEND:20180811T101000
DTSTAMP:20181215T114445Z
UID:89f3528360569abd628bf525ed5dccca@pvna.com.au
CREATED:20181215T194445Z
DESCRIPTION:2018 Spring Section:8-10s\nRound:Rnd 4
LAST-MODIFIED:20181215T194445Z
LOCATION:Court: 4
SEQUENCE:0
STATUS:CONFIRMED
SUMMARY:8-10-Rnd 4: Golden Girls (15) vs SS Crystals (1)
TRANSP:OPAQUE
END:VEVENT
BEGIN:VEVENT
DTSTART:20180818T110000
DTEND:20180818T114500
DTSTAMP:20181215T114445Z
UID:e5b36d1d2aa57395a1244fa159b09503@pvna.com.au
CREATED:20181215T194445Z
DESCRIPTION:2018 Spring Section:8-10s\nRound:Rnd 5
LAST-MODIFIED:20181215T194445Z
LOCATION:Court: 4
SEQUENCE:0
STATUS:CONFIRMED
SUMMARY:8-10-Rnd 5: SS Crystals (2) vs Awesome Angels 8-10s1 (13)
TRANSP:OPAQUE
END:VEVENT
BEGIN:VEVENT
DTSTART:20180825T093000
DTEND:20180825T101000
DTSTAMP:20181215T114445Z
UID:9b2276dd50c428cad74f4c0861a71108@pvna.com.au
CREATED:20181215T194445Z
DESCRIPTION:2018 Spring Section:8-10s\nRound:Rnd 6
LAST-MODIFIED:20181215T194445Z
LOCATION:Court: 4
SEQUENCE:0
STATUS:CONFIRMED
SUMMARY:8-10-Rnd 6: SS Crystals (3) vs NB Tigers (4)
TRANSP:OPAQUE
END:VEVENT
BEGIN:VEVENT
DTSTART:20180901T114500
DTEND:20180901T122500
DTSTAMP:20181215T114445Z
UID:852528c20820f458fc02979355afead8@pvna.com.au
CREATED:20181215T194445Z
DESCRIPTION:2018 Spring Section:8-10s\nRound:Rnd 7
LAST-MODIFIED:20181215T194445Z
LOCATION:Court: 5
SEQUENCE:0
STATUS:CONFIRMED
SUMMARY:8-10-Rnd 7: Golden Girls (23) vs SS Crystals (0)
TRANSP:OPAQUE
END:VEVENT
BEGIN:VEVENT
DTSTART:20180908T101500
DTEND:20180908T105500
DTSTAMP:20181215T114445Z
UID:bad480e38fb1cf5263bb88fd7e6b5c99@pvna.com.au
CREATED:20181215T194445Z
DESCRIPTION:2018 Spring Section:8-10s\nRound:Rnd 8
LAST-MODIFIED:20181215T194445Z
LOCATION:Court: 4
SEQUENCE:0
STATUS:CONFIRMED
SUMMARY:8-10-Rnd 8: Awesome Angels 8-10s1 (13) vs SS Crystals (0)
TRANSP:OPAQUE
END:VEVENT
BEGIN:VEVENT
DTSTART:20180915T123000
DTEND:20180915T131000
DTSTAMP:20181215T114445Z
UID:72ff8fec2c96f86f763dc62d093d1808@pvna.com.au
CREATED:20181215T194445Z
DESCRIPTION:2018 Spring Section:8-10s\nRound:Rnd 9
LAST-MODIFIED:20181215T194445Z
LOCATION:Court: 3
SEQUENCE:0
STATUS:CONFIRMED
SUMMARY:8-10-Rnd 9: NB Tigers (9) vs SS Crystals (4)
TRANSP:OPAQUE
END:VEVENT
BEGIN:VEVENT
DTSTART:20180922T101500
DTEND:20180922T105500
DTSTAMP:20181215T114445Z
UID:45e8941f0946df6ad0a49c9abe6216ff@pvna.com.au
CREATED:20181215T194445Z
DESCRIPTION:2018 Spring Section:8-10s\nRound:Rnd 10
LAST-MODIFIED:20181215T194445Z
LOCATION:Court: 4
SEQUENCE:0
STATUS:CONFIRMED
SUMMARY:8-10-Rnd 10: SS Crystals (0) vs Golden Girls (16)
TRANSP:OPAQUE
END:VEVENT
BEGIN:VEVENT
DTSTART:20181013T114500
DTEND:20181013T122500
DTSTAMP:20181215T114445Z
UID:1a6e19637b9252ba1307dd553ea9a2be@pvna.com.au
CREATED:20181215T194445Z
DESCRIPTION:2018 Spring Section:8-10s\nRound:Rnd 11
LAST-MODIFIED:20181215T194445Z
LOCATION:Court: 4
SEQUENCE:0
STATUS:CONFIRMED
SUMMARY:8-10-Rnd 11: SS Crystals (2) vs Awesome Angels 8-10s1 (14)
TRANSP:OPAQUE
END:VEVENT
BEGIN:VEVENT
DTSTART:20181020T084500
DTEND:20181020T092500
DTSTAMP:20181215T114445Z
UID:95911d3c2b23cded6714873e702622bf@pvna.com.au
CREATED:20181215T194445Z
DESCRIPTION:2018 Spring Section:8-10s\nRound:Rnd 12
LAST-MODIFIED:20181215T194445Z
LOCATION:Court: 4
SEQUENCE:0
STATUS:CONFIRMED
SUMMARY:8-10-Rnd 12: NB Tigers (5) vs SS Crystals (9)
TRANSP:OPAQUE
END:VEVENT
BEGIN:VEVENT
DTSTART:20181027T114500
DTEND:20181027T122500
DTSTAMP:20181215T114445Z
UID:117e2cea99e17dc423a8a56e29290a09@pvna.com.au
CREATED:20181215T194445Z
DESCRIPTION:2018 Spring Section:8-10s\nRound:Rnd 13
LAST-MODIFIED:20181215T194445Z
LOCATION:Court: 4
SEQUENCE:0
STATUS:CONFIRMED
SUMMARY:8-10-Rnd 13: SS Crystals (1) vs Golden Girls (19)
TRANSP:OPAQUE
END:VEVENT
BEGIN:VEVENT
DTSTART:20181110T123000
DTEND:20181110T131000
DTSTAMP:20181215T114445Z
UID:7be2ee487322b9d323e64dd0e6c0a986@pvna.com.au
CREATED:20181215T194445Z
DESCRIPTION:2018 Spring Section:8-10s\nRound:Rnd 14
LAST-MODIFIED:20181215T194445Z
LOCATION:Court: 3
SEQUENCE:0
STATUS:CONFIRMED
SUMMARY:8-10-Rnd 14: SS Crystals (5) vs Awesome Angels 8-10s1 (15)
TRANSP:OPAQUE
END:VEVENT
BEGIN:VEVENT
DTSTART:20181117T101500
DTEND:20181117T105500
DTSTAMP:20181215T114445Z
UID:9a101f7ad76dc8f194fa9d2c68c43556@pvna.com.au
CREATED:20181215T194445Z
DESCRIPTION:2018 Spring Section:8-10s\nRound:Rnd 15
LAST-MODIFIED:20181215T194445Z
LOCATION:Court: 4
SEQUENCE:0
STATUS:CONFIRMED
SUMMARY:8-10-Rnd 15: NB Tigers (8) vs SS Crystals (9)
TRANSP:OPAQUE
END:VEVENT
BEGIN:VEVENT
DTSTART:20181124T094500
DTEND:20181124T102500
DTSTAMP:20181215T114445Z
UID:2084bb9af5a1ec7456a05083c34f9841@pvna.com.au
CREATED:20181215T194445Z
DESCRIPTION:2018 Spring Section:8-10s\nRound:Rnd 16
LAST-MODIFIED:20181215T194445Z
LOCATION:Court: 4
SEQUENCE:0
STATUS:CONFIRMED
SUMMARY:8-10-Rnd 16: Golden Girls (25) vs SS Crystals (2)
TRANSP:OPAQUE
END:VEVENT
BEGIN:VEVENT
DTSTART:20181201T113000
DTEND:20181201T102500
DTSTAMP:20181215T114445Z
UID:c59abd5603d2e0e4c79d12ddde3c0482@pvna.com.au
CREATED:20181215T194445Z
DESCRIPTION:2018 Spring Section:8-10s\nRound:Rnd 17
LAST-MODIFIED:20181215T194445Z
LOCATION:Court: 2
SEQUENCE:0
STATUS:CONFIRMED
SUMMARY:8-10-Rnd 17: SS Crystals (1) vs Awesome Angels 8-10s1 (6)
TRANSP:OPAQUE
END:VEVENT
BEGIN:VEVENT
DTSTART:20181208T120000
DTEND:20181208T124000
DTSTAMP:20181215T114445Z
UID:e3a938ba275af63e3582f6a54c37f460@pvna.com.au
CREATED:20181215T194445Z
DESCRIPTION:2018 Spring Section:8-10s\nRound:Rnd 18
LAST-MODIFIED:20181215T194445Z
LOCATION:Court: 2
SEQUENCE:0
STATUS:CONFIRMED
SUMMARY:8-10-Rnd 18: SS Crystals (12) vs NB Tigers (5)
TRANSP:OPAQUE
END:VEVENT
END:VCALENDAR
