BEGIN:VCALENDAR
PRODID:-//Google Inc//Google Calendar 70.9054//EN
VERSION:2.0
CALSCALE:GREGORIAN
METHOD:PUBLISH
X-WR-CALNAME:PV Comets SS Sparks
X-WR-TIMEZONE:Australia/Sydney
X-WR-CALDESC:PV Comets Parkville Calendars
BEGIN:VEVENT
DTSTART:20180721T101500
DTEND:20180721T105500
DTSTAMP:20181215T114445Z
UID:c1f68825a9a60be19222916738fb6130@pvna.com.au
CREATED:20181215T194445Z
DESCRIPTION:2018 Spring Section:15&Under\nRound:Rnd 1
LAST-MODIFIED:20181215T194445Z
LOCATION:Court: 3
SEQUENCE:0
STATUS:CONFIRMED
SUMMARY:15&U-Rnd 1: SS Sparks (34) vs Devils (17)
TRANSP:OPAQUE
END:VEVENT
BEGIN:VEVENT
DTSTART:20180728T110000
DTEND:20180728T114500
DTSTAMP:20181215T114445Z
UID:ac7ab141ce863d6288a914d14ca5776f@pvna.com.au
CREATED:20181215T194445Z
DESCRIPTION:2018 Spring Section:15&Under\nRound:Rnd 2
LAST-MODIFIED:20181215T194445Z
LOCATION:Court: 99
SEQUENCE:0
STATUS:CONFIRMED
SUMMARY:15&U-Rnd 2: SS Sparks vs BYE
TRANSP:OPAQUE
END:VEVENT
BEGIN:VEVENT
DTSTART:20180804T101500
DTEND:20180804T105500
DTSTAMP:20181215T114445Z
UID:146f2c148b31d2eec16f7d8a1da41784@pvna.com.au
CREATED:20181215T194445Z
DESCRIPTION:2018 Spring Section:15&Under\nRound:Rnd 3
LAST-MODIFIED:20181215T194445Z
LOCATION:Court: 3
SEQUENCE:0
STATUS:CONFIRMED
SUMMARY:15&U-Rnd 3: Wildcats 15s (14) vs SS Sparks (33)
TRANSP:OPAQUE
END:VEVENT
BEGIN:VEVENT
DTSTART:20180811T101500
DTEND:20180811T105500
DTSTAMP:20181215T114445Z
UID:f5cf27f4c91844873956d303e437ca28@pvna.com.au
CREATED:20181215T194445Z
DESCRIPTION:2018 Spring Section:15&Under\nRound:Rnd 4
LAST-MODIFIED:20181215T194445Z
LOCATION:Court: 3
SEQUENCE:0
STATUS:CONFIRMED
SUMMARY:15&U-Rnd 4: SS Sparks (27) vs NB Lions (12)
TRANSP:OPAQUE
END:VEVENT
BEGIN:VEVENT
DTSTART:20180818T093000
DTEND:20180818T101000
DTSTAMP:20181215T114445Z
UID:ea507a672c711b130d6982c2c987b9cd@pvna.com.au
CREATED:20181215T194445Z
DESCRIPTION:2018 Spring Section:15&Under\nRound:Rnd 5
LAST-MODIFIED:20181215T194445Z
LOCATION:Court: 3
SEQUENCE:0
STATUS:CONFIRMED
SUMMARY:15&U-Rnd 5: Thunderbolts (10) vs SS Sparks (29)
TRANSP:OPAQUE
END:VEVENT
BEGIN:VEVENT
DTSTART:20180825T110000
DTEND:20180825T114500
DTSTAMP:20181215T114445Z
UID:2c40a2584d5b5d0c1e180f51b77dfb5b@pvna.com.au
CREATED:20181215T194445Z
DESCRIPTION:2018 Spring Section:15&Under\nRound:Rnd 6
LAST-MODIFIED:20181215T194445Z
LOCATION:Court: 1
SEQUENCE:0
STATUS:CONFIRMED
SUMMARY:15&U-Rnd 6: Power (16) vs SS Sparks (29)
TRANSP:OPAQUE
END:VEVENT
BEGIN:VEVENT
DTSTART:20180901T101500
DTEND:20180901T105500
DTSTAMP:20181215T114445Z
UID:53d8ef867819cd8629b7e4428315a6b6@pvna.com.au
CREATED:20181215T194445Z
DESCRIPTION:2018 Spring Section:15&Under\nRound:Rnd 7
LAST-MODIFIED:20181215T194445Z
LOCATION:Court: 3
SEQUENCE:0
STATUS:CONFIRMED
SUMMARY:15&U-Rnd 7: SS Sparks (36) vs Firestorm (15)
TRANSP:OPAQUE
END:VEVENT
BEGIN:VEVENT
DTSTART:20180908T101500
DTEND:20180908T105500
DTSTAMP:20181215T114445Z
UID:0006f46d7b9b35efea8e63521524675f@pvna.com.au
CREATED:20181215T194445Z
DESCRIPTION:2018 Spring Section:15&Under\nRound:Rnd 8
LAST-MODIFIED:20181215T194445Z
LOCATION:Court: 3
SEQUENCE:0
STATUS:CONFIRMED
SUMMARY:15&U-Rnd 8: SS Sparks (39) vs Devils (12)
TRANSP:OPAQUE
END:VEVENT
BEGIN:VEVENT
DTSTART:20180915T114500
DTEND:20180915T122500
DTSTAMP:20181215T114445Z
UID:7c92d57623ff7f74037250624a3b2823@pvna.com.au
CREATED:20181215T194445Z
DESCRIPTION:2018 Spring Section:15&Under\nRound:Rnd 9
LAST-MODIFIED:20181215T194445Z
LOCATION:Court: 99
SEQUENCE:0
STATUS:CONFIRMED
SUMMARY:15&U-Rnd 9: SS Sparks vs BYE
TRANSP:OPAQUE
END:VEVENT
BEGIN:VEVENT
DTSTART:20180922T093000
DTEND:20180922T101000
DTSTAMP:20181215T114445Z
UID:237c6787f2cd1ba3382b3560496415cd@pvna.com.au
CREATED:20181215T194445Z
DESCRIPTION:2018 Spring Section:15&Under\nRound:Rnd 10
LAST-MODIFIED:20181215T194445Z
LOCATION:Court: 3
SEQUENCE:0
STATUS:CONFIRMED
SUMMARY:15&U-Rnd 10: Wildcats 15s (9) vs SS Sparks (37)
TRANSP:OPAQUE
END:VEVENT
BEGIN:VEVENT
DTSTART:20181013T114500
DTEND:20181013T122500
DTSTAMP:20181215T114445Z
UID:c992ae88b2b9e529f0c3dd1b33ff6eb0@pvna.com.au
CREATED:20181215T194445Z
DESCRIPTION:2018 Spring Section:15&Under\nRound:Rnd 11
LAST-MODIFIED:20181215T194445Z
LOCATION:Court: 2
SEQUENCE:0
STATUS:CONFIRMED
SUMMARY:15&U-Rnd 11: SS Sparks (34) vs NB Lions (18)
TRANSP:OPAQUE
END:VEVENT
BEGIN:VEVENT
DTSTART:20181020T101500
DTEND:20181020T105500
DTSTAMP:20181215T114445Z
UID:f624dca83ee9eccb825e31a65a60b944@pvna.com.au
CREATED:20181215T194445Z
DESCRIPTION:2018 Spring Section:15&Under\nRound:Rnd 12
LAST-MODIFIED:20181215T194445Z
LOCATION:Court: 3
SEQUENCE:0
STATUS:CONFIRMED
SUMMARY:15&U-Rnd 12: Thunderbolts (14) vs SS Sparks (36)
TRANSP:OPAQUE
END:VEVENT
BEGIN:VEVENT
DTSTART:20181027T101500
DTEND:20181027T105500
DTSTAMP:20181215T114445Z
UID:f66e2f0f1895ba7b0e2581314bdda564@pvna.com.au
CREATED:20181215T194445Z
DESCRIPTION:2018 Spring Section:15&Under\nRound:Rnd 13
LAST-MODIFIED:20181215T194445Z
LOCATION:Court: 3
SEQUENCE:0
STATUS:CONFIRMED
SUMMARY:15&U-Rnd 13: Power (4) vs SS Sparks (46)
TRANSP:OPAQUE
END:VEVENT
BEGIN:VEVENT
DTSTART:20181110T101500
DTEND:20181110T105500
DTSTAMP:20181215T114445Z
UID:a6bf8d1ae83b469c796c8c0342b38d54@pvna.com.au
CREATED:20181215T194445Z
DESCRIPTION:2018 Spring Section:15&Under\nRound:Rnd 14
LAST-MODIFIED:20181215T194445Z
LOCATION:Court: 3
SEQUENCE:0
STATUS:CONFIRMED
SUMMARY:15&U-Rnd 14: SS Sparks (19) vs Firestorm (11)
TRANSP:OPAQUE
END:VEVENT
BEGIN:VEVENT
DTSTART:20181117T101500
DTEND:20181117T105500
DTSTAMP:20181215T114445Z
UID:0300f03d9ae8eedf5fd32fcf7cc2d1c5@pvna.com.au
CREATED:20181215T194445Z
DESCRIPTION:2018 Spring Section:15&Under\nRound:Rnd 15
LAST-MODIFIED:20181215T194445Z
LOCATION:Court: 3
SEQUENCE:0
STATUS:CONFIRMED
SUMMARY:15&U-Rnd 15: SS Sparks (38) vs Devils (17)
TRANSP:OPAQUE
END:VEVENT
BEGIN:VEVENT
DTSTART:20181124T090000
DTEND:20181124T094000
DTSTAMP:20181215T114445Z
UID:78cd540f97bbb046c4f25a3efd3b7728@pvna.com.au
CREATED:20181215T194445Z
DESCRIPTION:2018 Spring Section:15&Under\nRound:Semi
LAST-MODIFIED:20181215T194445Z
LOCATION:Court: 2
SEQUENCE:0
STATUS:CONFIRMED
SUMMARY:15&U-Semi: SS Sparks (33) vs Firestorm (12)
TRANSP:OPAQUE
END:VEVENT
BEGIN:VEVENT
DTSTART:20181208T100000
DTEND:20181208T094000
DTSTAMP:20181215T114445Z
UID:bb402441c508aef9fc388769405249e3@pvna.com.au
CREATED:20181215T194445Z
DESCRIPTION:2018 Spring Section:15&Under\nRound:Grand
LAST-MODIFIED:20181215T194445Z
LOCATION:Court: 3
SEQUENCE:0
STATUS:CONFIRMED
SUMMARY:15&U-Grand: SS Sparks (28) vs Firestorm (19)
TRANSP:OPAQUE
END:VEVENT
END:VCALENDAR
