BEGIN:VCALENDAR
PRODID:-//Google Inc//Google Calendar 70.9054//EN
VERSION:2.0
CALSCALE:GREGORIAN
METHOD:PUBLISH
X-WR-CALNAME:PV Comets SS Strikers
X-WR-TIMEZONE:Australia/Sydney
X-WR-CALDESC:PV Comets Parkville Calendars
BEGIN:VEVENT
DTSTART:20180721T114500
DTEND:20180721T122500
DTSTAMP:20181215T114445Z
UID:f6919b2ceef8fc5dfc61cb54ef1db03c@pvna.com.au
CREATED:20181215T194445Z
DESCRIPTION:2018 Spring Section:15&U Res\nRound:Rnd 1
LAST-MODIFIED:20181215T194445Z
LOCATION:Court: 1
SEQUENCE:0
STATUS:CONFIRMED
SUMMARY:15&U-Rnd 1: SS Strikers (6) vs Power (18)
TRANSP:OPAQUE
END:VEVENT
BEGIN:VEVENT
DTSTART:20180728T110000
DTEND:20180728T114500
DTSTAMP:20181215T114445Z
UID:7aab0542f1ebb34a448097f8fb608895@pvna.com.au
CREATED:20181215T194445Z
DESCRIPTION:2018 Spring Section:15&U Res\nRound:Rnd 2
LAST-MODIFIED:20181215T194445Z
LOCATION:Court: 4
SEQUENCE:0
STATUS:CONFIRMED
SUMMARY:15&U-Rnd 2: Awesome Angels 15s2 (11) vs SS Strikers (13)
TRANSP:OPAQUE
END:VEVENT
BEGIN:VEVENT
DTSTART:20180804T114500
DTEND:20180804T122500
DTSTAMP:20181215T114445Z
UID:a0617348c400a61868e1d7f5403be35c@pvna.com.au
CREATED:20181215T194445Z
DESCRIPTION:2018 Spring Section:15&U Res\nRound:Rnd 3
LAST-MODIFIED:20181215T194445Z
LOCATION:Court: 2
SEQUENCE:0
STATUS:CONFIRMED
SUMMARY:15&U-Rnd 3: SS Strikers (17) vs Awesome Angels 15s1 (16)
TRANSP:OPAQUE
END:VEVENT
BEGIN:VEVENT
DTSTART:20180811T114500
DTEND:20180811T122500
DTSTAMP:20181215T114445Z
UID:df334366133b2266206cee94241cfefc@pvna.com.au
CREATED:20181215T194445Z
DESCRIPTION:2018 Spring Section:15&U Res\nRound:Rnd 4
LAST-MODIFIED:20181215T194445Z
LOCATION:Court: 1
SEQUENCE:0
STATUS:CONFIRMED
SUMMARY:15&U-Rnd 4: SS Strikers (3) vs Power (26)
TRANSP:OPAQUE
END:VEVENT
BEGIN:VEVENT
DTSTART:20180818T101500
DTEND:20180818T105500
DTSTAMP:20181215T114445Z
UID:f63e0ac61a3966db13393852340587d6@pvna.com.au
CREATED:20181215T194445Z
DESCRIPTION:2018 Spring Section:15&U Res\nRound:Rnd 5
LAST-MODIFIED:20181215T194445Z
LOCATION:Court: 2
SEQUENCE:0
STATUS:CONFIRMED
SUMMARY:15&U-Rnd 5: Awesome Angels 15s2 (8) vs SS Strikers (14)
TRANSP:OPAQUE
END:VEVENT
BEGIN:VEVENT
DTSTART:20180825T101500
DTEND:20180825T105500
DTSTAMP:20181215T114445Z
UID:6762bb8f487db0cb14bff76716e62e94@pvna.com.au
CREATED:20181215T194445Z
DESCRIPTION:2018 Spring Section:15&U Res\nRound:Rnd 6
LAST-MODIFIED:20181215T194445Z
LOCATION:Court: 3
SEQUENCE:0
STATUS:CONFIRMED
SUMMARY:15&U-Rnd 6: SS Strikers (19) vs Awesome Angels 15s1 (20)
TRANSP:OPAQUE
END:VEVENT
BEGIN:VEVENT
DTSTART:20180901T123000
DTEND:20180901T131000
DTSTAMP:20181215T114445Z
UID:2fe21b8f75f04e90addf589c69b90d2d@pvna.com.au
CREATED:20181215T194445Z
DESCRIPTION:2018 Spring Section:15&U Res\nRound:Rnd 7
LAST-MODIFIED:20181215T194445Z
LOCATION:Court: 3
SEQUENCE:0
STATUS:CONFIRMED
SUMMARY:15&U-Rnd 7: SS Strikers (4) vs SS Saphires (32)
TRANSP:OPAQUE
END:VEVENT
BEGIN:VEVENT
DTSTART:20180908T114500
DTEND:20180908T122500
DTSTAMP:20181215T114445Z
UID:97f7209dd52ad8d72e4224c924e3a7c4@pvna.com.au
CREATED:20181215T194445Z
DESCRIPTION:2018 Spring Section:15&U Res\nRound:Rnd 8
LAST-MODIFIED:20181215T194445Z
LOCATION:Court: 2
SEQUENCE:0
STATUS:CONFIRMED
SUMMARY:15&U-Rnd 8: SS Strikers (9) vs Awesome Angels 15s2 (23)
TRANSP:OPAQUE
END:VEVENT
BEGIN:VEVENT
DTSTART:20180915T110000
DTEND:20180915T114500
DTSTAMP:20181215T114445Z
UID:fe8263a50c2b1b3589781f4e306c9198@pvna.com.au
CREATED:20181215T194445Z
DESCRIPTION:2018 Spring Section:15&U Res\nRound:Rnd 9
LAST-MODIFIED:20181215T194445Z
LOCATION:Court: 2
SEQUENCE:0
STATUS:CONFIRMED
SUMMARY:15&U-Rnd 9: Awesome Angels 15s1 (23) vs SS Strikers (16)
TRANSP:OPAQUE
END:VEVENT
BEGIN:VEVENT
DTSTART:20180922T110000
DTEND:20180922T114500
DTSTAMP:20181215T114445Z
UID:849fda0490ad78564173dbd9ab3dacd4@pvna.com.au
CREATED:20181215T194445Z
DESCRIPTION:2018 Spring Section:15&U Res\nRound:Rnd 10
LAST-MODIFIED:20181215T194445Z
LOCATION:Court: 99
SEQUENCE:0
STATUS:CONFIRMED
SUMMARY:15&U-Rnd 10: SS Strikers vs BYE
TRANSP:OPAQUE
END:VEVENT
BEGIN:VEVENT
DTSTART:20181013T110000
DTEND:20181013T114500
DTSTAMP:20181215T114445Z
UID:2f6464b3109c9aed6141cfb8e6731f00@pvna.com.au
CREATED:20181215T194445Z
DESCRIPTION:2018 Spring Section:15&U Res\nRound:Rnd 11
LAST-MODIFIED:20181215T194445Z
LOCATION:Court: 2
SEQUENCE:0
STATUS:CONFIRMED
SUMMARY:15&U-Rnd 11: Awesome Angels 15s2 (18) vs SS Strikers (20)
TRANSP:OPAQUE
END:VEVENT
BEGIN:VEVENT
DTSTART:20181020T114500
DTEND:20181020T122500
DTSTAMP:20181215T114445Z
UID:b20e85ef5f525a1c22ceadb2fef41355@pvna.com.au
CREATED:20181215T194445Z
DESCRIPTION:2018 Spring Section:15&U Res\nRound:Rnd 12
LAST-MODIFIED:20181215T194445Z
LOCATION:Court: 1
SEQUENCE:0
STATUS:CONFIRMED
SUMMARY:15&U-Rnd 12: SS Strikers (15) vs Awesome Angels 15s1 (28)
TRANSP:OPAQUE
END:VEVENT
BEGIN:VEVENT
DTSTART:20181027T101500
DTEND:20181027T105500
DTSTAMP:20181215T114445Z
UID:f39114b6d8ab7c5b6708e79a39d9df4b@pvna.com.au
CREATED:20181215T194445Z
DESCRIPTION:2018 Spring Section:15&U Res\nRound:Rnd 13
LAST-MODIFIED:20181215T194445Z
LOCATION:Court: 2
SEQUENCE:0
STATUS:CONFIRMED
SUMMARY:15&U-Rnd 13: 15&U (31) vs SS Strikers (8)
TRANSP:OPAQUE
END:VEVENT
BEGIN:VEVENT
DTSTART:20181110T084500
DTEND:20181110T092500
DTSTAMP:20181215T114445Z
UID:8b77e7d850985f18f3cb6cb906bcd781@pvna.com.au
CREATED:20181215T194445Z
DESCRIPTION:2018 Spring Section:15&U Res\nRound:Rnd 14
LAST-MODIFIED:20181215T194445Z
LOCATION:Court: 1
SEQUENCE:0
STATUS:CONFIRMED
SUMMARY:15&U-Rnd 14: SS Strikers (21) vs Awesome Angels 15s2 (14)
TRANSP:OPAQUE
END:VEVENT
BEGIN:VEVENT
DTSTART:20181117T114500
DTEND:20181117T122500
DTSTAMP:20181215T114445Z
UID:5298bbca7b11262bcd248c9e97fc9f28@pvna.com.au
CREATED:20181215T194445Z
DESCRIPTION:2018 Spring Section:15&U Res\nRound:Rnd 15
LAST-MODIFIED:20181215T194445Z
LOCATION:Court: 1
SEQUENCE:0
STATUS:CONFIRMED
SUMMARY:15&U-Rnd 15: SS Strikers (10) vs Awesome Angels 15s1 (22)
TRANSP:OPAQUE
END:VEVENT
BEGIN:VEVENT
DTSTART:20181124T103000
DTEND:20181124T111000
DTSTAMP:20181215T114445Z
UID:464e1ba1825de003b91eb48e3f6dcdbc@pvna.com.au
CREATED:20181215T194445Z
DESCRIPTION:2018 Spring Section:15&U Res\nRound:Rnd 16
LAST-MODIFIED:20181215T194445Z
LOCATION:Court: 4
SEQUENCE:0
STATUS:CONFIRMED
SUMMARY:15&U-Rnd 16: Awesome Angels 15s1 (5) vs SS Strikers (8)
TRANSP:OPAQUE
END:VEVENT
BEGIN:VEVENT
DTSTART:20181124T103000
DTEND:20181124T111000
DTSTAMP:20181215T114445Z
UID:1c112d7cad59370f85556f1e81d6fabf@pvna.com.au
CREATED:20181215T194445Z
DESCRIPTION:2018 Spring Section:15&U Res\nRound:Rnd 16
LAST-MODIFIED:20181215T194445Z
LOCATION:Court: 5
SEQUENCE:0
STATUS:CONFIRMED
SUMMARY:15&U-Rnd 16: SS Strikers (10) vs Awesome Angels 15s2 (3)
TRANSP:OPAQUE
END:VEVENT
BEGIN:VEVENT
DTSTART:20181201T095000
DTEND:20181201T111000
DTSTAMP:20181215T114445Z
UID:858e20c2fe40adfb388c82d276a4e5d5@pvna.com.au
CREATED:20181215T194445Z
DESCRIPTION:2018 Spring Section:15&U Res\nRound:Prelim
LAST-MODIFIED:20181215T194445Z
LOCATION:Court: 1
SEQUENCE:0
STATUS:CONFIRMED
SUMMARY:15&U-Prelim: SS Strikers (19) vs Awesome Angels 15s2 (16)
TRANSP:OPAQUE
END:VEVENT
BEGIN:VEVENT
DTSTART:20181208T100000
DTEND:20181208T111000
DTSTAMP:20181215T114445Z
UID:77ef2f81f5e70f5c2fadd399c85e6252@pvna.com.au
CREATED:20181215T194445Z
DESCRIPTION:2018 Spring Section:15&U Res\nRound:Grand
LAST-MODIFIED:20181215T194445Z
LOCATION:Court: 1
SEQUENCE:0
STATUS:CONFIRMED
SUMMARY:15&U-Grand: Awesome Angels 15s1 (29) vs SS Strikers (16)
TRANSP:OPAQUE
END:VEVENT
END:VCALENDAR
