BEGIN:VCALENDAR
PRODID:-//Google Inc//Google Calendar 70.9054//EN
VERSION:2.0
CALSCALE:GREGORIAN
METHOD:PUBLISH
X-WR-CALNAME:PV Comets Storm
X-WR-TIMEZONE:Australia/Sydney
X-WR-CALDESC:PV Comets Parkville Calendars
BEGIN:VEVENT
DTSTART:20180721T101500
DTEND:20180721T105500
DTSTAMP:20181215T114445Z
UID:46caf4fcdd3b7a24c197f4509acae225@pvna.com.au
CREATED:20181215T194445Z
DESCRIPTION:2018 Spring Section:13&Under\nRound:Rnd 1
LAST-MODIFIED:20181215T194445Z
LOCATION:Court: 2
SEQUENCE:0
STATUS:CONFIRMED
SUMMARY:13&U-Rnd 1: Storm (26) vs Roxy Jnr (10)
TRANSP:OPAQUE
END:VEVENT
BEGIN:VEVENT
DTSTART:20180728T101500
DTEND:20180728T105500
DTSTAMP:20181215T114445Z
UID:da4861c1500c4aed6b673cb0c2dfb888@pvna.com.au
CREATED:20181215T194445Z
DESCRIPTION:2018 Spring Section:13&Under\nRound:Rnd 2
LAST-MODIFIED:20181215T194445Z
LOCATION:Court: 4
SEQUENCE:0
STATUS:CONFIRMED
SUMMARY:13&U-Rnd 2: SS Diamonds (7) vs Storm (18)
TRANSP:OPAQUE
END:VEVENT
BEGIN:VEVENT
DTSTART:20180804T110000
DTEND:20180804T114500
DTSTAMP:20181215T114445Z
UID:ad35183f6e0c893abce976c40062d4a5@pvna.com.au
CREATED:20181215T194445Z
DESCRIPTION:2018 Spring Section:13&Under\nRound:Rnd 3
LAST-MODIFIED:20181215T194445Z
LOCATION:Court: 1
SEQUENCE:0
STATUS:CONFIRMED
SUMMARY:13&U-Rnd 3: Storm (36) vs Wildcats 13s (7)
TRANSP:OPAQUE
END:VEVENT
BEGIN:VEVENT
DTSTART:20180811T084500
DTEND:20180811T092500
DTSTAMP:20181215T114445Z
UID:9236ca38d828d2b6262a624400bdc3c2@pvna.com.au
CREATED:20181215T194445Z
DESCRIPTION:2018 Spring Section:13&Under\nRound:Rnd 4
LAST-MODIFIED:20181215T194445Z
LOCATION:Court: 2
SEQUENCE:0
STATUS:CONFIRMED
SUMMARY:13&U-Rnd 4: SS Rubies (27) vs Storm (11)
TRANSP:OPAQUE
END:VEVENT
BEGIN:VEVENT
DTSTART:20180818T110000
DTEND:20180818T114500
DTSTAMP:20181215T114445Z
UID:4f24aa76cd04d9a0aaf04bf5c83763aa@pvna.com.au
CREATED:20181215T194445Z
DESCRIPTION:2018 Spring Section:13&Under\nRound:Rnd 5
LAST-MODIFIED:20181215T194445Z
LOCATION:Court: 1
SEQUENCE:0
STATUS:CONFIRMED
SUMMARY:13&U-Rnd 5: Storm (22) vs NB Cubs (10)
TRANSP:OPAQUE
END:VEVENT
BEGIN:VEVENT
DTSTART:20180825T123000
DTEND:20180825T131000
DTSTAMP:20181215T114445Z
UID:dae64b5e12e37f9edecb2f32d3651ce5@pvna.com.au
CREATED:20181215T194445Z
DESCRIPTION:2018 Spring Section:13&Under\nRound:Rnd 6
LAST-MODIFIED:20181215T194445Z
LOCATION:Court: 3
SEQUENCE:0
STATUS:CONFIRMED
SUMMARY:13&U-Rnd 6: Neon Nightmares 13s (21) vs Storm (10)
TRANSP:OPAQUE
END:VEVENT
BEGIN:VEVENT
DTSTART:20180901T093000
DTEND:20180901T101000
DTSTAMP:20181215T114445Z
UID:2fb737b3d27823c458e8978443983a24@pvna.com.au
CREATED:20181215T194445Z
DESCRIPTION:2018 Spring Section:13&Under\nRound:Rnd 7
LAST-MODIFIED:20181215T194445Z
LOCATION:Court: 2
SEQUENCE:0
STATUS:CONFIRMED
SUMMARY:13&U-Rnd 7: Awesome Angels 13s1 (17) vs Storm (20)
TRANSP:OPAQUE
END:VEVENT
BEGIN:VEVENT
DTSTART:20180908T084500
DTEND:20180908T092500
DTSTAMP:20181215T114445Z
UID:24d3305ce116ce4a053a677a91e1fb0e@pvna.com.au
CREATED:20181215T194445Z
DESCRIPTION:2018 Spring Section:13&Under\nRound:Rnd 8
LAST-MODIFIED:20181215T194445Z
LOCATION:Court: 1
SEQUENCE:0
STATUS:CONFIRMED
SUMMARY:13&U-Rnd 8: Storm (30) vs Roxy Jnr (10)
TRANSP:OPAQUE
END:VEVENT
BEGIN:VEVENT
DTSTART:20180915T084500
DTEND:20180915T092500
DTSTAMP:20181215T114445Z
UID:38a796dd611719c4d054d00d8e614b43@pvna.com.au
CREATED:20181215T194445Z
DESCRIPTION:2018 Spring Section:13&Under\nRound:Rnd 9
LAST-MODIFIED:20181215T194445Z
LOCATION:Court: 1
SEQUENCE:0
STATUS:CONFIRMED
SUMMARY:13&U-Rnd 9: SS Diamonds (20) vs Storm (16)
TRANSP:OPAQUE
END:VEVENT
BEGIN:VEVENT
DTSTART:20180922T110000
DTEND:20180922T114500
DTSTAMP:20181215T114445Z
UID:35a5f4f2cb10dcb00f5da22cd103e011@pvna.com.au
CREATED:20181215T194445Z
DESCRIPTION:2018 Spring Section:13&Under\nRound:Rnd 10
LAST-MODIFIED:20181215T194445Z
LOCATION:Court: 1
SEQUENCE:0
STATUS:CONFIRMED
SUMMARY:13&U-Rnd 10: Storm (23) vs Wildcats 13s (15)
TRANSP:OPAQUE
END:VEVENT
BEGIN:VEVENT
DTSTART:20181013T093000
DTEND:20181013T101000
DTSTAMP:20181215T114445Z
UID:77052ebfd61adc953f6b3ecd6e36bac0@pvna.com.au
CREATED:20181215T194445Z
DESCRIPTION:2018 Spring Section:13&Under\nRound:Rnd 11
LAST-MODIFIED:20181215T194445Z
LOCATION:Court: 1
SEQUENCE:0
STATUS:CONFIRMED
SUMMARY:13&U-Rnd 11: SS Rubies (18) vs Storm (8)
TRANSP:OPAQUE
END:VEVENT
BEGIN:VEVENT
DTSTART:20181020T093000
DTEND:20181020T101000
DTSTAMP:20181215T114445Z
UID:a63b4e1d9a1c2d7e9943751afd0ac934@pvna.com.au
CREATED:20181215T194445Z
DESCRIPTION:2018 Spring Section:13&Under\nRound:Rnd 12
LAST-MODIFIED:20181215T194445Z
LOCATION:Court: 1
SEQUENCE:0
STATUS:CONFIRMED
SUMMARY:13&U-Rnd 12: NB Cubs (4) vs Storm (30)
TRANSP:OPAQUE
END:VEVENT
BEGIN:VEVENT
DTSTART:20181027T114500
DTEND:20181027T122500
DTSTAMP:20181215T114445Z
UID:daff7c05b8385b792e00499c66e4bcba@pvna.com.au
CREATED:20181215T194445Z
DESCRIPTION:2018 Spring Section:13&Under\nRound:Rnd 13
LAST-MODIFIED:20181215T194445Z
LOCATION:Court: 2
SEQUENCE:0
STATUS:CONFIRMED
SUMMARY:13&U-Rnd 13: Neon Nightmares 13s (13) vs Storm (16)
TRANSP:OPAQUE
END:VEVENT
BEGIN:VEVENT
DTSTART:20181110T093000
DTEND:20181110T101000
DTSTAMP:20181215T114445Z
UID:d5499ed470755808c09804c7b2965061@pvna.com.au
CREATED:20181215T194445Z
DESCRIPTION:2018 Spring Section:13&Under\nRound:Rnd 14
LAST-MODIFIED:20181215T194445Z
LOCATION:Court: 1
SEQUENCE:0
STATUS:CONFIRMED
SUMMARY:13&U-Rnd 14: Awesome Angels 13s1 (18) vs Storm (29)
TRANSP:OPAQUE
END:VEVENT
BEGIN:VEVENT
DTSTART:20181117T101500
DTEND:20181117T105500
DTSTAMP:20181215T114445Z
UID:845de0dec8cdf648c1fea72b3743922b@pvna.com.au
CREATED:20181215T194445Z
DESCRIPTION:2018 Spring Section:13&Under\nRound:Rnd 15
LAST-MODIFIED:20181215T194445Z
LOCATION:Court: 1
SEQUENCE:0
STATUS:CONFIRMED
SUMMARY:13&U-Rnd 15: Storm (26) vs Roxy Jnr (21)
TRANSP:OPAQUE
END:VEVENT
BEGIN:VEVENT
DTSTART:20181124T104000
DTEND:20181124T105500
DTSTAMP:20181215T114445Z
UID:f3b9594e1fdce377d8be8b25bb108984@pvna.com.au
CREATED:20181215T194445Z
DESCRIPTION:2018 Spring Section:13&Under\nRound:Semi
LAST-MODIFIED:20181215T194445Z
LOCATION:Court: 2
SEQUENCE:0
STATUS:CONFIRMED
SUMMARY:13&U-Semi: SS Rubies (27) vs Storm (13)
TRANSP:OPAQUE
END:VEVENT
BEGIN:VEVENT
DTSTART:20181201T095000
DTEND:20181201T105500
DTSTAMP:20181215T114445Z
UID:1ca851f6bc99c7c5af9582707d2a9865@pvna.com.au
CREATED:20181215T194445Z
DESCRIPTION:2018 Spring Section:13&Under\nRound:Prelim
LAST-MODIFIED:20181215T194445Z
LOCATION:Court: 2
SEQUENCE:0
STATUS:CONFIRMED
SUMMARY:13&U-Prelim: Roxy Jnr (15) vs Storm (32)
TRANSP:OPAQUE
END:VEVENT
BEGIN:VEVENT
DTSTART:20181208T090000
DTEND:20181208T094000
DTSTAMP:20181215T114445Z
UID:de4a751d565e9aec8d020674e098aa82@pvna.com.au
CREATED:20181215T194445Z
DESCRIPTION:2018 Spring Section:13&Under\nRound:Grand
LAST-MODIFIED:20181215T194445Z
LOCATION:Court: 2
SEQUENCE:0
STATUS:CONFIRMED
SUMMARY:13&U-Grand: SS Rubies (25) vs Storm (26)
TRANSP:OPAQUE
END:VEVENT
END:VCALENDAR
