BEGIN:VCALENDAR
PRODID:-//Google Inc//Google Calendar 70.9054//EN
VERSION:2.0
CALSCALE:GREGORIAN
METHOD:PUBLISH
X-WR-CALNAME:PV Comets Strikers
X-WR-TIMEZONE:Australia/Sydney
X-WR-CALDESC:PV Comets Parkville Calendars
BEGIN:VEVENT
DTSTART:20180203T101500
DTEND:20180203T105500
DTSTAMP:20180701T121634Z
UID:dfd8d2ced8ed1cb4deed41673c7285a5@pvna.com.au
CREATED:20180701T121634Z
DESCRIPTION:2018 Autumn Section:15&Under\nRound:Rnd 1
LAST-MODIFIED:20180701T121634Z
LOCATION:Court: 99
SEQUENCE:0
STATUS:CONFIRMED
SUMMARY:15&U-Rnd 1: Strikers vs BYE
TRANSP:OPAQUE
END:VEVENT
BEGIN:VEVENT
DTSTART:20180210T093000
DTEND:20180210T101000
DTSTAMP:20180701T121634Z
UID:f68a5ff35ea3154aad1890d40f1b2502@pvna.com.au
CREATED:20180701T121634Z
DESCRIPTION:2018 Autumn Section:15&Under\nRound:Rnd 2
LAST-MODIFIED:20180701T121634Z
LOCATION:Court: 2
SEQUENCE:0
STATUS:CONFIRMED
SUMMARY:15&U-Rnd 2: Firestorm (24) vs Strikers (13)
TRANSP:OPAQUE
END:VEVENT
BEGIN:VEVENT
DTSTART:20180217T093000
DTEND:20180217T101000
DTSTAMP:20180701T121634Z
UID:08fbdc9889ddfc6d0bff6bd603f510aa@pvna.com.au
CREATED:20180701T121634Z
DESCRIPTION:2018 Autumn Section:15&Under\nRound:Rnd 3
LAST-MODIFIED:20180701T121634Z
LOCATION:Court: 2
SEQUENCE:0
STATUS:CONFIRMED
SUMMARY:15&U-Rnd 3: Power (19) vs Strikers (15)
TRANSP:OPAQUE
END:VEVENT
BEGIN:VEVENT
DTSTART:20180224T093000
DTEND:20180224T101000
DTSTAMP:20180701T121634Z
UID:96726f037c479f9a959b004908a905a1@pvna.com.au
CREATED:20180701T121634Z
DESCRIPTION:2018 Autumn Section:15&Under\nRound:Rnd 4
LAST-MODIFIED:20180701T121634Z
LOCATION:Court: 2
SEQUENCE:0
STATUS:CONFIRMED
SUMMARY:15&U-Rnd 4: SS Saphires (24) vs Strikers (9)
TRANSP:OPAQUE
END:VEVENT
BEGIN:VEVENT
DTSTART:20180303T084500
DTEND:20180303T092500
DTSTAMP:20180701T121634Z
UID:fe05089585710aaeb8f477058726e3a6@pvna.com.au
CREATED:20180701T121634Z
DESCRIPTION:2018 Autumn Section:15&Under\nRound:Rnd 5
LAST-MODIFIED:20180701T121634Z
LOCATION:Court: 1
SEQUENCE:0
STATUS:CONFIRMED
SUMMARY:15&U-Rnd 5: SS Sparks (37) vs Strikers (8)
TRANSP:OPAQUE
END:VEVENT
BEGIN:VEVENT
DTSTART:20180317T093000
DTEND:20180317T101000
DTSTAMP:20180701T121634Z
UID:c8da8fe620f9059e70c09424a6f1bfff@pvna.com.au
CREATED:20180701T121634Z
DESCRIPTION:2018 Autumn Section:15&Under\nRound:Rnd 6
LAST-MODIFIED:20180701T121634Z
LOCATION:Court: 1
SEQUENCE:0
STATUS:CONFIRMED
SUMMARY:15&U-Rnd 6: Strikers (12) vs Power (19)
TRANSP:OPAQUE
END:VEVENT
BEGIN:VEVENT
DTSTART:20180324T101500
DTEND:20180324T105500
DTSTAMP:20180701T121634Z
UID:a419d727cc6be6ce662f7549e9d6e6e4@pvna.com.au
CREATED:20180701T121634Z
DESCRIPTION:2018 Autumn Section:15&Under\nRound:Rnd 7
LAST-MODIFIED:20180701T121634Z
LOCATION:Court: 2
SEQUENCE:0
STATUS:CONFIRMED
SUMMARY:15&U-Rnd 7: NB Lions (22) vs Strikers (4)
TRANSP:OPAQUE
END:VEVENT
BEGIN:VEVENT
DTSTART:20180421T110000
DTEND:20180421T114500
DTSTAMP:20180701T121634Z
UID:8453a1d7b93b899ca1a8fc971dbe02ad@pvna.com.au
CREATED:20180701T121634Z
DESCRIPTION:2018 Autumn Section:15&Under\nRound:Rnd 8
LAST-MODIFIED:20180701T121634Z
LOCATION:Court: 99
SEQUENCE:0
STATUS:CONFIRMED
SUMMARY:15&U-Rnd 8: Strikers vs BYE
TRANSP:OPAQUE
END:VEVENT
BEGIN:VEVENT
DTSTART:20180428T093000
DTEND:20180428T101000
DTSTAMP:20180701T121634Z
UID:a215cf60ab97ec8ce9a1c9cc1e4009af@pvna.com.au
CREATED:20180701T121634Z
DESCRIPTION:2018 Autumn Section:15&Under\nRound:Rnd 9
LAST-MODIFIED:20180701T121634Z
LOCATION:Court: 2
SEQUENCE:0
STATUS:CONFIRMED
SUMMARY:15&U-Rnd 9: Devils (28) vs Strikers (5)
TRANSP:OPAQUE
END:VEVENT
BEGIN:VEVENT
DTSTART:20180505T101500
DTEND:20180505T105500
DTSTAMP:20180701T121634Z
UID:d81642d2fef69731cdfbdd51959558d9@pvna.com.au
CREATED:20180701T121634Z
DESCRIPTION:2018 Autumn Section:15&Under\nRound:Rnd 10
LAST-MODIFIED:20180701T121634Z
LOCATION:Court: 3
SEQUENCE:0
STATUS:CONFIRMED
SUMMARY:15&U-Rnd 10: Firestorm (10) vs Strikers (0)
TRANSP:OPAQUE
END:VEVENT
BEGIN:VEVENT
DTSTART:20180512T093000
DTEND:20180512T101000
DTSTAMP:20180701T121634Z
UID:299e8d09507e3d609da1146a1cf1b76e@pvna.com.au
CREATED:20180701T121634Z
DESCRIPTION:2018 Autumn Section:15&Under\nRound:Rnd 11
LAST-MODIFIED:20180701T121634Z
LOCATION:Court: 1
SEQUENCE:0
STATUS:CONFIRMED
SUMMARY:15&U-Rnd 11: SS Saphires (34) vs Strikers (4)
TRANSP:OPAQUE
END:VEVENT
BEGIN:VEVENT
DTSTART:20180519T093000
DTEND:20180519T101000
DTSTAMP:20180701T121634Z
UID:72915e7bc0e0e432176bea4f4aaf06d1@pvna.com.au
CREATED:20180701T121634Z
DESCRIPTION:2018 Autumn Section:15&Under\nRound:Rnd 12
LAST-MODIFIED:20180701T121634Z
LOCATION:Court: 1
SEQUENCE:0
STATUS:CONFIRMED
SUMMARY:15&U-Rnd 12: SS Sparks (46) vs Strikers (8)
TRANSP:OPAQUE
END:VEVENT
BEGIN:VEVENT
DTSTART:20180526T093000
DTEND:20180526T101000
DTSTAMP:20180701T121634Z
UID:ffc33dbe791474ff58423e87ee1e88a8@pvna.com.au
CREATED:20180701T121634Z
DESCRIPTION:2018 Autumn Section:15&Under\nRound:Rnd 13
LAST-MODIFIED:20180701T121634Z
LOCATION:Court: 2
SEQUENCE:0
STATUS:CONFIRMED
SUMMARY:15&U-Rnd 13: Power (23) vs Strikers (16)
TRANSP:OPAQUE
END:VEVENT
BEGIN:VEVENT
DTSTART:20180602T084500
DTEND:20180602T092500
DTSTAMP:20180701T121634Z
UID:35c5468fcfb74fbdb8dbda1f2c878488@pvna.com.au
CREATED:20180701T121634Z
DESCRIPTION:2018 Autumn Section:15&Under\nRound:Rnd 14
LAST-MODIFIED:20180701T121634Z
LOCATION:Court: 2
SEQUENCE:0
STATUS:CONFIRMED
SUMMARY:15&U-Rnd 14: NB Lions (25) vs Strikers (6)
TRANSP:OPAQUE
END:VEVENT
END:VCALENDAR
