BEGIN:VCALENDAR
PRODID:-//Google Inc//Google Calendar 70.9054//EN
VERSION:2.0
CALSCALE:GREGORIAN
METHOD:PUBLISH
X-WR-CALNAME:PV Comets Wildcats 13s
X-WR-TIMEZONE:Australia/Sydney
X-WR-CALDESC:PV Comets Parkville Calendars
BEGIN:VEVENT
DTSTART:20180721T093000
DTEND:20180721T101000
DTSTAMP:20181215T114445Z
UID:95f7c5448bd3dd7962f5d5fb88dcdf2f@pvna.com.au
CREATED:20181215T194445Z
DESCRIPTION:2018 Spring Section:13&Under\nRound:Rnd 1
LAST-MODIFIED:20181215T194445Z
LOCATION:Court: 2
SEQUENCE:0
STATUS:CONFIRMED
SUMMARY:13&U-Rnd 1: Wildcats 13s (7) vs Neon Nightmares 13s (31)
TRANSP:OPAQUE
END:VEVENT
BEGIN:VEVENT
DTSTART:20180728T084500
DTEND:20180728T092500
DTSTAMP:20181215T114445Z
UID:5656cdc6329e581a587e62718111d173@pvna.com.au
CREATED:20181215T194445Z
DESCRIPTION:2018 Spring Section:13&Under\nRound:Rnd 2
LAST-MODIFIED:20181215T194445Z
LOCATION:Court: 2
SEQUENCE:0
STATUS:CONFIRMED
SUMMARY:13&U-Rnd 2: Roxy Jnr (25) vs Wildcats 13s (11)
TRANSP:OPAQUE
END:VEVENT
BEGIN:VEVENT
DTSTART:20180804T110000
DTEND:20180804T114500
DTSTAMP:20181215T114445Z
UID:5c8d14f864e70cba8a7b95762e32e0c1@pvna.com.au
CREATED:20181215T194445Z
DESCRIPTION:2018 Spring Section:13&Under\nRound:Rnd 3
LAST-MODIFIED:20181215T194445Z
LOCATION:Court: 1
SEQUENCE:0
STATUS:CONFIRMED
SUMMARY:13&U-Rnd 3: Storm (36) vs Wildcats 13s (7)
TRANSP:OPAQUE
END:VEVENT
BEGIN:VEVENT
DTSTART:20180811T114500
DTEND:20180811T122500
DTSTAMP:20181215T114445Z
UID:f3ea856e91388aa4c00cdf5ae70c9ca1@pvna.com.au
CREATED:20181215T194445Z
DESCRIPTION:2018 Spring Section:13&Under\nRound:Rnd 4
LAST-MODIFIED:20181215T194445Z
LOCATION:Court: 2
SEQUENCE:0
STATUS:CONFIRMED
SUMMARY:13&U-Rnd 4: Awesome Angels 13s1 (25) vs Wildcats 13s (13)
TRANSP:OPAQUE
END:VEVENT
BEGIN:VEVENT
DTSTART:20180818T084500
DTEND:20180818T092500
DTSTAMP:20181215T114445Z
UID:ddbb2f47e1e5c885be8e51568c17872d@pvna.com.au
CREATED:20181215T194445Z
DESCRIPTION:2018 Spring Section:13&Under\nRound:Rnd 5
LAST-MODIFIED:20181215T194445Z
LOCATION:Court: 1
SEQUENCE:0
STATUS:CONFIRMED
SUMMARY:13&U-Rnd 5: Wildcats 13s (5) vs SS Rubies (37)
TRANSP:OPAQUE
END:VEVENT
BEGIN:VEVENT
DTSTART:20180825T101500
DTEND:20180825T105500
DTSTAMP:20181215T114445Z
UID:8861f13918711f594c0c1b5f4cf2351f@pvna.com.au
CREATED:20181215T194445Z
DESCRIPTION:2018 Spring Section:13&Under\nRound:Rnd 6
LAST-MODIFIED:20181215T194445Z
LOCATION:Court: 2
SEQUENCE:0
STATUS:CONFIRMED
SUMMARY:13&U-Rnd 6: Wildcats 13s (13) vs NB Cubs (11)
TRANSP:OPAQUE
END:VEVENT
BEGIN:VEVENT
DTSTART:20180901T114500
DTEND:20180901T122500
DTSTAMP:20181215T114445Z
UID:a2c7e491b38787220754db666cb65c04@pvna.com.au
CREATED:20181215T194445Z
DESCRIPTION:2018 Spring Section:13&Under\nRound:Rnd 7
LAST-MODIFIED:20181215T194445Z
LOCATION:Court: 2
SEQUENCE:0
STATUS:CONFIRMED
SUMMARY:13&U-Rnd 7: SS Diamonds (8) vs Wildcats 13s (17)
TRANSP:OPAQUE
END:VEVENT
BEGIN:VEVENT
DTSTART:20180908T093000
DTEND:20180908T101000
DTSTAMP:20181215T114445Z
UID:c104afba1266a0c03383f876b73ebee9@pvna.com.au
CREATED:20181215T194445Z
DESCRIPTION:2018 Spring Section:13&Under\nRound:Rnd 8
LAST-MODIFIED:20181215T194445Z
LOCATION:Court: 2
SEQUENCE:0
STATUS:CONFIRMED
SUMMARY:13&U-Rnd 8: Wildcats 13s (19) vs Neon Nightmares 13s (17)
TRANSP:OPAQUE
END:VEVENT
BEGIN:VEVENT
DTSTART:20180915T084500
DTEND:20180915T092500
DTSTAMP:20181215T114445Z
UID:90b0160c893baad69fc2bbf491301c00@pvna.com.au
CREATED:20181215T194445Z
DESCRIPTION:2018 Spring Section:13&Under\nRound:Rnd 9
LAST-MODIFIED:20181215T194445Z
LOCATION:Court: 2
SEQUENCE:0
STATUS:CONFIRMED
SUMMARY:13&U-Rnd 9: Roxy Jnr (22) vs Wildcats 13s (15)
TRANSP:OPAQUE
END:VEVENT
BEGIN:VEVENT
DTSTART:20180922T110000
DTEND:20180922T114500
DTSTAMP:20181215T114445Z
UID:64900cfceadaefc4dde10c91e5db6929@pvna.com.au
CREATED:20181215T194445Z
DESCRIPTION:2018 Spring Section:13&Under\nRound:Rnd 10
LAST-MODIFIED:20181215T194445Z
LOCATION:Court: 1
SEQUENCE:0
STATUS:CONFIRMED
SUMMARY:13&U-Rnd 10: Storm (23) vs Wildcats 13s (15)
TRANSP:OPAQUE
END:VEVENT
BEGIN:VEVENT
DTSTART:20181013T084500
DTEND:20181013T092500
DTSTAMP:20181215T114445Z
UID:503363967aa6574be0c00d3756861ce5@pvna.com.au
CREATED:20181215T194445Z
DESCRIPTION:2018 Spring Section:13&Under\nRound:Rnd 11
LAST-MODIFIED:20181215T194445Z
LOCATION:Court: 1
SEQUENCE:0
STATUS:CONFIRMED
SUMMARY:13&U-Rnd 11: Awesome Angels 13s1 (24) vs Wildcats 13s (16)
TRANSP:OPAQUE
END:VEVENT
BEGIN:VEVENT
DTSTART:20181020T101500
DTEND:20181020T105500
DTSTAMP:20181215T114445Z
UID:c174c88744e38c05d25c43dc3b7edd3c@pvna.com.au
CREATED:20181215T194445Z
DESCRIPTION:2018 Spring Section:13&Under\nRound:Rnd 12
LAST-MODIFIED:20181215T194445Z
LOCATION:Court: 2
SEQUENCE:0
STATUS:CONFIRMED
SUMMARY:13&U-Rnd 12: Wildcats 13s (4) vs SS Rubies (27)
TRANSP:OPAQUE
END:VEVENT
BEGIN:VEVENT
DTSTART:20181027T110000
DTEND:20181027T114500
DTSTAMP:20181215T114445Z
UID:d3ae1bfc37f78050dede9420b7db10b2@pvna.com.au
CREATED:20181215T194445Z
DESCRIPTION:2018 Spring Section:13&Under\nRound:Rnd 13
LAST-MODIFIED:20181215T194445Z
LOCATION:Court: 2
SEQUENCE:0
STATUS:CONFIRMED
SUMMARY:13&U-Rnd 13: Wildcats 13s (15) vs NB Cubs (6)
TRANSP:OPAQUE
END:VEVENT
BEGIN:VEVENT
DTSTART:20181110T114500
DTEND:20181110T122500
DTSTAMP:20181215T114445Z
UID:ddfc1657de0e5065a48ceeec6301267f@pvna.com.au
CREATED:20181215T194445Z
DESCRIPTION:2018 Spring Section:13&Under\nRound:Rnd 14
LAST-MODIFIED:20181215T194445Z
LOCATION:Court: 2
SEQUENCE:0
STATUS:CONFIRMED
SUMMARY:13&U-Rnd 14: SS Diamonds (11) vs Wildcats 13s (6)
TRANSP:OPAQUE
END:VEVENT
BEGIN:VEVENT
DTSTART:20181117T110000
DTEND:20181117T114500
DTSTAMP:20181215T114445Z
UID:e3923d4e006e64ff832a9d22a73ba6f7@pvna.com.au
CREATED:20181215T194445Z
DESCRIPTION:2018 Spring Section:13&Under\nRound:Rnd 15
LAST-MODIFIED:20181215T194445Z
LOCATION:Court: 2
SEQUENCE:0
STATUS:CONFIRMED
SUMMARY:13&U-Rnd 15: Wildcats 13s (7) vs Neon Nightmares 13s (16)
TRANSP:OPAQUE
END:VEVENT
BEGIN:VEVENT
DTSTART:20181124T122000
DTEND:20181124T114500
DTSTAMP:20181215T114445Z
UID:d94aa71dd2737eb2830ca6dd7b8c6e90@pvna.com.au
CREATED:20181215T194445Z
DESCRIPTION:2018 Spring Section:13&Under\nRound:B Semi
LAST-MODIFIED:20181215T194445Z
LOCATION:Court: 2
SEQUENCE:0
STATUS:CONFIRMED
SUMMARY:13&U-B Semi: Wildcats 13s (12) vs NB Cubs (13)
TRANSP:OPAQUE
END:VEVENT
END:VCALENDAR
