BEGIN:VCALENDAR
PRODID:-//Google Inc//Google Calendar 70.9054//EN
VERSION:2.0
CALSCALE:GREGORIAN
METHOD:PUBLISH
X-WR-CALNAME:PV Comets Wildcats 15s
X-WR-TIMEZONE:Australia/Sydney
X-WR-CALDESC:PV Comets Parkville Calendars
BEGIN:VEVENT
DTSTART:20180721T110000
DTEND:20180721T114500
DTSTAMP:20181215T114445Z
UID:d65d9e74d59c483a361fed0e85128f36@pvna.com.au
CREATED:20181215T194445Z
DESCRIPTION:2018 Spring Section:15&Under\nRound:Rnd 1
LAST-MODIFIED:20181215T194445Z
LOCATION:Court: 99
SEQUENCE:0
STATUS:CONFIRMED
SUMMARY:15&U-Rnd 1: Wildcats 15s vs BYE
TRANSP:OPAQUE
END:VEVENT
BEGIN:VEVENT
DTSTART:20180728T093000
DTEND:20180728T101000
DTSTAMP:20181215T114445Z
UID:6a4a2c03805e64aefe31331fa365a511@pvna.com.au
CREATED:20181215T194445Z
DESCRIPTION:2018 Spring Section:15&Under\nRound:Rnd 2
LAST-MODIFIED:20181215T194445Z
LOCATION:Court: 2
SEQUENCE:0
STATUS:CONFIRMED
SUMMARY:15&U-Rnd 2: Thunderbolts (30) vs Wildcats 15s (13)
TRANSP:OPAQUE
END:VEVENT
BEGIN:VEVENT
DTSTART:20180804T101500
DTEND:20180804T105500
DTSTAMP:20181215T114445Z
UID:c7b789e7884688e0963a3c72356ac242@pvna.com.au
CREATED:20181215T194445Z
DESCRIPTION:2018 Spring Section:15&Under\nRound:Rnd 3
LAST-MODIFIED:20181215T194445Z
LOCATION:Court: 3
SEQUENCE:0
STATUS:CONFIRMED
SUMMARY:15&U-Rnd 3: Wildcats 15s (14) vs SS Sparks (33)
TRANSP:OPAQUE
END:VEVENT
BEGIN:VEVENT
DTSTART:20180811T093000
DTEND:20180811T101000
DTSTAMP:20181215T114445Z
UID:1c24465dc9b6a52534959cb4e75952d6@pvna.com.au
CREATED:20181215T194445Z
DESCRIPTION:2018 Spring Section:15&Under\nRound:Rnd 4
LAST-MODIFIED:20181215T194445Z
LOCATION:Court: 1
SEQUENCE:0
STATUS:CONFIRMED
SUMMARY:15&U-Rnd 4: Wildcats 15s (17) vs Firestorm (20)
TRANSP:OPAQUE
END:VEVENT
BEGIN:VEVENT
DTSTART:20180818T093000
DTEND:20180818T101000
DTSTAMP:20181215T114445Z
UID:98e5cfc81372db83fc7e9383499e2606@pvna.com.au
CREATED:20181215T194445Z
DESCRIPTION:2018 Spring Section:15&Under\nRound:Rnd 5
LAST-MODIFIED:20181215T194445Z
LOCATION:Court: 1
SEQUENCE:0
STATUS:CONFIRMED
SUMMARY:15&U-Rnd 5: NB Lions (19) vs Wildcats 15s (12)
TRANSP:OPAQUE
END:VEVENT
BEGIN:VEVENT
DTSTART:20180825T093000
DTEND:20180825T101000
DTSTAMP:20181215T114445Z
UID:5a72e1c61d4044a0c7b355c0b1b0d9e5@pvna.com.au
CREATED:20181215T194445Z
DESCRIPTION:2018 Spring Section:15&Under\nRound:Rnd 6
LAST-MODIFIED:20181215T194445Z
LOCATION:Court: 1
SEQUENCE:0
STATUS:CONFIRMED
SUMMARY:15&U-Rnd 6: Devils (25) vs Wildcats 15s (17)
TRANSP:OPAQUE
END:VEVENT
BEGIN:VEVENT
DTSTART:20180901T093000
DTEND:20180901T101000
DTSTAMP:20181215T114445Z
UID:154afa3811b1bbfa3106915b8371fc56@pvna.com.au
CREATED:20181215T194445Z
DESCRIPTION:2018 Spring Section:15&Under\nRound:Rnd 7
LAST-MODIFIED:20181215T194445Z
LOCATION:Court: 1
SEQUENCE:0
STATUS:CONFIRMED
SUMMARY:15&U-Rnd 7: Power (18) vs Wildcats 15s (15)
TRANSP:OPAQUE
END:VEVENT
BEGIN:VEVENT
DTSTART:20180908T084500
DTEND:20180908T092500
DTSTAMP:20181215T114445Z
UID:247d9b2adb35c72e277943ca97223a67@pvna.com.au
CREATED:20181215T194445Z
DESCRIPTION:2018 Spring Section:15&Under\nRound:Rnd 8
LAST-MODIFIED:20181215T194445Z
LOCATION:Court: 99
SEQUENCE:0
STATUS:CONFIRMED
SUMMARY:15&U-Rnd 8: Wildcats 15s vs BYE
TRANSP:OPAQUE
END:VEVENT
BEGIN:VEVENT
DTSTART:20180915T093000
DTEND:20180915T101000
DTSTAMP:20181215T114445Z
UID:18dd0f992eabfa00dc0aea0fb7560152@pvna.com.au
CREATED:20181215T194445Z
DESCRIPTION:2018 Spring Section:15&Under\nRound:Rnd 9
LAST-MODIFIED:20181215T194446Z
LOCATION:Court: 1
SEQUENCE:0
STATUS:CONFIRMED
SUMMARY:15&U-Rnd 9: Thunderbolts (25) vs Wildcats 15s (17)
TRANSP:OPAQUE
END:VEVENT
BEGIN:VEVENT
DTSTART:20180922T093000
DTEND:20180922T101000
DTSTAMP:20181215T114446Z
UID:50e567610b1077a2143d50e4453eb3e3@pvna.com.au
CREATED:20181215T194446Z
DESCRIPTION:2018 Spring Section:15&Under\nRound:Rnd 10
LAST-MODIFIED:20181215T194446Z
LOCATION:Court: 3
SEQUENCE:0
STATUS:CONFIRMED
SUMMARY:15&U-Rnd 10: Wildcats 15s (9) vs SS Sparks (37)
TRANSP:OPAQUE
END:VEVENT
BEGIN:VEVENT
DTSTART:20181013T093000
DTEND:20181013T101000
DTSTAMP:20181215T114446Z
UID:4b67ff8c9ceee4ae779219e1ecd27642@pvna.com.au
CREATED:20181215T194446Z
DESCRIPTION:2018 Spring Section:15&Under\nRound:Rnd 11
LAST-MODIFIED:20181215T194446Z
LOCATION:Court: 2
SEQUENCE:0
STATUS:CONFIRMED
SUMMARY:15&U-Rnd 11: Wildcats 15s (22) vs Firestorm (26)
TRANSP:OPAQUE
END:VEVENT
BEGIN:VEVENT
DTSTART:20181020T110000
DTEND:20181020T114500
DTSTAMP:20181215T114446Z
UID:027cd7803b204a436a595ecbe2617241@pvna.com.au
CREATED:20181215T194446Z
DESCRIPTION:2018 Spring Section:15&Under\nRound:Rnd 12
LAST-MODIFIED:20181215T194446Z
LOCATION:Court: 2
SEQUENCE:0
STATUS:CONFIRMED
SUMMARY:15&U-Rnd 12: 15&U Res (14) vs Wildcats 15s (39)
TRANSP:OPAQUE
END:VEVENT
BEGIN:VEVENT
DTSTART:20181027T093000
DTEND:20181027T101000
DTSTAMP:20181215T114446Z
UID:41d755bf55fd54ef4339525249172166@pvna.com.au
CREATED:20181215T194446Z
DESCRIPTION:2018 Spring Section:15&Under\nRound:Rnd 13
LAST-MODIFIED:20181215T194446Z
LOCATION:Court: 1
SEQUENCE:0
STATUS:CONFIRMED
SUMMARY:15&U-Rnd 13: Devils (18) vs Wildcats 15s (26)
TRANSP:OPAQUE
END:VEVENT
BEGIN:VEVENT
DTSTART:20181110T093000
DTEND:20181110T101000
DTSTAMP:20181215T114446Z
UID:f44b5529a72fd6d4b819dab4023bdbf5@pvna.com.au
CREATED:20181215T194446Z
DESCRIPTION:2018 Spring Section:15&Under\nRound:Rnd 14
LAST-MODIFIED:20181215T194446Z
LOCATION:Court: 2
SEQUENCE:0
STATUS:CONFIRMED
SUMMARY:15&U-Rnd 14: Power (12) vs Wildcats 15s (23)
TRANSP:OPAQUE
END:VEVENT
BEGIN:VEVENT
DTSTART:20181117T093000
DTEND:20181117T101000
DTSTAMP:20181215T114446Z
UID:015cf1e589d480fb4d1bddd61a3c64e3@pvna.com.au
CREATED:20181215T194446Z
DESCRIPTION:2018 Spring Section:15&Under\nRound:Rnd 15
LAST-MODIFIED:20181215T194446Z
LOCATION:Court: 3
SEQUENCE:0
STATUS:CONFIRMED
SUMMARY:15&U-Rnd 15: Wildcats 15s (14) vs SS Saphires (15)
TRANSP:OPAQUE
END:VEVENT
BEGIN:VEVENT
DTSTART:20181124T113000
DTEND:20181124T101000
DTSTAMP:20181215T114446Z
UID:1472bb9f25789061af5e6271b46bbfb8@pvna.com.au
CREATED:20181215T194446Z
DESCRIPTION:2018 Spring Section:15&Under\nRound:B Semi
LAST-MODIFIED:20181215T194446Z
LOCATION:Court: 1
SEQUENCE:0
STATUS:CONFIRMED
SUMMARY:15&U-B Semi: Wildcats 15s (36) vs Devils (21)
TRANSP:OPAQUE
END:VEVENT
BEGIN:VEVENT
DTSTART:20181201T113000
DTEND:20181201T101000
DTSTAMP:20181215T114446Z
UID:d08a4c70af9b8fed9ca2f77ba836e820@pvna.com.au
CREATED:20181215T194446Z
DESCRIPTION:2018 Spring Section:15&Under\nRound:B Prelim
LAST-MODIFIED:20181215T194446Z
LOCATION:Court: 1
SEQUENCE:0
STATUS:CONFIRMED
SUMMARY:15&U-B Prelim: Wildcats 15s (31) vs Power (16)
TRANSP:OPAQUE
END:VEVENT
BEGIN:VEVENT
DTSTART:20181208T100000
DTEND:20181208T101000
DTSTAMP:20181215T114446Z
UID:f1f25fb6f392b0b9059c21ab56138909@pvna.com.au
CREATED:20181215T194446Z
DESCRIPTION:2018 Spring Section:15&Under\nRound:B Grand\n\nCurrent Ladder:\nTeam            P  W  L  D  Pts\nSS Sparks       15 15 0  0  60\nFirestorm       15 11 3  1  46\nNB Lions        15 11 4  0  44\nThunderbolts    15 8  6  1  34\nPower           11 2  9  0  24*\nSS Saphires     10 5  5  0  20\nWildcats 15s    15 5  10 0  20\nDevils          15 5  10 0  20\n
LAST-MODIFIED:20181215T194446Z
LOCATION:Court: 2
SEQUENCE:0
STATUS:CONFIRMED
SUMMARY:15&U-B Grand: SS Saphires (29) vs Wildcats 15s (23)
TRANSP:OPAQUE
END:VEVENT
END:VCALENDAR
