BEGIN:VCALENDAR
PRODID:-//Google Inc//Google Calendar 70.9054//EN
VERSION:2.0
CALSCALE:GREGORIAN
METHOD:PUBLISH
X-WR-CALNAME:PV Comets Wildcats
X-WR-TIMEZONE:Australia/Sydney
X-WR-CALDESC:PV Comets Parkville Calendars
BEGIN:VEVENT
DTSTART:20180203T101500
DTEND:20180203T105500
DTSTAMP:20180129T011127Z
UID:6bdd37c6545735c14578a1a4bb91762b@pvna.com.au
CREATED:20180129T011127Z
DESCRIPTION:2018 Autumn Section:15&Under\nRound:Rnd 1
LAST-MODIFIED:20180129T011127Z
LOCATION:Court: 1
SEQUENCE:0
STATUS:CONFIRMED
SUMMARY:15&U-Rnd 1: Wildcats vs SS Saphires
TRANSP:OPAQUE
END:VEVENT
BEGIN:VEVENT
DTSTART:20180210T101500
DTEND:20180210T105500
DTSTAMP:20180129T011129Z
UID:dd549ac507bace716f9ad9146c08bbb0@pvna.com.au
CREATED:20180129T011129Z
DESCRIPTION:2018 Autumn Section:15&Under\nRound:Rnd 2\n\nCurrent Ladder:\nTeam            P  W  L  D  Pts\nWildcats        0  0  0  0  0 \nAwesome Angels 15s1 0  0  0  0  0 \nPower           0  0  0  0  0 \nSS Rubies       0  0  0  0  0 \nSS Saphires     0  0  0  0  0 \nAwesome Angels 15s2 0  0  0  0  0 \nDevils          0  0  0  0  0 \nSS Sparks       0  0  0  0  0 \nStrikers        0  0  0  0  0 \nFirestorm       0  0  0  0  0 \nNorthern Blues Koalas 0  0  0  0  0 \n
LAST-MODIFIED:20180129T011129Z
LOCATION:Court: 1
SEQUENCE:0
STATUS:CONFIRMED
SUMMARY:15&U-Rnd 2: SS Sparks vs Wildcats
TRANSP:OPAQUE
END:VEVENT
BEGIN:VEVENT
DTSTART:20180217T110000
DTEND:20180217T114500
DTSTAMP:20180129T011129Z
UID:9f5bf8c59f3d386ce3a41d18a3897bfd@pvna.com.au
CREATED:20180129T011129Z
DESCRIPTION:2018 Autumn Section:15&Under\nRound:Rnd 3
LAST-MODIFIED:20180129T011129Z
LOCATION:Court: 2
SEQUENCE:0
STATUS:CONFIRMED
SUMMARY:15&U-Rnd 3: Northern Blues Koalas vs Wildcats
TRANSP:OPAQUE
END:VEVENT
BEGIN:VEVENT
DTSTART:20180224T101500
DTEND:20180224T105500
DTSTAMP:20180129T011129Z
UID:e7dbe9c0cc6711b6c68c94369782d4f1@pvna.com.au
CREATED:20180129T011129Z
DESCRIPTION:2018 Autumn Section:15&Under\nRound:Rnd 4
LAST-MODIFIED:20180129T011129Z
LOCATION:Court: 2
SEQUENCE:0
STATUS:CONFIRMED
SUMMARY:15&U-Rnd 4: Devils vs Wildcats
TRANSP:OPAQUE
END:VEVENT
BEGIN:VEVENT
DTSTART:20180303T101500
DTEND:20180303T105500
DTSTAMP:20180129T011129Z
UID:971f8b06441f7f9db3c9c1069fe1d8e1@pvna.com.au
CREATED:20180129T011129Z
DESCRIPTION:2018 Autumn Section:15&Under\nRound:Rnd 5
LAST-MODIFIED:20180129T011129Z
LOCATION:Court: 4
SEQUENCE:0
STATUS:CONFIRMED
SUMMARY:15&U-Rnd 5: Awesome Angels 15s1 vs Wildcats
TRANSP:OPAQUE
END:VEVENT
BEGIN:VEVENT
DTSTART:20180317T110000
DTEND:20180317T114500
DTSTAMP:20180129T011129Z
UID:489b86d0814fe734013bd6e2c7cbdd47@pvna.com.au
CREATED:20180129T011129Z
DESCRIPTION:2018 Autumn Section:15&Under\nRound:Rnd 6
LAST-MODIFIED:20180129T011129Z
LOCATION:Court: 2
SEQUENCE:0
STATUS:CONFIRMED
SUMMARY:15&U-Rnd 6: Wildcats vs Strikers
TRANSP:OPAQUE
END:VEVENT
BEGIN:VEVENT
DTSTART:20180324T101500
DTEND:20180324T105500
DTSTAMP:20180129T011129Z
UID:3be4094b9039dd9b1f06b39b397c47b9@pvna.com.au
CREATED:20180129T011129Z
DESCRIPTION:2018 Autumn Section:15&Under\nRound:Rnd 7
LAST-MODIFIED:20180129T011129Z
LOCATION:Court: 99
SEQUENCE:0
STATUS:CONFIRMED
SUMMARY:15&U-Rnd 7: Wildcats vs BYE
TRANSP:OPAQUE
END:VEVENT
BEGIN:VEVENT
DTSTART:20180421T110000
DTEND:20180421T114500
DTSTAMP:20180129T011129Z
UID:f58d9c69c5e7b1b1ad811af2d1eac7d3@pvna.com.au
CREATED:20180129T011129Z
DESCRIPTION:2018 Autumn Section:15&Under\nRound:Rnd 8
LAST-MODIFIED:20180129T011129Z
LOCATION:Court: 1
SEQUENCE:0
STATUS:CONFIRMED
SUMMARY:15&U-Rnd 8: Wildcats vs Awesome Angels 15s2
TRANSP:OPAQUE
END:VEVENT
BEGIN:VEVENT
DTSTART:20180428T110000
DTEND:20180428T114500
DTSTAMP:20180129T011129Z
UID:bde83464159491eeaa37d27d2dc4431d@pvna.com.au
CREATED:20180129T011129Z
DESCRIPTION:2018 Autumn Section:15&Under\nRound:Rnd 9
LAST-MODIFIED:20180129T011129Z
LOCATION:Court: 1
SEQUENCE:0
STATUS:CONFIRMED
SUMMARY:15&U-Rnd 9: Wildcats vs Firestorm
TRANSP:OPAQUE
END:VEVENT
BEGIN:VEVENT
DTSTART:20180505T110000
DTEND:20180505T114500
DTSTAMP:20180129T011129Z
UID:d04a00054e32acbd90f5a2e7e21a2336@pvna.com.au
CREATED:20180129T011129Z
DESCRIPTION:2018 Autumn Section:15&Under\nRound:Rnd 10
LAST-MODIFIED:20180129T011129Z
LOCATION:Court: 1
SEQUENCE:0
STATUS:CONFIRMED
SUMMARY:15&U-Rnd 10: Wildcats vs Power
TRANSP:OPAQUE
END:VEVENT
BEGIN:VEVENT
DTSTART:20180512T093000
DTEND:20180512T101000
DTSTAMP:20180129T011129Z
UID:0819f6d8d6c1bd2b5e3fb3c8fddb8cc7@pvna.com.au
CREATED:20180129T011129Z
DESCRIPTION:2018 Autumn Section:15&Under\nRound:Rnd 11
LAST-MODIFIED:20180129T011129Z
LOCATION:Court: 4
SEQUENCE:0
STATUS:CONFIRMED
SUMMARY:15&U-Rnd 11: Wildcats vs SS Rubies
TRANSP:OPAQUE
END:VEVENT
BEGIN:VEVENT
DTSTART:20180519T101500
DTEND:20180519T105500
DTSTAMP:20180129T011129Z
UID:9e52e0908ea407bd5bb20411b20a8314@pvna.com.au
CREATED:20180129T011129Z
DESCRIPTION:2018 Autumn Section:15&Under\nRound:Rnd 12
LAST-MODIFIED:20180129T011129Z
LOCATION:Court: 4
SEQUENCE:0
STATUS:CONFIRMED
SUMMARY:15&U-Rnd 12: Wildcats vs SS Saphires
TRANSP:OPAQUE
END:VEVENT
BEGIN:VEVENT
DTSTART:20180526T101500
DTEND:20180526T105500
DTSTAMP:20180129T011129Z
UID:35f8cb08332377c788a7dacc1fe689b5@pvna.com.au
CREATED:20180129T011129Z
DESCRIPTION:2018 Autumn Section:15&Under\nRound:Rnd 13
LAST-MODIFIED:20180129T011129Z
LOCATION:Court: 3
SEQUENCE:0
STATUS:CONFIRMED
SUMMARY:15&U-Rnd 13: SS Sparks vs Wildcats
TRANSP:OPAQUE
END:VEVENT
BEGIN:VEVENT
DTSTART:20180602T101500
DTEND:20180602T105500
DTSTAMP:20180129T011129Z
UID:fab48a60f795126fa726c371213fbbfd@pvna.com.au
CREATED:20180129T011129Z
DESCRIPTION:2018 Autumn Section:15&Under\nRound:Rnd 14
LAST-MODIFIED:20180129T011129Z
LOCATION:Court: 4
SEQUENCE:0
STATUS:CONFIRMED
SUMMARY:15&U-Rnd 14: Northern Blues Koalas vs Wildcats
TRANSP:OPAQUE
END:VEVENT
END:VCALENDAR
