BEGIN:VCALENDAR
PRODID:-//Google Inc//Google Calendar 70.9054//EN
VERSION:2.0
CALSCALE:GREGORIAN
METHOD:PUBLISH
X-WR-CALNAME:PVNA 2019
X-WR-TIMEZONE:Australia/Sydney
X-WR-CALDESC:Plenty Valley Netball Association Saturday morning competition
BEGIN:VEVENT
DTSTART:20190202T090000
DTEND:20190202T133000
DTSTAMP:20190224T120606Z
UID:07a74e17a5911457b2044837a395d161@pvna.com.au
CREATED:20190224T200606Z
DESCRIPTION:2019Autumn:Rnd 1\n\n08:45:Crt1:15&U:Neon Nightmares 15s (32) vs Awesome Angels 15s3 (1)\n08:45:Crt2:15&U:Wildcats 15s (32) vs Storm (19)\n08:45:Crt3:17&U:Phoenix (17) vs Roxy (10)\n08:45:Crt4:15&U:SS Rubies (14) vs Power (19)\n\n09:30:Crt1:13&U:Wildcats 13s (27) vs Roxy Jnr (17)\n09:30:Crt2:8-10:NB Tigers (2) vs The Flying Eagles2 (22)\n09:30:Crt3:17&U:NB Kangas (28) vs Awesome Angels 17s1 (12)\n09:30:Crt4:13&U:Awesome Angels 13s2 (7) vs Awesome Angels 13s3 (14)\n\n09:30:Crt99:11&U:Awesome Angels 11s2 vs BYE\n10:15:Crt1:13&U:NB Dragons  (9) vs NB Cubs (9)\n10:15:Crt2:13&U:Neon Nightmares 13s (13) vs Roxy Power (12)\n10:15:Crt3:17&U:SS Magic (33) vs SS Sparks (17)\n10:15:Crt4:11&U:Falcons (21) vs SS Emeralds (7)\n\n10:15:Crt99:13&U:Awesome Angels 13s4 vs BYE\n11:00:Crt1:15&U:Awesome Angels 15s1 (14) vs SS Strikers (17)\n11:00:Crt2:15&U:NB Lions (13) vs SS Saphires (28)\n11:00:Crt4:11&U:Awesome Angels 11s1 (3) vs The Flying Eagles1 (13)\n\n11:00:Crt99:15&U:Awesome Angels 15s2 vs BYE\n11:15:Crt3:Net-:Netta vs NetSetGo!\n11:45:Crt1:8-10:SS Crystals (14) vs Awesome Angels 8-10s1 (1)\n11:45:Crt2:13&U:SS Diamonds (15) vs Awesome Angels 13s1 (3)\n12:30:Crt2:Mixe:Awesome Angels Mixed (8) vs NB Wombat (19)\n12:30:Crt3:Mixe:WiseOnes (24) vs Treasures (13)\n\n\n\n
LAST-MODIFIED:20190224T200606Z
LOCATION:BNASC Stadium, RMIT Bundoora, Off McKimmes Road
SEQUENCE:0
STATUS:CONFIRMED
SUMMARY:Rnd 1 2019Autumn PVNA Competition
TRANSP:OPAQUE
END:VEVENT
BEGIN:VEVENT
DTSTART:20190209T090000
DTEND:20190209T133000
DTSTAMP:20190224T120606Z
UID:9017ee3edad39c5db9af500941399ea4@pvna.com.au
CREATED:20190224T200606Z
DESCRIPTION:2019Autumn:Rnd 2\n\n08:45:Crt1:13&U:Awesome Angels 13s3 (18) vs Awesome Angels 13s4 (4)\n08:45:Crt2:13&U:Roxy Jnr (15) vs SS Diamonds (13)\n08:45:Crt3:17&U:Awesome Angels 17s1 (8) vs Phoenix (49)\n08:45:Crt4:13&U:Wildcats 13s (25) vs Neon Nightmares 13s (3)\n\n09:30:Crt1:15&U:Wildcats 15s (38) vs Awesome Angels 15s1 (15)\n09:30:Crt2:13&U:Roxy Power (17) vs Awesome Angels 13s1 (7)\n09:30:Crt3:17&U:SS Sparks (21) vs NB Kangas (14)\n09:30:Crt4:15&U:Storm (18) vs SS Rubies (20)\n\n09:30:Crt99:11&U:Falcons vs BYE\n10:15:Crt1:15&U:Neon Nightmares 15s (27) vs NB Lions (9)\n10:15:Crt2:8-10:Awesome Angels 8-10s1 (1) vs NB Tigers (8)\n10:15:Crt3:17&U:Roxy (21) vs SS Magic (22)\n10:15:Crt4:11&U:The Flying Eagles1 (17) vs Awesome Angels 11s2 (3)\n\n10:15:Crt99:13&U:NB Cubs vs BYE\n11:00:Crt1:11&U:SS Emeralds (13) vs Awesome Angels 11s1 (6)\n11:00:Crt2:15&U:SS Strikers (7) vs Power (38)\n11:00:Crt4:13&U:Awesome Angels 13s2 (4) vs NB Dragons  (3)\n\n11:00:Crt99:15&U:SS Saphires vs BYE\n11:15:Crt3:Net-:Netta vs NetSetGo!\n11:45:Crt1:15&U:Awesome Angels 15s2 (20) vs Awesome Angels 15s3 (2)\n11:45:Crt2:8-10:The Flying Eagles2 (14) vs SS Crystals (4)\n12:30:Crt2:Mixe:Treasures (19) vs Awesome Angels Mixed (18)\n12:30:Crt3:Mixe:NB Wombat (16) vs WiseOnes (14)\n\n\n\n
LAST-MODIFIED:20190224T200606Z
LOCATION:BNASC Stadium, RMIT Bundoora, Off McKimmes Road
SEQUENCE:0
STATUS:CONFIRMED
SUMMARY:Rnd 2 2019Autumn PVNA Competition
TRANSP:OPAQUE
END:VEVENT
BEGIN:VEVENT
DTSTART:20190216T090000
DTEND:20190216T133000
DTSTAMP:20190224T120606Z
UID:18e583a8f02d729d0f08ebbee161f99e@pvna.com.au
CREATED:20190224T200606Z
DESCRIPTION:2019Autumn:Rnd 3\n\n08:45:Crt1:13&U:Neon Nightmares 13s (7) vs SS Diamonds (21)\n08:45:Crt2:13&U:Wildcats 13s (39) vs Roxy Power (3)\n08:45:Crt3:17&U:NB Kangas (4) vs Phoenix (23)\n08:45:Crt4:8-10:NB Tigers (4) vs SS Crystals (5)\n\n08:45:Crt99:11&U:Awesome Angels 11s1 vs BYE\n09:30:Crt1:15&U:Awesome Angels 15s1 (16) vs SS Rubies (28)\n09:30:Crt2:15&U:Wildcats 15s (38) vs SS Strikers (3)\n09:30:Crt3:13&U:Roxy Jnr (55) vs Awesome Angels 13s1 (2)\n09:30:Crt4:13&U:Awesome Angels 13s2 (3) vs NB Cubs (9)\n\n09:30:Crt99:15&U:Awesome Angels 15s3 vs BYE\n10:15:Crt1:15&U:Storm (10) vs Power (17)\n10:15:Crt2:17&U:SS Sparks (29) vs Roxy (27)\n10:15:Crt3:15&U:Neon Nightmares 15s (13) vs SS Saphires (38)\n10:15:Crt4:13&U:NB Dragons  (16) vs Awesome Angels 13s4 (0)\n\n10:15:Crt99:13&U:Awesome Angels 13s3 vs BYE\n11:00:Crt1:15&U:NB Lions (11) vs Awesome Angels 15s2 (34)\n11:00:Crt2:17&U:SS Magic (40) vs Awesome Angels 17s1 (13)\n11:00:Crt4:11&U:The Flying Eagles1 (7) vs SS Emeralds (2)\n\n11:15:Crt3:Net-:NetSetGo! vs Netta\n11:45:Crt1:11&U:Awesome Angels 11s2 (4) vs Falcons (17)\n11:45:Crt2:8-10:The Flying Eagles2 (20) vs Awesome Angels 8-10s1 (2)\n12:30:Crt2:Mixe:Treasures (13) vs NB Wombat (18)\n12:30:Crt3:Mixe:WiseOnes (17) vs Awesome Angels Mixed (7)\n\n\n\n
LAST-MODIFIED:20190224T200606Z
LOCATION:BNASC Stadium, RMIT Bundoora, Off McKimmes Road
SEQUENCE:0
STATUS:CONFIRMED
SUMMARY:Rnd 3 2019Autumn PVNA Competition
TRANSP:OPAQUE
END:VEVENT
BEGIN:VEVENT
DTSTART:20190223T090000
DTEND:20190223T133000
DTSTAMP:20190224T120606Z
UID:3d67d588792bfe89f30129edab367e30@pvna.com.au
CREATED:20190224T200606Z
DESCRIPTION:2019Autumn:Rnd 4\n\n08:45:Crt1:15&U:Wildcats 15s (31) vs SS Rubies (24)\n08:45:Crt2:13&U:Roxy Jnr (24) vs Roxy Power (10)\n08:45:Crt3:17&U:SS Sparks (13) vs Phoenix (21)\n08:45:Crt4:13&U:Awesome Angels 13s2 (9) vs Awesome Angels 13s4 (0)\n\n08:45:Crt99:11&U:SS Emeralds vs BYE\n09:30:Crt1:13&U:Wildcats 13s (29) vs SS Diamonds (3)\n09:30:Crt2:15&U:Power (18) vs SS Saphires (24)\n09:30:Crt3:17&U:Awesome Angels 17s1 (15) vs Roxy (52)\n09:30:Crt4:11&U:8-10s (2) vs The Flying Eagles2 (21)\n\n09:30:Crt4:8-10:NB Tigers (2) vs 11s (21)\n\n10:15:Crt1:15&U:Neon Nightmares 15s (21) vs Awesome Angels 15s2 (12)\n10:15:Crt2:11&U:Awesome Angels 11s2 (2) vs Awesome Angels 11s1 (12)\n10:15:Crt3:17&U:NB Kangas (21) vs SS Magic (30)\n10:15:Crt4:11&U:The Flying Eagles1 (6) vs Falcons (13)\n\n11:00:Crt1:13&U:Neon Nightmares 13s (10) vs Awesome Angels 13s1 (10)\n11:00:Crt2:15&U:NB Lions (14) vs Awesome Angels 15s1 (24)\n11:00:Crt4:8-10:SS Crystals (23) vs Awesome Angels 8-10s1 (6)\n\n11:00:Crt99:13&U:NB Dragons  vs BYE\n11:15:Crt3:Net-:Netta vs NetSetGo!\n11:45:Crt1:13&U:Awesome Angels 13s3 (11) vs NB Cubs (8)\n11:45:Crt2:15&U:Storm (42) vs SS Strikers (8)\n11:45:Crt99:15&U:Awesome Angels 15s3 vs BYE\n12:30:Crt2:Mixe:Awesome Angels Mixed (15) vs NB Wombat (22)\n12:30:Crt3:Mixe:WiseOnes (22) vs Treasures (11)\n\n\n\n
LAST-MODIFIED:20190224T200606Z
LOCATION:BNASC Stadium, RMIT Bundoora, Off McKimmes Road
SEQUENCE:0
STATUS:CONFIRMED
SUMMARY:Rnd 4 2019Autumn PVNA Competition
TRANSP:OPAQUE
END:VEVENT
BEGIN:VEVENT
DTSTART:20190302T090000
DTEND:20190302T133000
DTSTAMP:20190224T120606Z
UID:31d2c67873d2332cfac6bb21aa63e690@pvna.com.au
CREATED:20190224T200606Z
DESCRIPTION:2019Autumn:Rnd 5\n\n08:45:Crt1:15&U:Wildcats 15s vs Power\n08:45:Crt2:13&U:NB Cubs vs Awesome Angels 13s4\n08:45:Crt3:17&U:SS Magic vs Phoenix\n08:45:Crt4:13&U:Roxy Jnr vs Neon Nightmares 13s\n\n09:30:Crt1:13&U:Wildcats 13s vs Awesome Angels 13s1\n09:30:Crt2:15&U:Awesome Angels 15s2 vs SS Rubies\n09:30:Crt3:13&U:Roxy Power vs SS Diamonds\n09:30:Crt4:11&U:SS Emeralds vs The Flying Eagles2\n\n09:30:Crt99:11&U:BYE vs BYE\n10:15:Crt1:11&U:8-10s vs The Flying Eagles1\n10:15:Crt1:8-10:SS Crystals vs 11s\n10:15:Crt2:15&U:SS Saphires vs Neon Nightmares 15s\n10:15:Crt3:17&U:NB Kangas vs Roxy\n10:15:Crt4:8-10:Awesome Angels 8-10s1 vs NB Tigers\n\n11:00:Crt1:15&U:SS Strikers vs NB Lions\n11:00:Crt2:17&U:SS Sparks vs Awesome Angels 17s1\n11:00:Crt4:13&U:Awesome Angels 13s3 vs NB Dragons \n\n11:00:Crt99:15&U:BYE vs BYE\n11:15:Crt3:Net-:NetSetGo! vs Netta\n11:45:Crt1:11&U:Awesome Angels 11s1 vs Falcons\n11:45:Crt2:15&U:Awesome Angels 15s1 vs Storm\n11:45:Crt99:13&U:Awesome Angels 13s2 vs BYE\n12:30:Crt2:Mixe:NB Wombat vs WiseOnes\n12:30:Crt3:Mixe:Treasures vs Awesome Angels Mixed\n\n\n\n15&Under Ladder:\nTeam            P  W  L  D  Pts\nWildcats 15s    4  4  0  0  16\nSS Saphires     4  4  0  0  16\nAwesome Angels 15s2 4  3  1  0  12\nPower           4  3  1  0  12\nNeon Nightmares 15s 4  3  1  0  12\nSS Rubies       4  2  2  0  8 \nSS Strikers     3  1  2  0  4 \nAwesome Angels 15s3 3  1  2  0  4 \nStorm           3  0  3  0  0 \nAwesome Angels 15s1 3  0  3  0  0 \nNB Lions        3  0  3  0  0 \n\n13&Under Ladder:\nTeam            P  W  L  D  Pts\nWildcats 13s    4  4  0  0  16\nAwesome Angels 13s3 4  4  0  0  16\nRoxy Jnr        4  3  1  0  12\nNB Dragons      4  2  1  1  10\nNB Cubs         4  2  1  1  10\nSS Diamonds     4  2  2  0  8 \nAwesome Angels 13s2 4  2  2  0  8 \nNeon Nightmares 13s 4  1  2  1  6 \nRoxy Power      4  1  3  0  4 \nAwesome Angels 13s4 4  1  3  0  4 \nAwesome Angels 13s1 4  0  3  1  2 \nTBA             0  0  0  0  0 \n\n17&Under Ladder:\nTeam            P  W  L  D  Pts\nPhoenix         4  4  0  0  16\nSS Magic        4  4  0  0  16\nSS Sparks       4  2  2  0  8 \nRoxy            4  1  3  0  4 \nNB Kangas       4  1  3  0  4 \nAwesome Angels 17s1 4  0  4  0  0 \n\n11&Under Ladder:\nTeam            P  W  L  D  Pts\nFalcons         4  4  0  0  16\nThe Flying Eagles1 4  3  1  0  12\nAwesome Angels 11s1 4  2  2  0  8 \nSS Emeralds     4  2  2  0  8 \nThe Flying Eagles2 1  1  0  0  4 \nAwesome Angels 11s2 4  1  3  0  4 \n\n8-10s Ladder:\nTeam            P  W  L  D  Pts\nThe Flying Eagles2 3  3  0  0  12\nSS Crystals     4  3  1  0  12\nNB Tigers       4  1  3  0  4 \nAwesome Angels 8-10s1 4  0  4  0  0 \n\n15&U Res Ladder:\nTeam            P  W  L  D  Pts\nStorm           1  1  0  0  4 \nAwesome Angels 15s1 1  1  0  0  4 \nAwesome Angels 15s3 1  1  0  0  4 \nNB Lions        1  0  1  0  0 \nSS Strikers     1  0  1  0  0 \nPower           0  0  0  0  0 \nSS Saphires     0  0  0  0  0 \nAwesome Angels 15s2 0  0  0  0  0 \nSS Rubies       0  0  0  0  0 \nWildcats 15s    0  0  0  0  0 \n\nNet-Set-Go Ladder:\nTeam            P  W  L  D  Pts\nNetta           4  0  0  4  8 \nNetSetGo!       4  0  0  4  8 \n\nMixed Ladder:\nTeam            P  W  L  D  Pts\nNB Wombat       4  4  0  0  16\nWiseOnes        4  3  1  0  12\nTreasures       4  1  3  0  4 \nAwesome Angels Mixed 4  0  4  0  0 \n\n
LAST-MODIFIED:20190224T200606Z
LOCATION:BNASC Stadium, RMIT Bundoora, Off McKimmes Road
SEQUENCE:0
STATUS:CONFIRMED
SUMMARY:Rnd 5 2019Autumn PVNA Competition
TRANSP:OPAQUE
END:VEVENT
BEGIN:VEVENT
DTSTART:20190316T090000
DTEND:20190316T133000
DTSTAMP:20190224T120606Z
UID:994d16c9b582a62fbc81714195fa7b77@pvna.com.au
CREATED:20190224T200606Z
DESCRIPTION:2019Autumn:Rnd 6\n\n08:45:Crt1:15&U:Power vs SS Saphires\n08:45:Crt2:15&U:Wildcats 15s vs SS Rubies\n08:45:Crt3:17&U:Phoenix vs Roxy\n08:45:Crt4:8-10:11s vs Awesome Angels 8-10s1\n\n08:45:Crt4:11&U:Falcons vs 8-10s\n\n09:30:Crt1:13&U:SS Diamonds vs Awesome Angels 13s4\n09:30:Crt2:13&U:Roxy Jnr vs Awesome Angels 13s3\n09:30:Crt3:13&U:Wildcats 13s vs Awesome Angels 13s2\n09:30:Crt4:8-10:NB Tigers vs SS Crystals\n\n10:15:Crt1:15&U:Awesome Angels 15s2 vs Neon Nightmares 15s\n10:15:Crt2:13&U:Roxy Power vs NB Cubs\n10:15:Crt3:17&U:SS Magic vs SS Sparks\n10:15:Crt4:11&U:The Flying Eagles1 vs The Flying Eagles2\n\n11:00:Crt1:15&U:SS Strikers vs Awesome Angels 15s1\n11:00:Crt2:17&U:NB Kangas vs Awesome Angels 17s1\n11:00:Crt4:15&U:Storm vs NB Lions\n\n11:00:Crt99:15&U:Power vs BYE\n11:15:Crt3:Net-:Netta vs NetSetGo!\n11:45:Crt1:11&U:Awesome Angels 11s1 vs SS Emeralds\n11:45:Crt2:13&U:Neon Nightmares 13s vs NB Dragons \n11:45:Crt99:13&U:Awesome Angels 13s1 vs BYE\n12:30:Crt2:Mixe:Treasures vs NB Wombat\n12:30:Crt3:Mixe:WiseOnes vs Awesome Angels Mixed\n\n\n\n
LAST-MODIFIED:20190224T200606Z
LOCATION:BNASC Stadium, RMIT Bundoora, Off McKimmes Road
SEQUENCE:0
STATUS:CONFIRMED
SUMMARY:Rnd 6 2019Autumn PVNA Competition
TRANSP:OPAQUE
END:VEVENT
BEGIN:VEVENT
DTSTART:20190323T090000
DTEND:20190323T133000
DTSTAMP:20190224T120606Z
UID:dd1bc5b788288510d58c2bdeb6fcab79@pvna.com.au
CREATED:20190224T200606Z
DESCRIPTION:2019Autumn:Rnd 7\n\n08:45:Crt1:15&U:SS Rubies vs Power\n08:45:Crt2:13&U:Roxy Power vs Awesome Angels 13s4\n08:45:Crt3:17&U:Awesome Angels 17s1 vs Phoenix\n08:45:Crt4:13&U:Wildcats 13s vs Awesome Angels 13s3\n\n09:30:Crt1:11&U:8-10s vs Awesome Angels 11s1\n09:30:Crt1:8-10:NB Tigers vs 11s\n09:30:Crt2:13&U:Roxy Jnr vs NB Dragons \n09:30:Crt3:17&U:SS Sparks vs NB Kangas\n09:30:Crt4:15&U:Neon Nightmares 15s vs Wildcats 15s\n\n09:30:Crt99:13&U:SS Diamonds vs BYE\n10:15:Crt1:13&U:Neon Nightmares 13s vs NB Cubs\n10:15:Crt2:15&U:Awesome Angels 15s2 vs SS Saphires\n10:15:Crt3:17&U:Roxy vs SS Magic\n10:15:Crt4:11&U:The Flying Eagles2 vs Falcons\n\n10:15:Crt99:11&U:BYE vs BYE\n11:00:Crt1:15&U:Storm vs SS Strikers\n11:00:Crt2:13&U:Awesome Angels 13s1 vs Awesome Angels 13s2\n11:00:Crt4:11&U:The Flying Eagles1 vs SS Emeralds\n\n11:00:Crt99:15&U:SS Rubies vs BYE\n11:15:Crt3:Net-:NetSetGo! vs Netta\n11:45:Crt1:8-10:SS Crystals vs Awesome Angels 8-10s1\n11:45:Crt2:15&U:Awesome Angels 15s1 vs NB Lions\n12:30:Crt3:Mixe:BYE vs BYE\n\n\n\n
LAST-MODIFIED:20190224T200606Z
LOCATION:BNASC Stadium, RMIT Bundoora, Off McKimmes Road
SEQUENCE:0
STATUS:CONFIRMED
SUMMARY:Rnd 7 2019Autumn PVNA Competition
TRANSP:OPAQUE
END:VEVENT
BEGIN:VEVENT
DTSTART:20190330T090000
DTEND:20190330T133000
DTSTAMP:20190224T120606Z
UID:6a220cacea22991a3748bd6714905649@pvna.com.au
CREATED:20190224T200606Z
DESCRIPTION:2019Autumn:Rnd 8\n\n08:45:Crt1:8-10:NB Tigers vs Awesome Angels 8-10s1\n08:45:Crt2:11&U:The Flying Eagles1 vs Falcons\n08:45:Crt3:17&U:NB Kangas vs Phoenix\n08:45:Crt4:11&U:8-10s vs SS Emeralds\n\n08:45:Crt4:13&U:SS Diamonds vs Awesome Angels 13s2\n\n09:30:Crt1:13&U:Wildcats 13s vs NB Dragons \n09:30:Crt2:15&U:Wildcats 15s vs NB Lions\n09:30:Crt3:13&U:Neon Nightmares 13s vs Awesome Angels 13s4\n09:30:Crt4:11&U:Awesome Angels 11s1 vs The Flying Eagles2\n\n09:30:Crt99:13&U:Roxy Power vs BYE\n10:15:Crt1:17&U:SS Sparks vs Roxy\n10:15:Crt2:13&U:Roxy Jnr vs NB Cubs\n10:15:Crt3:15&U:Storm vs SS Saphires\n10:20:Crt4:15&U:Awesome Angels 15s1 vs Storm\n\n11:00:Crt1:15&U:NB Lions vs SS Strikers\n11:00:Crt2:15&U:Power vs Awesome Angels 15s2\n11:00:Crt4:17&U:SS Magic vs Awesome Angels 17s1\n\n11:00:Crt99:15&U:13s vs BYE\n11:15:Crt3:Net-:Netta vs NetSetGo!\n11:45:Crt1:13&U:Awesome Angels 13s1 vs Awesome Angels 13s3\n11:45:Crt2:8-10:SS Crystals vs 11s\n12:30:Crt1:Mixe:Awesome Angels Mixed vs NB Wombat\n12:30:Crt2:Mixe:WiseOnes vs Treasures\n\n\n\n
LAST-MODIFIED:20190224T200606Z
LOCATION:BNASC Stadium, RMIT Bundoora, Off McKimmes Road
SEQUENCE:0
STATUS:CONFIRMED
SUMMARY:Rnd 8 2019Autumn PVNA Competition
TRANSP:OPAQUE
END:VEVENT
BEGIN:VEVENT
DTSTART:20190406T090000
DTEND:20190406T133000
DTSTAMP:20190224T120606Z
UID:d0ca77ad82ab138cb6da1f8521e75e02@pvna.com.au
CREATED:20190224T200606Z
DESCRIPTION:2019Autumn:Rnd 9\n\n08:45:Crt1:8-10:SS Crystals vs NB Tigers\n08:45:Crt2:8-10:Awesome Angels 8-10s1 vs 11s\n08:45:Crt3:11&U:The Flying Eagles2 vs SS Emeralds\n08:45:Crt4:11&U:Awesome Angels 11s1 vs Falcons\n\n08:45:Crt99:11&U:8-10s vs The Flying Eagles1\n09:30:Crt1:13&U:Wildcats 13s vs NB Cubs\n09:30:Crt2:13&U:Roxy Jnr vs Awesome Angels 13s4\n09:30:Crt3:13&U:Roxy Power vs Awesome Angels 13s2\n09:30:Crt4:13&U:SS Diamonds vs Awesome Angels 13s3\n\n09:30:Crt99:13&U:Neon Nightmares 13s vs BYE\n10:15:Crt1:13&U:Awesome Angels 13s1 vs NB Dragons \n10:15:Crt2:15&U:Wildcats 15s vs SS Saphires\n10:15:Crt4:15&U:SS Strikers vs Neon Nightmares 15s\n\n10:20:Crt3:15&U:Storm vs NB Lions\n10:20:Crt99:15&U:13s vs BYE\n11:00:Crt1:15&U:SS Rubies vs Awesome Angels 15s2\n11:00:Crt2:15&U:SS Strikers vs Awesome Angels 15s1\n11:00:Crt4:17&U:Awesome Angels 17s1 vs Roxy\n\n11:15:Crt3:Net-:NetSetGo! vs Netta\n11:45:Crt1:17&U:NB Kangas vs SS Magic\n11:45:Crt2:17&U:SS Sparks vs Phoenix\n12:30:Crt1:Mixe:NB Wombat vs WiseOnes\n12:30:Crt2:Mixe:Treasures vs Awesome Angels Mixed\n\n\n\n
LAST-MODIFIED:20190224T200606Z
LOCATION:BNASC Stadium, RMIT Bundoora, Off McKimmes Road
SEQUENCE:0
STATUS:CONFIRMED
SUMMARY:Rnd 9 2019Autumn PVNA Competition
TRANSP:OPAQUE
END:VEVENT
BEGIN:VEVENT
DTSTART:20190427T090000
DTEND:20190427T133000
DTSTAMP:20190224T120606Z
UID:ded90db08269bb96cde0b7d54bf61486@pvna.com.au
CREATED:20190224T200606Z
DESCRIPTION:2019Autumn:Rnd 10\n\n08:45:Crt1:8-10:Awesome Angels 8-10s1 vs SS Crystals\n08:45:Crt2:8-10:NB Tigers vs 11s\n08:45:Crt3:11&U:Falcons vs SS Emeralds\n08:45:Crt4:11&U:Awesome Angels 11s1 vs The Flying Eagles1\n\n09:30:Crt1:13&U:Wildcats 13s vs Awesome Angels 13s4\n09:30:Crt2:13&U:Neon Nightmares 13s vs Awesome Angels 13s2\n09:30:Crt3:13&U:Roxy Power vs Awesome Angels 13s3\n09:30:Crt4:13&U:SS Diamonds vs NB Dragons \n\n09:30:Crt99:11&U:8-10s vs The Flying Eagles2\n09:30:Crt99:13&U:Roxy Jnr vs BYE\n10:15:Crt1:13&U:Awesome Angels 13s1 vs NB Cubs\n10:15:Crt2:15&U:Wildcats 15s vs Awesome Angels 15s3\n10:15:Crt3:15&U:Awesome Angels 15s1 vs Neon Nightmares 15s\n10:20:Crt4:15&U:SS Strikers vs Storm\n\n10:20:Crt99:15&U:13s vs BYE\n11:00:Crt1:15&U:Awesome Angels 15s1 vs NB Lions\n11:00:Crt2:15&U:Power vs SS Saphires\n11:00:Crt4:17&U:NB Kangas vs Roxy\n\n11:15:Crt3:Net-:Netta vs NetSetGo!\n11:45:Crt1:17&U:SS Magic vs Phoenix\n11:45:Crt2:17&U:SS Sparks vs Awesome Angels 17s1\n12:30:Crt1:Mixe:WiseOnes vs Awesome Angels Mixed\n12:30:Crt2:Mixe:Treasures vs NB Wombat\n\n\n\n
LAST-MODIFIED:20190224T200606Z
LOCATION:BNASC Stadium, RMIT Bundoora, Off McKimmes Road
SEQUENCE:0
STATUS:CONFIRMED
SUMMARY:Rnd 10 2019Autumn PVNA Competition
TRANSP:OPAQUE
END:VEVENT
BEGIN:VEVENT
DTSTART:20190504T090000
DTEND:20190504T133000
DTSTAMP:20190224T120606Z
UID:e9dcb387c2a626378e8ede27c9105cee@pvna.com.au
CREATED:20190224T200606Z
DESCRIPTION:2019Autumn:Rnd 11\n\n08:45:Crt1:11&U:Awesome Angels 11s1 vs The Flying Eagles2\n08:45:Crt1:17&U:Phoenix vs Roxy\n08:45:Crt1:11&U:The Flying Eagles1 vs 11s\n08:45:Crt1:13&U:Neon Nightmares 13s vs Awesome Angels 13s3\n08:45:Crt1:17&U:SS Magic vs SS Sparks\n08:45:Crt2:13&U:SS Diamonds vs NB Cubs\n08:45:Crt4:13&U:Awesome Angels 13s1 vs Awesome Angels 13s4\n\n08:45:Crt4:11&U:8-10s vs Falcons\n\n08:45:Crt99:13&U:Wildcats 13s vs BYE\n08:50:Crt3:15&U:Awesome Angels 15s1 vs Storm\n09:30:Crt1:15&U:Storm vs Neon Nightmares 15s\n09:30:Crt1:13&U:Roxy Jnr vs Awesome Angels 13s2\n09:30:Crt2:13&U:Roxy Power vs NB Dragons \n09:30:Crt3:15&U:SS Strikers vs NB Lions\n09:30:Crt4:15&U:SS Rubies vs SS Saphires\n\n09:30:Crt99:15&U:Wildcats 15s vs BYE\n10:15:Crt1:15&U:Power vs Awesome Angels 15s3\n10:15:Crt1:8-10:Awesome Angels 8-10s1 vs NB Tigers\n10:15:Crt1:8-10:SS Crystals vs 11s\n10:15:Crt3:17&U:NB Kangas vs Awesome Angels 17s1\n11:15:Crt3:Net-:NetSetGo! vs Netta\n11:30:Crt99:Mixe:BYE vs BYE\n\n\n\n
LAST-MODIFIED:20190224T200606Z
LOCATION:BNASC Stadium, RMIT Bundoora, Off McKimmes Road
SEQUENCE:0
STATUS:CONFIRMED
SUMMARY:Rnd 11 2019Autumn PVNA Competition
TRANSP:OPAQUE
END:VEVENT
BEGIN:VEVENT
DTSTART:20190511T090000
DTEND:20190511T133000
DTSTAMP:20190224T120606Z
UID:0e63c1726b83115740b33f2b750a0c02@pvna.com.au
CREATED:20190224T200606Z
DESCRIPTION:2019Autumn:Rnd 12\n\n08:45:Crt1:8-10:SS Crystals vs NB Tigers\n08:45:Crt2:8-10:Awesome Angels 8-10s1 vs 11s\n08:45:Crt3:11&U:The Flying Eagles1 vs SS Emeralds\n08:45:Crt4:11&U:The Flying Eagles2 vs Falcons\n\n09:30:Crt1:13&U:TBA vs TBA\n09:30:Crt2:13&U:TBA vs TBA\n09:30:Crt3:13&U:TBA vs TBA\n09:30:Crt4:11&U:8-10s vs Awesome Angels 11s1\n\n09:30:Crt4:13&U:TBA vs TBA\n\n10:15:Crt1:13&U:TBA vs TBA\n10:15:Crt2:15&U:Wildcats 15s vs Storm\n10:15:Crt4:15&U:SS Rubies vs Power\n\n10:15:Crt99:13&U:TBA vs BYE\n10:20:Crt3:15&U:Awesome Angels 15s1 vs SS Strikers\n11:00:Crt1:15&U:NB Lions vs Storm\n11:00:Crt2:15&U:NB Lions vs SS Saphires\n11:00:Crt4:17&U:Phoenix vs Awesome Angels 17s1\n\n11:00:Crt99:15&U:13s vs BYE\n11:15:Crt3:Net-:Netta vs NetSetGo!\n11:45:Crt1:17&U:SS Magic vs Roxy\n11:45:Crt2:17&U:NB Kangas vs SS Sparks\n12:30:Crt1:Mixe:Awesome Angels Mixed vs NB Wombat\n12:30:Crt2:Mixe:WiseOnes vs Treasures\n\n\n\n
LAST-MODIFIED:20190224T200606Z
LOCATION:BNASC Stadium, RMIT Bundoora, Off McKimmes Road
SEQUENCE:0
STATUS:CONFIRMED
SUMMARY:Rnd 12 2019Autumn PVNA Competition
TRANSP:OPAQUE
END:VEVENT
BEGIN:VEVENT
DTSTART:20190518T090000
DTEND:20190518T133000
DTSTAMP:20190224T120606Z
UID:50badbbeb0b3ec6012accb2d7b26f21e@pvna.com.au
CREATED:20190224T200606Z
DESCRIPTION:2019Autumn:Rnd 13\n\n08:45:Crt1:8-10:SS Crystals vs Awesome Angels 8-10s1\n08:45:Crt2:8-10:NB Tigers vs 11s\n08:45:Crt3:11&U:The Flying Eagles2 vs Awesome Angels 11s1\n08:45:Crt4:11&U:Falcons vs The Flying Eagles1\n\n09:30:Crt1:13&U:TBA vs TBA\n09:30:Crt2:13&U:TBA vs TBA\n09:30:Crt3:13&U:TBA vs TBA\n09:30:Crt4:13&U:TBA vs TBA\n\n09:30:Crt4:11&U:8-10s vs SS Emeralds\n\n10:15:Crt1:13&U:TBA vs TBA\n10:15:Crt3:15&U:Storm vs SS Rubies\n10:15:Crt4:15&U:SS Strikers vs Power\n\n10:15:Crt99:13&U:TBA vs BYE\n10:20:Crt2:15&U:NB Lions vs Awesome Angels 15s1\n11:00:Crt1:15&U:Neon Nightmares 15s vs NB Lions\n11:00:Crt2:15&U:SS Strikers vs Storm\n11:00:Crt4:17&U:Awesome Angels 17s1 vs SS Magic\n\n11:00:Crt99:15&U:SS Saphires vs BYE\n11:15:Crt3:Net-:NetSetGo! vs Netta\n11:45:Crt1:17&U:SS Sparks vs Roxy\n11:45:Crt2:17&U:NB Kangas vs Phoenix\n12:30:Crt1:Mixe:NB Wombat vs WiseOnes\n12:30:Crt2:Mixe:Treasures vs Awesome Angels Mixed\n\n\n\n
LAST-MODIFIED:20190224T200606Z
LOCATION:BNASC Stadium, RMIT Bundoora, Off McKimmes Road
SEQUENCE:0
STATUS:CONFIRMED
SUMMARY:Rnd 13 2019Autumn PVNA Competition
TRANSP:OPAQUE
END:VEVENT
BEGIN:VEVENT
DTSTART:20190525T090000
DTEND:20190525T133000
DTSTAMP:20190224T120606Z
UID:1204dc122d1cc99c569c0ce02bcdaa99@pvna.com.au
CREATED:20190224T200606Z
DESCRIPTION:2019Autumn:Rnd 14\n\n08:45:Crt1:8-10:NB Tigers vs Awesome Angels 8-10s1\n08:45:Crt2:8-10:SS Crystals vs 11s\n08:45:Crt3:11&U:The Flying Eagles2 vs SS Emeralds\n08:45:Crt4:11&U:Awesome Angels 11s1 vs Falcons\n\n08:45:Crt99:11&U:8-10s vs The Flying Eagles1\n09:30:Crt1:13&U:TBA vs TBA\n09:30:Crt2:13&U:TBA vs TBA\n09:30:Crt3:13&U:TBA vs TBA\n09:30:Crt4:13&U:TBA vs TBA\n\n10:15:Crt1:13&U:TBA vs TBA\n10:15:Crt2:15&U:Wildcats 15s vs SS Strikers\n10:15:Crt3:15&U:Storm vs Power\n10:15:Crt99:13&U:TBA vs BYE\n10:20:Crt4:15&U:NB Lions vs SS Strikers\n\n11:00:Crt1:15&U:Neon Nightmares 15s vs SS Saphires\n11:00:Crt2:15&U:Storm vs Awesome Angels 15s3\n11:00:Crt4:17&U:SS Sparks vs Phoenix\n\n11:00:Crt99:15&U:Awesome Angels 15s2 vs BYE\n11:15:Crt3:Net-:Netta vs NetSetGo!\n11:45:Crt1:17&U:Awesome Angels 17s1 vs Roxy\n11:45:Crt2:17&U:NB Kangas vs SS Sparks\n12:30:Crt1:Mixe:WiseOnes vs Awesome Angels Mixed\n12:30:Crt2:Mixe:Treasures vs NB Wombat\n\n\n\n
LAST-MODIFIED:20190224T200606Z
LOCATION:BNASC Stadium, RMIT Bundoora, Off McKimmes Road
SEQUENCE:0
STATUS:CONFIRMED
SUMMARY:Rnd 14 2019Autumn PVNA Competition
TRANSP:OPAQUE
END:VEVENT
BEGIN:VEVENT
DTSTART:20190601T090000
DTEND:20190601T133000
DTSTAMP:20190224T120606Z
UID:00544b3b1e9de6ef7eed0d031ad796c4@pvna.com.au
CREATED:20190224T200606Z
DESCRIPTION:2019Autumn:Rnd 15\n\n08:45:Crt1:11&U:Falcons vs SS Emeralds\n08:45:Crt2:11&U:Awesome Angels 11s1 vs The Flying Eagles1\n08:45:Crt3:13&U:TBA vs TBA\n08:45:Crt4:11&U:8-10s vs The Flying Eagles2\n\n08:45:Crt4:13&U:TBA vs TBA\n\n09:30:Crt1:13&U:TBA vs TBA\n09:30:Crt2:13&U:TBA vs TBA\n09:30:Crt3:13&U:TBA vs TBA\n09:30:Crt4:15&U:Wildcats 15s vs SS Rubies\n\n09:30:Crt99:13&U:TBA vs BYE\n10:15:Crt3:15&U:Neon Nightmares 15s vs Awesome Angels 15s3\n10:15:Crt4:15&U:Awesome Angels 15s2 vs SS Saphires\n\n10:20:Crt1:15&U:Awesome Angels 15s1 vs SS Strikers\n10:20:Crt2:15&U:Storm vs NB Lions\n11:00:Crt1:17&U:NB Kangas vs Roxy\n11:00:Crt2:17&U:Phoenix vs SS Magic\n11:00:Crt4:17&U:SS Sparks vs Awesome Angels 17s1\n\n11:00:Crt99:15&U:13s vs BYE\n11:15:Crt3:Net-:NetSetGo! vs Netta\n11:30:Crt1:8-10:Awesome Angels 8-10s1 vs 11s\n11:30:Crt2:8-10:NB Tigers vs SS Crystals\n11:30:Crt99:Mixe:BYE vs BYE\n\n\n\n
LAST-MODIFIED:20190224T200606Z
LOCATION:BNASC Stadium, RMIT Bundoora, Off McKimmes Road
SEQUENCE:0
STATUS:CONFIRMED
SUMMARY:Rnd 15 2019Autumn PVNA Competition
TRANSP:OPAQUE
END:VEVENT
BEGIN:VEVENT
DTSTART:20190615T090000
DTEND:20190615T133000
DTSTAMP:20190224T120606Z
UID:c854aa9ecf6c45525bcd6d640915d508@pvna.com.au
CREATED:20190224T200606Z
DESCRIPTION:2019Autumn:Rnd 16\n\n08:45:Crt1:8-10:SS Crystals vs Awesome Angels 8-10s1\n08:45:Crt2:8-10:NB Tigers vs 11s\n08:45:Crt3:11&U:Awesome Angels 11s1 vs SS Emeralds\n08:45:Crt4:11&U:The Flying Eagles1 vs The Flying Eagles2\n\n09:30:Crt1:13&U:BYE vs BYE\n09:30:Crt2:13&U:BYE vs BYE\n09:30:Crt3:13&U:BYE vs BYE\n09:30:Crt4:11&U:8-10s vs Falcons\n\n09:30:Crt4:13&U:BYE vs BYE\n\n09:30:Crt99:13&U:BYE vs BYE\n10:15:Crt1:13&U:BYE vs BYE\n10:15:Crt2:15&U:Wildcats 15s vs Power\n10:15:Crt4:15&U:SS Strikers vs SS Rubies\n\n10:20:Crt3:15&U:BYE vs BYE\n11:00:Crt1:15&U:BYE vs BYE\n11:00:Crt2:15&U:SS Saphires vs Awesome Angels 15s3\n11:15:Crt3:Net-:Netta vs NetSetGo!\n11:45:Crt1:17&U:BYE vs BYE\n11:45:Crt2:17&U:BYE vs BYE\n12:30:Crt1:Mixe:Awesome Angels Mixed vs NB Wombat\n12:30:Crt2:Mixe:WiseOnes vs Treasures\n\n\n\n
LAST-MODIFIED:20190224T200606Z
LOCATION:BNASC Stadium, RMIT Bundoora, Off McKimmes Road
SEQUENCE:0
STATUS:CONFIRMED
SUMMARY:Rnd 16 2019Autumn PVNA Competition
TRANSP:OPAQUE
END:VEVENT
BEGIN:VEVENT
DTSTART:20190622T090000
DTEND:20190622T133000
DTSTAMP:20190224T120606Z
UID:a34e87c56bd7089ed2c304c437cd49ae@pvna.com.au
CREATED:20190224T200606Z
DESCRIPTION:2019Autumn:Rnd 17\n\n08:45:Crt1:8-10:Awesome Angels 8-10s1 vs NB Tigers\n08:45:Crt2:13&U:BYE vs BYE\n08:45:Crt2:8-10:SS Crystals vs 11s\n08:45:Crt3:13&U:BYE vs BYE\n08:45:Crt4:13&U:BYE vs BYE\n\n08:45:Crt99:11&U:8-10s vs Awesome Angels 11s1\n09:30:Crt1:13&U:BYE vs BYE\n09:30:Crt2:13&U:BYE vs BYE\n09:30:Crt3:15&U:Wildcats 15s vs Neon Nightmares 15s\n09:30:Crt4:15&U:Storm vs Awesome Angels 15s2\n\n09:30:Crt99:13&U:BYE vs BYE\n10:15:Crt1:11&U:The Flying Eagles1 vs SS Emeralds\n10:15:Crt1:11&U:The Flying Eagles2 vs Falcons\n10:15:Crt3:15&U:SS Rubies vs Awesome Angels 15s3\n10:15:Crt99:17&U:BYE vs BYE\n10:20:Crt1:15&U:BYE vs BYE\n11:00:Crt1:Mixe:Treasures vs Awesome Angels Mixed\n11:15:Crt3:Net-:NetSetGo! vs Netta\n11:30:Crt4:Mixe:NB Wombat vs WiseOnes\n\n\n\n\n
LAST-MODIFIED:20190224T200606Z
LOCATION:BNASC Stadium, RMIT Bundoora, Off McKimmes Road
SEQUENCE:0
STATUS:CONFIRMED
SUMMARY:Rnd 17 2019Autumn PVNA Competition
TRANSP:OPAQUE
END:VEVENT
BEGIN:VEVENT
DTSTART:20190629T090000
DTEND:20190629T133000
DTSTAMP:20190224T120606Z
UID:0f851b034ad29adb42bee77aa75126e8@pvna.com.au
CREATED:20190224T200606Z
DESCRIPTION:2019Autumn:Rnd 18\n\n08:45:Crt1:8-10:NB Tigers vs SS Crystals\n08:45:Crt2:8-10:Awesome Angels 8-10s1 vs 11s\n08:45:Crt3:11&U:Falcons vs The Flying Eagles1\n08:45:Crt4:11&U:Awesome Angels 11s1 vs The Flying Eagles2\n\n09:30:Crt1:13&U:BYE vs BYE\n09:30:Crt2:13&U:BYE vs BYE\n09:30:Crt3:13&U:BYE vs BYE\n09:30:Crt4:11&U:8-10s vs SS Emeralds\n\n10:15:Crt2:15&U:Wildcats 15s vs Awesome Angels 15s2\n10:20:Crt3:15&U:BYE vs BYE\n11:00:Crt1:15&U:Power vs Neon Nightmares 15s\n11:00:Crt2:15&U:SS Strikers vs Awesome Angels 15s3\n11:00:Crt4:17&U:BYE vs BYE\n\n11:15:Crt3:Net-:Netta vs NetSetGo!\n12:30:Crt1:Mixe:WiseOnes vs Awesome Angels Mixed\n12:30:Crt2:Mixe:Treasures vs NB Wombat\n\n\n\n
LAST-MODIFIED:20190224T200606Z
LOCATION:BNASC Stadium, RMIT Bundoora, Off McKimmes Road
SEQUENCE:0
STATUS:CONFIRMED
SUMMARY:Rnd 18 2019Autumn PVNA Competition
TRANSP:OPAQUE
END:VEVENT
END:VCALENDAR
