BEGIN:VCALENDAR
PRODID:-//Google Inc//Google Calendar 70.9054//EN
VERSION:2.0
CALSCALE:GREGORIAN
METHOD:PUBLISH
X-WR-CALNAME:PV Comets Awesome Angels 13s3
X-WR-TIMEZONE:Australia/Sydney
X-WR-CALDESC:PV Comets Parkville Calendars
BEGIN:VEVENT
DTSTART:20190202T093000
DTEND:20190202T101000
DTSTAMP:20190224T120606Z
UID:0b4d9df41ef609bbd153ddaacaf30e83@pvna.com.au
CREATED:20190224T200606Z
DESCRIPTION:2019 Autumn Section:13&Under\nRound:Rnd 1
LAST-MODIFIED:20190224T200606Z
LOCATION:Court: 4
SEQUENCE:0
STATUS:CONFIRMED
SUMMARY:13&U-Rnd 1: Awesome Angels 13s2 (7) vs Awesome Angels 13s3 (14)
TRANSP:OPAQUE
END:VEVENT
BEGIN:VEVENT
DTSTART:20190209T084500
DTEND:20190209T092500
DTSTAMP:20190224T120606Z
UID:b095c55c44fd4ef81083799f38dbd2a8@pvna.com.au
CREATED:20190224T200606Z
DESCRIPTION:2019 Autumn Section:13&Under\nRound:Rnd 2
LAST-MODIFIED:20190224T200606Z
LOCATION:Court: 1
SEQUENCE:0
STATUS:CONFIRMED
SUMMARY:13&U-Rnd 2: Awesome Angels 13s3 (18) vs Awesome Angels 13s4 (4)
TRANSP:OPAQUE
END:VEVENT
BEGIN:VEVENT
DTSTART:20190216T101500
DTEND:20190216T105500
DTSTAMP:20190224T120606Z
UID:14fa7fa9ef0468e23ca94721db548e5c@pvna.com.au
CREATED:20190224T200606Z
DESCRIPTION:2019 Autumn Section:13&Under\nRound:Rnd 3
LAST-MODIFIED:20190224T200606Z
LOCATION:Court: 99
SEQUENCE:0
STATUS:CONFIRMED
SUMMARY:13&U-Rnd 3: Awesome Angels 13s3 vs BYE
TRANSP:OPAQUE
END:VEVENT
BEGIN:VEVENT
DTSTART:20190223T114500
DTEND:20190223T122500
DTSTAMP:20190224T120606Z
UID:8590ca5c50400d898dd756fa05d45eea@pvna.com.au
CREATED:20190224T200606Z
DESCRIPTION:2019 Autumn Section:13&Under\nRound:Rnd 4
LAST-MODIFIED:20190224T200606Z
LOCATION:Court: 1
SEQUENCE:0
STATUS:CONFIRMED
SUMMARY:13&U-Rnd 4: Awesome Angels 13s3 (11) vs NB Cubs (8)
TRANSP:OPAQUE
END:VEVENT
BEGIN:VEVENT
DTSTART:20190302T110000
DTEND:20190302T114500
DTSTAMP:20190224T120606Z
UID:7cedb2ddb461ecc7fa78e4f59a7a816a@pvna.com.au
CREATED:20190224T200606Z
DESCRIPTION:2019 Autumn Section:13&Under\nRound:Rnd 5\n\nCurrent Ladder:\nTeam            P  W  L  D  Pts\nWildcats 13s    4  4  0  0  16\nAwesome Angels 13s3 4  4  0  0  16\nRoxy Jnr        4  3  1  0  12\nNB Dragons      4  2  1  1  10\nNB Cubs         4  2  1  1  10\nSS Diamonds     4  2  2  0  8 \nAwesome Angels 13s2 4  2  2  0  8 \nNeon Nightmares 13s 4  1  2  1  6 \nRoxy Power      4  1  3  0  4 \nAwesome Angels 13s4 4  1  3  0  4 \nAwesome Angels 13s1 4  0  3  1  2 \nTBA             0  0  0  0  0 \n
LAST-MODIFIED:20190224T200606Z
LOCATION:Court: 4
SEQUENCE:0
STATUS:CONFIRMED
SUMMARY:13&U-Rnd 5: Awesome Angels 13s3 vs NB Dragons 
TRANSP:OPAQUE
END:VEVENT
BEGIN:VEVENT
DTSTART:20190316T093000
DTEND:20190316T101000
DTSTAMP:20190224T120606Z
UID:109f9eacee7ca91c59c09cf1c009a753@pvna.com.au
CREATED:20190224T200606Z
DESCRIPTION:2019 Autumn Section:13&Under\nRound:Rnd 6
LAST-MODIFIED:20190224T200606Z
LOCATION:Court: 2
SEQUENCE:0
STATUS:CONFIRMED
SUMMARY:13&U-Rnd 6: Roxy Jnr vs Awesome Angels 13s3
TRANSP:OPAQUE
END:VEVENT
BEGIN:VEVENT
DTSTART:20190323T084500
DTEND:20190323T092500
DTSTAMP:20190224T120606Z
UID:d8f2f01fa772bc286085e954075eff93@pvna.com.au
CREATED:20190224T200606Z
DESCRIPTION:2019 Autumn Section:13&Under\nRound:Rnd 7
LAST-MODIFIED:20190224T200606Z
LOCATION:Court: 4
SEQUENCE:0
STATUS:CONFIRMED
SUMMARY:13&U-Rnd 7: Wildcats 13s vs Awesome Angels 13s3
TRANSP:OPAQUE
END:VEVENT
BEGIN:VEVENT
DTSTART:20190330T114500
DTEND:20190330T122500
DTSTAMP:20190224T120606Z
UID:4770b2d004b25cdada98cdb8a908f2b8@pvna.com.au
CREATED:20190224T200606Z
DESCRIPTION:2019 Autumn Section:13&Under\nRound:Rnd 8
LAST-MODIFIED:20190224T200606Z
LOCATION:Court: 1
SEQUENCE:0
STATUS:CONFIRMED
SUMMARY:13&U-Rnd 8: Awesome Angels 13s1 vs Awesome Angels 13s3
TRANSP:OPAQUE
END:VEVENT
BEGIN:VEVENT
DTSTART:20190406T093000
DTEND:20190406T101000
DTSTAMP:20190224T120606Z
UID:0cfe0f09a4bdffa701695a7cf4c030b5@pvna.com.au
CREATED:20190224T200606Z
DESCRIPTION:2019 Autumn Section:13&Under\nRound:Rnd 9
LAST-MODIFIED:20190224T200606Z
LOCATION:Court: 4
SEQUENCE:0
STATUS:CONFIRMED
SUMMARY:13&U-Rnd 9: SS Diamonds vs Awesome Angels 13s3
TRANSP:OPAQUE
END:VEVENT
BEGIN:VEVENT
DTSTART:20190427T093000
DTEND:20190427T101000
DTSTAMP:20190224T120606Z
UID:06ba888e355df98cf8a9fcf7d4940285@pvna.com.au
CREATED:20190224T200606Z
DESCRIPTION:2019 Autumn Section:13&Under\nRound:Rnd 10
LAST-MODIFIED:20190224T200606Z
LOCATION:Court: 3
SEQUENCE:0
STATUS:CONFIRMED
SUMMARY:13&U-Rnd 10: Roxy Power vs Awesome Angels 13s3
TRANSP:OPAQUE
END:VEVENT
BEGIN:VEVENT
DTSTART:20190504T084500
DTEND:20190504T092500
DTSTAMP:20190224T120606Z
UID:1f88660614c060bdfc3ecd5afbc7d3b3@pvna.com.au
CREATED:20190224T200606Z
DESCRIPTION:2019 Autumn Section:13&Under\nRound:Rnd 11
LAST-MODIFIED:20190224T200606Z
LOCATION:Court: 1
SEQUENCE:0
STATUS:CONFIRMED
SUMMARY:13&U-Rnd 11: Neon Nightmares 13s vs Awesome Angels 13s3
TRANSP:OPAQUE
END:VEVENT
END:VCALENDAR
