BEGIN:VCALENDAR
PRODID:-//Google Inc//Google Calendar 70.9054//EN
VERSION:2.0
CALSCALE:GREGORIAN
METHOD:PUBLISH
X-WR-CALNAME:PV Comets Awesome Angels 13s4
X-WR-TIMEZONE:Australia/Sydney
X-WR-CALDESC:PV Comets Parkville Calendars
BEGIN:VEVENT
DTSTART:20190202T101500
DTEND:20190202T105500
DTSTAMP:20190224T120606Z
UID:3f62d605f9b52ba726849f78d32ed4b9@pvna.com.au
CREATED:20190224T200606Z
DESCRIPTION:2019 Autumn Section:13&Under\nRound:Rnd 1
LAST-MODIFIED:20190224T200606Z
LOCATION:Court: 99
SEQUENCE:0
STATUS:CONFIRMED
SUMMARY:13&U-Rnd 1: Awesome Angels 13s4 vs BYE
TRANSP:OPAQUE
END:VEVENT
BEGIN:VEVENT
DTSTART:20190209T084500
DTEND:20190209T092500
DTSTAMP:20190224T120606Z
UID:f6eff5648462627fd6b77f25aa3d018a@pvna.com.au
CREATED:20190224T200606Z
DESCRIPTION:2019 Autumn Section:13&Under\nRound:Rnd 2
LAST-MODIFIED:20190224T200606Z
LOCATION:Court: 1
SEQUENCE:0
STATUS:CONFIRMED
SUMMARY:13&U-Rnd 2: Awesome Angels 13s3 (18) vs Awesome Angels 13s4 (4)
TRANSP:OPAQUE
END:VEVENT
BEGIN:VEVENT
DTSTART:20190216T101500
DTEND:20190216T105500
DTSTAMP:20190224T120606Z
UID:43ca52034bd61882fd2b616651ded201@pvna.com.au
CREATED:20190224T200606Z
DESCRIPTION:2019 Autumn Section:13&Under\nRound:Rnd 3
LAST-MODIFIED:20190224T200606Z
LOCATION:Court: 4
SEQUENCE:0
STATUS:CONFIRMED
SUMMARY:13&U-Rnd 3: NB Dragons  (16) vs Awesome Angels 13s4 (0)
TRANSP:OPAQUE
END:VEVENT
BEGIN:VEVENT
DTSTART:20190223T084500
DTEND:20190223T092500
DTSTAMP:20190224T120606Z
UID:9f50411415e1e5fb30608a3d08c8eab0@pvna.com.au
CREATED:20190224T200606Z
DESCRIPTION:2019 Autumn Section:13&Under\nRound:Rnd 4
LAST-MODIFIED:20190224T200606Z
LOCATION:Court: 4
SEQUENCE:0
STATUS:CONFIRMED
SUMMARY:13&U-Rnd 4: Awesome Angels 13s2 (9) vs Awesome Angels 13s4 (0)
TRANSP:OPAQUE
END:VEVENT
BEGIN:VEVENT
DTSTART:20190302T084500
DTEND:20190302T092500
DTSTAMP:20190224T120606Z
UID:00a639a3371c6fefcaf289b585aecd83@pvna.com.au
CREATED:20190224T200606Z
DESCRIPTION:2019 Autumn Section:13&Under\nRound:Rnd 5\n\nCurrent Ladder:\nTeam            P  W  L  D  Pts\nWildcats 13s    4  4  0  0  16\nAwesome Angels 13s3 4  4  0  0  16\nRoxy Jnr        4  3  1  0  12\nNB Dragons      4  2  1  1  10\nNB Cubs         4  2  1  1  10\nSS Diamonds     4  2  2  0  8 \nAwesome Angels 13s2 4  2  2  0  8 \nNeon Nightmares 13s 4  1  2  1  6 \nRoxy Power      4  1  3  0  4 \nAwesome Angels 13s4 4  1  3  0  4 \nAwesome Angels 13s1 4  0  3  1  2 \nTBA             0  0  0  0  0 \n
LAST-MODIFIED:20190224T200606Z
LOCATION:Court: 2
SEQUENCE:0
STATUS:CONFIRMED
SUMMARY:13&U-Rnd 5: NB Cubs vs Awesome Angels 13s4
TRANSP:OPAQUE
END:VEVENT
BEGIN:VEVENT
DTSTART:20190316T093000
DTEND:20190316T101000
DTSTAMP:20190224T120606Z
UID:b1434bb5e984f1e7221e4589f125ef62@pvna.com.au
CREATED:20190224T200606Z
DESCRIPTION:2019 Autumn Section:13&Under\nRound:Rnd 6
LAST-MODIFIED:20190224T200606Z
LOCATION:Court: 1
SEQUENCE:0
STATUS:CONFIRMED
SUMMARY:13&U-Rnd 6: SS Diamonds vs Awesome Angels 13s4
TRANSP:OPAQUE
END:VEVENT
BEGIN:VEVENT
DTSTART:20190323T084500
DTEND:20190323T092500
DTSTAMP:20190224T120606Z
UID:a2163491ba0d1178fc4702408429f97f@pvna.com.au
CREATED:20190224T200606Z
DESCRIPTION:2019 Autumn Section:13&Under\nRound:Rnd 7
LAST-MODIFIED:20190224T200606Z
LOCATION:Court: 2
SEQUENCE:0
STATUS:CONFIRMED
SUMMARY:13&U-Rnd 7: Roxy Power vs Awesome Angels 13s4
TRANSP:OPAQUE
END:VEVENT
BEGIN:VEVENT
DTSTART:20190330T093000
DTEND:20190330T101000
DTSTAMP:20190224T120606Z
UID:6063a0966b02eb5ea50e15f08075a0d0@pvna.com.au
CREATED:20190224T200606Z
DESCRIPTION:2019 Autumn Section:13&Under\nRound:Rnd 8
LAST-MODIFIED:20190224T200606Z
LOCATION:Court: 3
SEQUENCE:0
STATUS:CONFIRMED
SUMMARY:13&U-Rnd 8: Neon Nightmares 13s vs Awesome Angels 13s4
TRANSP:OPAQUE
END:VEVENT
BEGIN:VEVENT
DTSTART:20190406T093000
DTEND:20190406T101000
DTSTAMP:20190224T120606Z
UID:12efd8ed3dc6f316c16f877e045b8194@pvna.com.au
CREATED:20190224T200606Z
DESCRIPTION:2019 Autumn Section:13&Under\nRound:Rnd 9
LAST-MODIFIED:20190224T200606Z
LOCATION:Court: 2
SEQUENCE:0
STATUS:CONFIRMED
SUMMARY:13&U-Rnd 9: Roxy Jnr vs Awesome Angels 13s4
TRANSP:OPAQUE
END:VEVENT
BEGIN:VEVENT
DTSTART:20190427T093000
DTEND:20190427T101000
DTSTAMP:20190224T120606Z
UID:79135bf6dc79397adaff54ba89fa0b08@pvna.com.au
CREATED:20190224T200606Z
DESCRIPTION:2019 Autumn Section:13&Under\nRound:Rnd 10
LAST-MODIFIED:20190224T200606Z
LOCATION:Court: 1
SEQUENCE:0
STATUS:CONFIRMED
SUMMARY:13&U-Rnd 10: Wildcats 13s vs Awesome Angels 13s4
TRANSP:OPAQUE
END:VEVENT
BEGIN:VEVENT
DTSTART:20190504T084500
DTEND:20190504T092500
DTSTAMP:20190224T120606Z
UID:9a6773dd62395abaa5c3e593468747bb@pvna.com.au
CREATED:20190224T200606Z
DESCRIPTION:2019 Autumn Section:13&Under\nRound:Rnd 11
LAST-MODIFIED:20190224T200606Z
LOCATION:Court: 4
SEQUENCE:0
STATUS:CONFIRMED
SUMMARY:13&U-Rnd 11: Awesome Angels 13s1 vs Awesome Angels 13s4
TRANSP:OPAQUE
END:VEVENT
END:VCALENDAR
