BEGIN:VCALENDAR
PRODID:-//Google Inc//Google Calendar 70.9054//EN
VERSION:2.0
CALSCALE:GREGORIAN
METHOD:PUBLISH
X-WR-CALNAME:PV Comets Awesome Angels 15s2
X-WR-TIMEZONE:Australia/Sydney
X-WR-CALDESC:PV Comets Parkville Calendars
BEGIN:VEVENT
DTSTART:20190202T110000
DTEND:20190202T114500
DTSTAMP:20190224T120606Z
UID:6289e99994e07473050932a8220978e8@pvna.com.au
CREATED:20190224T200606Z
DESCRIPTION:2019 Autumn Section:15&Under\nRound:Rnd 1
LAST-MODIFIED:20190224T200606Z
LOCATION:Court: 99
SEQUENCE:0
STATUS:CONFIRMED
SUMMARY:15&U-Rnd 1: Awesome Angels 15s2 vs BYE
TRANSP:OPAQUE
END:VEVENT
BEGIN:VEVENT
DTSTART:20190209T114500
DTEND:20190209T122500
DTSTAMP:20190224T120606Z
UID:e6f63f2c538e22dbb746124865aedd19@pvna.com.au
CREATED:20190224T200606Z
DESCRIPTION:2019 Autumn Section:15&Under\nRound:Rnd 2
LAST-MODIFIED:20190224T200606Z
LOCATION:Court: 1
SEQUENCE:0
STATUS:CONFIRMED
SUMMARY:15&U-Rnd 2: Awesome Angels 15s2 (20) vs Awesome Angels 15s3 (2)
TRANSP:OPAQUE
END:VEVENT
BEGIN:VEVENT
DTSTART:20190216T110000
DTEND:20190216T114500
DTSTAMP:20190224T120606Z
UID:f292f541752fda0dae70900ecc13437f@pvna.com.au
CREATED:20190224T200606Z
DESCRIPTION:2019 Autumn Section:15&Under\nRound:Rnd 3
LAST-MODIFIED:20190224T200606Z
LOCATION:Court: 1
SEQUENCE:0
STATUS:CONFIRMED
SUMMARY:15&U-Rnd 3: NB Lions (11) vs Awesome Angels 15s2 (34)
TRANSP:OPAQUE
END:VEVENT
BEGIN:VEVENT
DTSTART:20190223T101500
DTEND:20190223T105500
DTSTAMP:20190224T120606Z
UID:d413dd67e6165dc7f51066b34d0ded03@pvna.com.au
CREATED:20190224T200606Z
DESCRIPTION:2019 Autumn Section:15&Under\nRound:Rnd 4
LAST-MODIFIED:20190224T200606Z
LOCATION:Court: 1
SEQUENCE:0
STATUS:CONFIRMED
SUMMARY:15&U-Rnd 4: Neon Nightmares 15s (21) vs Awesome Angels 15s2 (12)
TRANSP:OPAQUE
END:VEVENT
BEGIN:VEVENT
DTSTART:20190302T093000
DTEND:20190302T101000
DTSTAMP:20190224T120606Z
UID:ea39bf3369d9dd434f09540215b6cd3b@pvna.com.au
CREATED:20190224T200606Z
DESCRIPTION:2019 Autumn Section:15&Under\nRound:Rnd 5\n\nCurrent Ladder:\nTeam            P  W  L  D  Pts\nWildcats 15s    4  4  0  0  16\nSS Saphires     4  4  0  0  16\nAwesome Angels 15s2 4  3  1  0  12\nPower           4  3  1  0  12\nNeon Nightmares 15s 4  3  1  0  12\nSS Rubies       4  2  2  0  8 \nSS Strikers     3  1  2  0  4 \nAwesome Angels 15s3 3  1  2  0  4 \nStorm           3  0  3  0  0 \nAwesome Angels 15s1 3  0  3  0  0 \nNB Lions        3  0  3  0  0 \n
LAST-MODIFIED:20190224T200606Z
LOCATION:Court: 2
SEQUENCE:0
STATUS:CONFIRMED
SUMMARY:15&U-Rnd 5: Awesome Angels 15s2 vs SS Rubies
TRANSP:OPAQUE
END:VEVENT
BEGIN:VEVENT
DTSTART:20190316T101500
DTEND:20190316T105500
DTSTAMP:20190224T120606Z
UID:4919e4c71aa44c0be82580e05975a3f5@pvna.com.au
CREATED:20190224T200606Z
DESCRIPTION:2019 Autumn Section:15&Under\nRound:Rnd 6
LAST-MODIFIED:20190224T200606Z
LOCATION:Court: 1
SEQUENCE:0
STATUS:CONFIRMED
SUMMARY:15&U-Rnd 6: Awesome Angels 15s2 vs Neon Nightmares 15s
TRANSP:OPAQUE
END:VEVENT
BEGIN:VEVENT
DTSTART:20190323T101500
DTEND:20190323T105500
DTSTAMP:20190224T120606Z
UID:8e3a79c8cb0109d024f0745e282088fe@pvna.com.au
CREATED:20190224T200606Z
DESCRIPTION:2019 Autumn Section:15&Under\nRound:Rnd 7
LAST-MODIFIED:20190224T200606Z
LOCATION:Court: 2
SEQUENCE:0
STATUS:CONFIRMED
SUMMARY:15&U-Rnd 7: Awesome Angels 15s2 vs SS Saphires
TRANSP:OPAQUE
END:VEVENT
BEGIN:VEVENT
DTSTART:20190330T110000
DTEND:20190330T114500
DTSTAMP:20190224T120606Z
UID:087b10005f43846739eb95cae46a18d4@pvna.com.au
CREATED:20190224T200606Z
DESCRIPTION:2019 Autumn Section:15&Under\nRound:Rnd 8
LAST-MODIFIED:20190224T200606Z
LOCATION:Court: 2
SEQUENCE:0
STATUS:CONFIRMED
SUMMARY:15&U-Rnd 8: Power vs Awesome Angels 15s2
TRANSP:OPAQUE
END:VEVENT
BEGIN:VEVENT
DTSTART:20190406T110000
DTEND:20190406T114500
DTSTAMP:20190224T120606Z
UID:2f0c39005b81226cdb6df7aa15e6b60a@pvna.com.au
CREATED:20190224T200606Z
DESCRIPTION:2019 Autumn Section:15&Under\nRound:Rnd 9
LAST-MODIFIED:20190224T200606Z
LOCATION:Court: 1
SEQUENCE:0
STATUS:CONFIRMED
SUMMARY:15&U-Rnd 9: SS Rubies vs Awesome Angels 15s2
TRANSP:OPAQUE
END:VEVENT
BEGIN:VEVENT
DTSTART:20190525T110000
DTEND:20190525T114500
DTSTAMP:20190224T120606Z
UID:9b6eda72abdb028880dbe987fbb808e8@pvna.com.au
CREATED:20190224T200606Z
DESCRIPTION:2019 Autumn Section:15&U Res\nRound:Rnd 14
LAST-MODIFIED:20190224T200606Z
LOCATION:Court: 99
SEQUENCE:0
STATUS:CONFIRMED
SUMMARY:15&U-Rnd 14: Awesome Angels 15s2 vs BYE
TRANSP:OPAQUE
END:VEVENT
BEGIN:VEVENT
DTSTART:20190601T101500
DTEND:20190601T105500
DTSTAMP:20190224T120606Z
UID:39e74d8a39a10a4ff01db088b63cb98c@pvna.com.au
CREATED:20190224T200606Z
DESCRIPTION:2019 Autumn Section:15&Under\nRound:Rnd 15
LAST-MODIFIED:20190224T200606Z
LOCATION:Court: 4
SEQUENCE:0
STATUS:CONFIRMED
SUMMARY:15&U-Rnd 15: Awesome Angels 15s2 vs SS Saphires
TRANSP:OPAQUE
END:VEVENT
BEGIN:VEVENT
DTSTART:20190622T093000
DTEND:20190622T101000
DTSTAMP:20190224T120606Z
UID:3780d9ad9f998dbb5f1e0920dab3d2cc@pvna.com.au
CREATED:20190224T200606Z
DESCRIPTION:2019 Autumn Section:15&Under\nRound:Rnd 17
LAST-MODIFIED:20190224T200606Z
LOCATION:Court: 4
SEQUENCE:0
STATUS:CONFIRMED
SUMMARY:15&U-Rnd 17: Storm vs Awesome Angels 15s2
TRANSP:OPAQUE
END:VEVENT
BEGIN:VEVENT
DTSTART:20190629T101500
DTEND:20190629T105500
DTSTAMP:20190224T120606Z
UID:f155401c2b6aa770950703f679f2cba5@pvna.com.au
CREATED:20190224T200606Z
DESCRIPTION:2019 Autumn Section:15&Under\nRound:Rnd 18
LAST-MODIFIED:20190224T200606Z
LOCATION:Court: 2
SEQUENCE:0
STATUS:CONFIRMED
SUMMARY:15&U-Rnd 18: Wildcats 15s vs Awesome Angels 15s2
TRANSP:OPAQUE
END:VEVENT
END:VCALENDAR
