BEGIN:VCALENDAR
PRODID:-//Google Inc//Google Calendar 70.9054//EN
VERSION:2.0
CALSCALE:GREGORIAN
METHOD:PUBLISH
X-WR-CALNAME:PV Comets Awesome Angels 15s3
X-WR-TIMEZONE:Australia/Sydney
X-WR-CALDESC:PV Comets Parkville Calendars
BEGIN:VEVENT
DTSTART:20190202T084500
DTEND:20190202T092500
DTSTAMP:20190224T120606Z
UID:a7e696a856fc89ce165fe032d3e9ccc3@pvna.com.au
CREATED:20190224T200606Z
DESCRIPTION:2019 Autumn Section:15&Under\nRound:Rnd 1
LAST-MODIFIED:20190224T200606Z
LOCATION:Court: 1
SEQUENCE:0
STATUS:CONFIRMED
SUMMARY:15&U-Rnd 1: Neon Nightmares 15s (32) vs Awesome Angels 15s3 (1)
TRANSP:OPAQUE
END:VEVENT
BEGIN:VEVENT
DTSTART:20190209T114500
DTEND:20190209T122500
DTSTAMP:20190224T120606Z
UID:962e2a6bd2ae02e3d2673cec027b6a7c@pvna.com.au
CREATED:20190224T200606Z
DESCRIPTION:2019 Autumn Section:15&Under\nRound:Rnd 2
LAST-MODIFIED:20190224T200606Z
LOCATION:Court: 1
SEQUENCE:0
STATUS:CONFIRMED
SUMMARY:15&U-Rnd 2: Awesome Angels 15s2 (20) vs Awesome Angels 15s3 (2)
TRANSP:OPAQUE
END:VEVENT
BEGIN:VEVENT
DTSTART:20190216T093000
DTEND:20190216T101000
DTSTAMP:20190224T120606Z
UID:eca18b8381b7198381933cf52a3e1300@pvna.com.au
CREATED:20190224T200606Z
DESCRIPTION:2019 Autumn Section:15&Under\nRound:Rnd 3
LAST-MODIFIED:20190224T200606Z
LOCATION:Court: 99
SEQUENCE:0
STATUS:CONFIRMED
SUMMARY:15&U-Rnd 3: Awesome Angels 15s3 vs BYE
TRANSP:OPAQUE
END:VEVENT
BEGIN:VEVENT
DTSTART:20190223T114500
DTEND:20190223T122500
DTSTAMP:20190224T120606Z
UID:90d98c3a01ec4be891a9b3163abb857c@pvna.com.au
CREATED:20190224T200606Z
DESCRIPTION:2019 Autumn Section:15&U Res\nRound:Rnd 4
LAST-MODIFIED:20190224T200606Z
LOCATION:Court: 99
SEQUENCE:0
STATUS:CONFIRMED
SUMMARY:15&U-Rnd 4: Awesome Angels 15s3 vs BYE
TRANSP:OPAQUE
END:VEVENT
BEGIN:VEVENT
DTSTART:20190427T101500
DTEND:20190427T105500
DTSTAMP:20190224T120606Z
UID:af0a9fa00216cd8591e57370db33a2b7@pvna.com.au
CREATED:20190224T200606Z
DESCRIPTION:2019 Autumn Section:15&Under\nRound:Rnd 10
LAST-MODIFIED:20190224T200606Z
LOCATION:Court: 2
SEQUENCE:0
STATUS:CONFIRMED
SUMMARY:15&U-Rnd 10: Wildcats 15s vs Awesome Angels 15s3
TRANSP:OPAQUE
END:VEVENT
BEGIN:VEVENT
DTSTART:20190504T101500
DTEND:20190504T105500
DTSTAMP:20190224T120606Z
UID:7d39d6bde7a416e48b031e725fa83487@pvna.com.au
CREATED:20190224T200606Z
DESCRIPTION:2019 Autumn Section:15&Under\nRound:Rnd 11
LAST-MODIFIED:20190224T200606Z
LOCATION:Court: 1
SEQUENCE:0
STATUS:CONFIRMED
SUMMARY:15&U-Rnd 11: Power vs Awesome Angels 15s3
TRANSP:OPAQUE
END:VEVENT
BEGIN:VEVENT
DTSTART:20190525T110000
DTEND:20190525T114500
DTSTAMP:20190224T120606Z
UID:9159b9e0cbed054572dbe52f1c344780@pvna.com.au
CREATED:20190224T200606Z
DESCRIPTION:2019 Autumn Section:15&U Res\nRound:Rnd 14
LAST-MODIFIED:20190224T200606Z
LOCATION:Court: 2
SEQUENCE:0
STATUS:CONFIRMED
SUMMARY:15&U-Rnd 14: Storm vs Awesome Angels 15s3
TRANSP:OPAQUE
END:VEVENT
BEGIN:VEVENT
DTSTART:20190601T101500
DTEND:20190601T105500
DTSTAMP:20190224T120606Z
UID:3edac2ec0fdf66c61b0a267153b8c187@pvna.com.au
CREATED:20190224T200606Z
DESCRIPTION:2019 Autumn Section:15&Under\nRound:Rnd 15
LAST-MODIFIED:20190224T200606Z
LOCATION:Court: 3
SEQUENCE:0
STATUS:CONFIRMED
SUMMARY:15&U-Rnd 15: Neon Nightmares 15s vs Awesome Angels 15s3
TRANSP:OPAQUE
END:VEVENT
BEGIN:VEVENT
DTSTART:20190615T110000
DTEND:20190615T114500
DTSTAMP:20190224T120606Z
UID:6d19359117dcc6ade42330a97f29d166@pvna.com.au
CREATED:20190224T200606Z
DESCRIPTION:2019 Autumn Section:15&Under\nRound:Rnd 16
LAST-MODIFIED:20190224T200606Z
LOCATION:Court: 2
SEQUENCE:0
STATUS:CONFIRMED
SUMMARY:15&U-Rnd 16: SS Saphires vs Awesome Angels 15s3
TRANSP:OPAQUE
END:VEVENT
BEGIN:VEVENT
DTSTART:20190622T101500
DTEND:20190622T105500
DTSTAMP:20190224T120606Z
UID:89f58abfad8a95cc206a79deb6a69075@pvna.com.au
CREATED:20190224T200606Z
DESCRIPTION:2019 Autumn Section:15&Under\nRound:Rnd 17
LAST-MODIFIED:20190224T200606Z
LOCATION:Court: 3
SEQUENCE:0
STATUS:CONFIRMED
SUMMARY:15&U-Rnd 17: SS Rubies vs Awesome Angels 15s3
TRANSP:OPAQUE
END:VEVENT
BEGIN:VEVENT
DTSTART:20190629T110000
DTEND:20190629T114500
DTSTAMP:20190224T120606Z
UID:5027c4cf01afda1686b03e3b563e7a92@pvna.com.au
CREATED:20190224T200606Z
DESCRIPTION:2019 Autumn Section:15&Under\nRound:Rnd 18
LAST-MODIFIED:20190224T200606Z
LOCATION:Court: 2
SEQUENCE:0
STATUS:CONFIRMED
SUMMARY:15&U-Rnd 18: SS Strikers vs Awesome Angels 15s3
TRANSP:OPAQUE
END:VEVENT
END:VCALENDAR
