BEGIN:VCALENDAR
PRODID:-//Google Inc//Google Calendar 70.9054//EN
VERSION:2.0
CALSCALE:GREGORIAN
METHOD:PUBLISH
X-WR-CALNAME:PV Comets Awesome Angels 17s1
X-WR-TIMEZONE:Australia/Sydney
X-WR-CALDESC:PV Comets Parkville Calendars
BEGIN:VEVENT
DTSTART:20190202T093000
DTEND:20190202T101000
DTSTAMP:20190224T120606Z
UID:b4fe89e055fd006a6c61d93afed199a9@pvna.com.au
CREATED:20190224T200606Z
DESCRIPTION:2019 Autumn Section:17&Under\nRound:Rnd 1
LAST-MODIFIED:20190224T200606Z
LOCATION:Court: 3
SEQUENCE:0
STATUS:CONFIRMED
SUMMARY:17&U-Rnd 1: NB Kangas (28) vs Awesome Angels 17s1 (12)
TRANSP:OPAQUE
END:VEVENT
BEGIN:VEVENT
DTSTART:20190209T084500
DTEND:20190209T092500
DTSTAMP:20190224T120606Z
UID:3b7539c7728c8d42a9755b126a243050@pvna.com.au
CREATED:20190224T200606Z
DESCRIPTION:2019 Autumn Section:17&Under\nRound:Rnd 2
LAST-MODIFIED:20190224T200606Z
LOCATION:Court: 3
SEQUENCE:0
STATUS:CONFIRMED
SUMMARY:17&U-Rnd 2: Awesome Angels 17s1 (8) vs Phoenix (49)
TRANSP:OPAQUE
END:VEVENT
BEGIN:VEVENT
DTSTART:20190216T110000
DTEND:20190216T114500
DTSTAMP:20190224T120606Z
UID:1294d879b62fa39f8d826668602c0069@pvna.com.au
CREATED:20190224T200606Z
DESCRIPTION:2019 Autumn Section:17&Under\nRound:Rnd 3
LAST-MODIFIED:20190224T200606Z
LOCATION:Court: 2
SEQUENCE:0
STATUS:CONFIRMED
SUMMARY:17&U-Rnd 3: SS Magic (40) vs Awesome Angels 17s1 (13)
TRANSP:OPAQUE
END:VEVENT
BEGIN:VEVENT
DTSTART:20190223T093000
DTEND:20190223T101000
DTSTAMP:20190224T120606Z
UID:f9f01c19bf102317b2378eb2bdf479f3@pvna.com.au
CREATED:20190224T200606Z
DESCRIPTION:2019 Autumn Section:17&Under\nRound:Rnd 4
LAST-MODIFIED:20190224T200606Z
LOCATION:Court: 3
SEQUENCE:0
STATUS:CONFIRMED
SUMMARY:17&U-Rnd 4: Awesome Angels 17s1 (15) vs Roxy (52)
TRANSP:OPAQUE
END:VEVENT
BEGIN:VEVENT
DTSTART:20190302T110000
DTEND:20190302T114500
DTSTAMP:20190224T120606Z
UID:587bf0ee86da46313eef6e382f05d7a3@pvna.com.au
CREATED:20190224T200606Z
DESCRIPTION:2019 Autumn Section:17&Under\nRound:Rnd 5\n\nCurrent Ladder:\nTeam            P  W  L  D  Pts\nPhoenix         4  4  0  0  16\nSS Magic        4  4  0  0  16\nSS Sparks       4  2  2  0  8 \nRoxy            4  1  3  0  4 \nNB Kangas       4  1  3  0  4 \nAwesome Angels 17s1 4  0  4  0  0 \n
LAST-MODIFIED:20190224T200606Z
LOCATION:Court: 2
SEQUENCE:0
STATUS:CONFIRMED
SUMMARY:17&U-Rnd 5: SS Sparks vs Awesome Angels 17s1
TRANSP:OPAQUE
END:VEVENT
BEGIN:VEVENT
DTSTART:20190316T110000
DTEND:20190316T114500
DTSTAMP:20190224T120606Z
UID:7bc6c1deb7b05a74dbd695a383715aee@pvna.com.au
CREATED:20190224T200606Z
DESCRIPTION:2019 Autumn Section:17&Under\nRound:Rnd 6
LAST-MODIFIED:20190224T200606Z
LOCATION:Court: 2
SEQUENCE:0
STATUS:CONFIRMED
SUMMARY:17&U-Rnd 6: NB Kangas vs Awesome Angels 17s1
TRANSP:OPAQUE
END:VEVENT
BEGIN:VEVENT
DTSTART:20190323T084500
DTEND:20190323T092500
DTSTAMP:20190224T120606Z
UID:23b1e3b348151e886b5851b708c57def@pvna.com.au
CREATED:20190224T200606Z
DESCRIPTION:2019 Autumn Section:17&Under\nRound:Rnd 7
LAST-MODIFIED:20190224T200606Z
LOCATION:Court: 3
SEQUENCE:0
STATUS:CONFIRMED
SUMMARY:17&U-Rnd 7: Awesome Angels 17s1 vs Phoenix
TRANSP:OPAQUE
END:VEVENT
BEGIN:VEVENT
DTSTART:20190330T110000
DTEND:20190330T114500
DTSTAMP:20190224T120606Z
UID:e2835ee8497bb4bbd0289efdd42e711d@pvna.com.au
CREATED:20190224T200606Z
DESCRIPTION:2019 Autumn Section:17&Under\nRound:Rnd 8
LAST-MODIFIED:20190224T200606Z
LOCATION:Court: 4
SEQUENCE:0
STATUS:CONFIRMED
SUMMARY:17&U-Rnd 8: SS Magic vs Awesome Angels 17s1
TRANSP:OPAQUE
END:VEVENT
BEGIN:VEVENT
DTSTART:20190406T110000
DTEND:20190406T114500
DTSTAMP:20190224T120606Z
UID:caed1e9d5d6decd82deca12760a78253@pvna.com.au
CREATED:20190224T200606Z
DESCRIPTION:2019 Autumn Section:17&Under\nRound:Rnd 9
LAST-MODIFIED:20190224T200606Z
LOCATION:Court: 4
SEQUENCE:0
STATUS:CONFIRMED
SUMMARY:17&U-Rnd 9: Awesome Angels 17s1 vs Roxy
TRANSP:OPAQUE
END:VEVENT
BEGIN:VEVENT
DTSTART:20190427T114500
DTEND:20190427T122500
DTSTAMP:20190224T120606Z
UID:9f23b7923feb5b3e1066d6a1c9cb4586@pvna.com.au
CREATED:20190224T200606Z
DESCRIPTION:2019 Autumn Section:17&Under\nRound:Rnd 10
LAST-MODIFIED:20190224T200606Z
LOCATION:Court: 2
SEQUENCE:0
STATUS:CONFIRMED
SUMMARY:17&U-Rnd 10: SS Sparks vs Awesome Angels 17s1
TRANSP:OPAQUE
END:VEVENT
BEGIN:VEVENT
DTSTART:20190504T101500
DTEND:20190504T105500
DTSTAMP:20190224T120606Z
UID:bd46658cd611719a2099b6b99e3a671c@pvna.com.au
CREATED:20190224T200606Z
DESCRIPTION:2019 Autumn Section:17&Under\nRound:Rnd 11
LAST-MODIFIED:20190224T200606Z
LOCATION:Court: 3
SEQUENCE:0
STATUS:CONFIRMED
SUMMARY:17&U-Rnd 11: NB Kangas vs Awesome Angels 17s1
TRANSP:OPAQUE
END:VEVENT
BEGIN:VEVENT
DTSTART:20190511T110000
DTEND:20190511T114500
DTSTAMP:20190224T120606Z
UID:214d364afa1d41e3254e599b607aa14b@pvna.com.au
CREATED:20190224T200606Z
DESCRIPTION:2019 Autumn Section:17&Under\nRound:Rnd 12
LAST-MODIFIED:20190224T200606Z
LOCATION:Court: 4
SEQUENCE:0
STATUS:CONFIRMED
SUMMARY:17&U-Rnd 12: Phoenix vs Awesome Angels 17s1
TRANSP:OPAQUE
END:VEVENT
BEGIN:VEVENT
DTSTART:20190518T110000
DTEND:20190518T114500
DTSTAMP:20190224T120606Z
UID:b0d6c5d02bb1c43ea5db1b23af9c47c0@pvna.com.au
CREATED:20190224T200606Z
DESCRIPTION:2019 Autumn Section:17&Under\nRound:Rnd 13
LAST-MODIFIED:20190224T200606Z
LOCATION:Court: 4
SEQUENCE:0
STATUS:CONFIRMED
SUMMARY:17&U-Rnd 13: Awesome Angels 17s1 vs SS Magic
TRANSP:OPAQUE
END:VEVENT
BEGIN:VEVENT
DTSTART:20190525T114500
DTEND:20190525T122500
DTSTAMP:20190224T120606Z
UID:7633b4b53d972a3040db567cb8ea16b1@pvna.com.au
CREATED:20190224T200606Z
DESCRIPTION:2019 Autumn Section:17&Under\nRound:Rnd 14
LAST-MODIFIED:20190224T200606Z
LOCATION:Court: 1
SEQUENCE:0
STATUS:CONFIRMED
SUMMARY:17&U-Rnd 14: Awesome Angels 17s1 vs Roxy
TRANSP:OPAQUE
END:VEVENT
BEGIN:VEVENT
DTSTART:20190601T110000
DTEND:20190601T114500
DTSTAMP:20190224T120606Z
UID:27451d9fe0690d20ff034c9e1f05e407@pvna.com.au
CREATED:20190224T200606Z
DESCRIPTION:2019 Autumn Section:17&Under\nRound:Rnd 15
LAST-MODIFIED:20190224T200606Z
LOCATION:Court: 4
SEQUENCE:0
STATUS:CONFIRMED
SUMMARY:17&U-Rnd 15: SS Sparks vs Awesome Angels 17s1
TRANSP:OPAQUE
END:VEVENT
END:VCALENDAR
