BEGIN:VCALENDAR
PRODID:-//Google Inc//Google Calendar 70.9054//EN
VERSION:2.0
CALSCALE:GREGORIAN
METHOD:PUBLISH
X-WR-CALNAME:PV Comets EmmasBunch1
X-WR-TIMEZONE:Australia/Sydney
X-WR-CALDESC:PV Comets Parkville Calendars
BEGIN:VEVENT
DTSTART:20190202T123000
DTEND:20190202T131000
DTSTAMP:20190210T110353Z
UID:b75e1091cde4c03fe5d78adbd6c2a497@pvna.com.au
CREATED:20190210T190353Z
DESCRIPTION:2019 Autumn Section:Mixed\nRound:Rnd 1
LAST-MODIFIED:20190210T190353Z
LOCATION:Court: 3
SEQUENCE:0
STATUS:CONFIRMED
SUMMARY:Mixe-Rnd 1: EmmasBunch1 (24) vs JoanneBunch1 (13)
TRANSP:OPAQUE
END:VEVENT
BEGIN:VEVENT
DTSTART:20190209T123000
DTEND:20190209T131000
DTSTAMP:20190210T110353Z
UID:9d9af467719b4971bf38d2363b3e1f6a@pvna.com.au
CREATED:20190210T190353Z
DESCRIPTION:2019 Autumn Section:Mixed\nRound:Rnd 2
LAST-MODIFIED:20190210T190353Z
LOCATION:Court: 3
SEQUENCE:0
STATUS:CONFIRMED
SUMMARY:Mixe-Rnd 2: NB Wombat (16) vs EmmasBunch1 (14)
TRANSP:OPAQUE
END:VEVENT
BEGIN:VEVENT
DTSTART:20190216T123000
DTEND:20190216T131000
DTSTAMP:20190210T110353Z
UID:a7a20b76cc4d7f32a91d62d703173fe5@pvna.com.au
CREATED:20190210T190353Z
DESCRIPTION:2019 Autumn Section:Mixed\nRound:Rnd 3\n\nCurrent Ladder:\nTeam            P  W  L  D  Pts\nNB Wombat       2  2  0  0  8 \nEmmasBunch1     2  1  1  0  4 \nJoanneBunch1    2  1  1  0  4 \nAwesome Angels Mixed 2  0  2  0  0 \n
LAST-MODIFIED:20190210T190353Z
LOCATION:Court: 3
SEQUENCE:0
STATUS:CONFIRMED
SUMMARY:Mixe-Rnd 3: EmmasBunch1 vs Awesome Angels Mixed
TRANSP:OPAQUE
END:VEVENT
BEGIN:VEVENT
DTSTART:20190223T123000
DTEND:20190223T131000
DTSTAMP:20190210T110353Z
UID:eafcd611b67073d7f2e9f13d425fa190@pvna.com.au
CREATED:20190210T190353Z
DESCRIPTION:2019 Autumn Section:Mixed\nRound:Rnd 4
LAST-MODIFIED:20190210T190353Z
LOCATION:Court: 3
SEQUENCE:0
STATUS:CONFIRMED
SUMMARY:Mixe-Rnd 4: EmmasBunch1 vs JoanneBunch1
TRANSP:OPAQUE
END:VEVENT
BEGIN:VEVENT
DTSTART:20190302T123000
DTEND:20190302T131000
DTSTAMP:20190210T110353Z
UID:0cd58f405722bac6617c21f85417995b@pvna.com.au
CREATED:20190210T190353Z
DESCRIPTION:2019 Autumn Section:Mixed\nRound:Rnd 5
LAST-MODIFIED:20190210T190353Z
LOCATION:Court: 2
SEQUENCE:0
STATUS:CONFIRMED
SUMMARY:Mixe-Rnd 5: NB Wombat vs EmmasBunch1
TRANSP:OPAQUE
END:VEVENT
BEGIN:VEVENT
DTSTART:20190316T123000
DTEND:20190316T131000
DTSTAMP:20190210T110353Z
UID:41e243322be88d6536ffd41af51e794b@pvna.com.au
CREATED:20190210T190353Z
DESCRIPTION:2019 Autumn Section:Mixed\nRound:Rnd 6
LAST-MODIFIED:20190210T190353Z
LOCATION:Court: 3
SEQUENCE:0
STATUS:CONFIRMED
SUMMARY:Mixe-Rnd 6: EmmasBunch1 vs Awesome Angels Mixed
TRANSP:OPAQUE
END:VEVENT
BEGIN:VEVENT
DTSTART:20190330T123000
DTEND:20190330T131000
DTSTAMP:20190210T110353Z
UID:d4bb4f560337752a494ab5c88df93006@pvna.com.au
CREATED:20190210T190353Z
DESCRIPTION:2019 Autumn Section:Mixed\nRound:Rnd 8
LAST-MODIFIED:20190210T190353Z
LOCATION:Court: 2
SEQUENCE:0
STATUS:CONFIRMED
SUMMARY:Mixe-Rnd 8: EmmasBunch1 vs JoanneBunch1
TRANSP:OPAQUE
END:VEVENT
BEGIN:VEVENT
DTSTART:20190406T123000
DTEND:20190406T131000
DTSTAMP:20190210T110353Z
UID:cb302c2946bfdba716c5bd23dc46c4b8@pvna.com.au
CREATED:20190210T190353Z
DESCRIPTION:2019 Autumn Section:Mixed\nRound:Rnd 9
LAST-MODIFIED:20190210T190353Z
LOCATION:Court: 1
SEQUENCE:0
STATUS:CONFIRMED
SUMMARY:Mixe-Rnd 9: NB Wombat vs EmmasBunch1
TRANSP:OPAQUE
END:VEVENT
BEGIN:VEVENT
DTSTART:20190427T123000
DTEND:20190427T131000
DTSTAMP:20190210T110353Z
UID:a9bafdcaa210da8337761e41f10a5eb3@pvna.com.au
CREATED:20190210T190353Z
DESCRIPTION:2019 Autumn Section:Mixed\nRound:Rnd 10
LAST-MODIFIED:20190210T190353Z
LOCATION:Court: 1
SEQUENCE:0
STATUS:CONFIRMED
SUMMARY:Mixe-Rnd 10: EmmasBunch1 vs Awesome Angels Mixed
TRANSP:OPAQUE
END:VEVENT
BEGIN:VEVENT
DTSTART:20190511T123000
DTEND:20190511T131000
DTSTAMP:20190210T110353Z
UID:ff8d61672a6484675ed4d31d2ad64c9a@pvna.com.au
CREATED:20190210T190353Z
DESCRIPTION:2019 Autumn Section:Mixed\nRound:Rnd 12
LAST-MODIFIED:20190210T190353Z
LOCATION:Court: 2
SEQUENCE:0
STATUS:CONFIRMED
SUMMARY:Mixe-Rnd 12: EmmasBunch1 vs JoanneBunch1
TRANSP:OPAQUE
END:VEVENT
BEGIN:VEVENT
DTSTART:20190518T123000
DTEND:20190518T131000
DTSTAMP:20190210T110353Z
UID:186e37403182e4ea82bccd2697c19d89@pvna.com.au
CREATED:20190210T190353Z
DESCRIPTION:2019 Autumn Section:Mixed\nRound:Rnd 13
LAST-MODIFIED:20190210T190353Z
LOCATION:Court: 1
SEQUENCE:0
STATUS:CONFIRMED
SUMMARY:Mixe-Rnd 13: NB Wombat vs EmmasBunch1
TRANSP:OPAQUE
END:VEVENT
BEGIN:VEVENT
DTSTART:20190525T123000
DTEND:20190525T131000
DTSTAMP:20190210T110353Z
UID:923059d996505ec265cb2b4b6f732afc@pvna.com.au
CREATED:20190210T190353Z
DESCRIPTION:2019 Autumn Section:Mixed\nRound:Rnd 14
LAST-MODIFIED:20190210T190353Z
LOCATION:Court: 1
SEQUENCE:0
STATUS:CONFIRMED
SUMMARY:Mixe-Rnd 14: EmmasBunch1 vs Awesome Angels Mixed
TRANSP:OPAQUE
END:VEVENT
BEGIN:VEVENT
DTSTART:20190615T123000
DTEND:20190615T131000
DTSTAMP:20190210T110353Z
UID:75aedf7f2f7ec9e3a98c2274c7d13674@pvna.com.au
CREATED:20190210T190353Z
DESCRIPTION:2019 Autumn Section:Mixed\nRound:Rnd 16
LAST-MODIFIED:20190210T190353Z
LOCATION:Court: 2
SEQUENCE:0
STATUS:CONFIRMED
SUMMARY:Mixe-Rnd 16: EmmasBunch1 vs JoanneBunch1
TRANSP:OPAQUE
END:VEVENT
BEGIN:VEVENT
DTSTART:20190622T113000
DTEND:20190622T131000
DTSTAMP:20190210T110353Z
UID:f30ebd0653ede524b80ae4dfbf83abc3@pvna.com.au
CREATED:20190210T190353Z
DESCRIPTION:2019 Autumn Section:Mixed\nRound:Rnd 17
LAST-MODIFIED:20190210T190353Z
LOCATION:Court: 4
SEQUENCE:0
STATUS:CONFIRMED
SUMMARY:Mixe-Rnd 17: NB Wombat vs EmmasBunch1
TRANSP:OPAQUE
END:VEVENT
BEGIN:VEVENT
DTSTART:20190629T123000
DTEND:20190629T131000
DTSTAMP:20190210T110353Z
UID:fefd513a0016c8ca3e0cc0021d913cb2@pvna.com.au
CREATED:20190210T190353Z
DESCRIPTION:2019 Autumn Section:Mixed\nRound:Rnd 18
LAST-MODIFIED:20190210T190353Z
LOCATION:Court: 1
SEQUENCE:0
STATUS:CONFIRMED
SUMMARY:Mixe-Rnd 18: EmmasBunch1 vs Awesome Angels Mixed
TRANSP:OPAQUE
END:VEVENT
END:VCALENDAR
