BEGIN:VCALENDAR
PRODID:-//Google Inc//Google Calendar 70.9054//EN
VERSION:2.0
CALSCALE:GREGORIAN
METHOD:PUBLISH
X-WR-CALNAME:PV Comets EmmasBunch2
X-WR-TIMEZONE:Australia/Sydney
X-WR-CALDESC:PV Comets Parkville Calendars
BEGIN:VEVENT
DTSTART:20190202T123000
DTEND:20190202T131000
DTSTAMP:20190129T064108Z
UID:f4811a036be3980aebabe2a3242b49b9@pvna.com.au
CREATED:20190129T144108Z
DESCRIPTION:2019 Autumn Section:Mixed\nRound:Rnd 1
LAST-MODIFIED:20190129T144108Z
LOCATION:Court: 3
SEQUENCE:0
STATUS:CONFIRMED
SUMMARY:Mixe-Rnd 1: EmmasBunch1 vs EmmasBunch2
TRANSP:OPAQUE
END:VEVENT
BEGIN:VEVENT
DTSTART:20190209T114500
DTEND:20190209T122500
DTSTAMP:20190129T064108Z
UID:6f2bcee25cb0ada36a0eb3bb54061cd8@pvna.com.au
CREATED:20190129T144108Z
DESCRIPTION:2019 Autumn Section:Mixed\nRound:Rnd 2\n\nCurrent Ladder:\nTeam            P  W  L  D  Pts\nEmmasBunch1     0  0  0  0  0 \nNB Wombat       0  0  0  0  0 \nAwesome Angels Mixed 0  0  0  0  0 \nEmmasBunch2     0  0  0  0  0 \n
LAST-MODIFIED:20190129T144108Z
LOCATION:Court: 2
SEQUENCE:0
STATUS:CONFIRMED
SUMMARY:Mixe-Rnd 2: EmmasBunch2 vs Awesome Angels Mixed
TRANSP:OPAQUE
END:VEVENT
BEGIN:VEVENT
DTSTART:20190216T114500
DTEND:20190216T122500
DTSTAMP:20190129T064108Z
UID:d48d9648e340c57e1f3e0616dedcd9b1@pvna.com.au
CREATED:20190129T144108Z
DESCRIPTION:2019 Autumn Section:Mixed\nRound:Rnd 3
LAST-MODIFIED:20190129T144108Z
LOCATION:Court: 2
SEQUENCE:0
STATUS:CONFIRMED
SUMMARY:Mixe-Rnd 3: EmmasBunch2 vs NB Wombat
TRANSP:OPAQUE
END:VEVENT
BEGIN:VEVENT
DTSTART:20190223T123000
DTEND:20190223T131000
DTSTAMP:20190129T064108Z
UID:57556555b4e4a2570f7945a7a1efefb7@pvna.com.au
CREATED:20190129T144108Z
DESCRIPTION:2019 Autumn Section:Mixed\nRound:Rnd 4
LAST-MODIFIED:20190129T144108Z
LOCATION:Court: 3
SEQUENCE:0
STATUS:CONFIRMED
SUMMARY:Mixe-Rnd 4: EmmasBunch1 vs EmmasBunch2
TRANSP:OPAQUE
END:VEVENT
BEGIN:VEVENT
DTSTART:20190302T123000
DTEND:20190302T131000
DTSTAMP:20190129T064108Z
UID:8ee141df499b3f52d92b4f1df7a55f26@pvna.com.au
CREATED:20190129T144108Z
DESCRIPTION:2019 Autumn Section:Mixed\nRound:Rnd 5
LAST-MODIFIED:20190129T144108Z
LOCATION:Court: 3
SEQUENCE:0
STATUS:CONFIRMED
SUMMARY:Mixe-Rnd 5: EmmasBunch2 vs Awesome Angels Mixed
TRANSP:OPAQUE
END:VEVENT
BEGIN:VEVENT
DTSTART:20190316T123000
DTEND:20190316T131000
DTSTAMP:20190129T064108Z
UID:fe7f919c3bacb0c624b58b5323d079f5@pvna.com.au
CREATED:20190129T144108Z
DESCRIPTION:2019 Autumn Section:Mixed\nRound:Rnd 6
LAST-MODIFIED:20190129T144108Z
LOCATION:Court: 2
SEQUENCE:0
STATUS:CONFIRMED
SUMMARY:Mixe-Rnd 6: EmmasBunch2 vs NB Wombat
TRANSP:OPAQUE
END:VEVENT
BEGIN:VEVENT
DTSTART:20190330T123000
DTEND:20190330T131000
DTSTAMP:20190129T064108Z
UID:7600ee91e142f0a0d92e88eec87487ab@pvna.com.au
CREATED:20190129T144108Z
DESCRIPTION:2019 Autumn Section:Mixed\nRound:Rnd 8
LAST-MODIFIED:20190129T144108Z
LOCATION:Court: 2
SEQUENCE:0
STATUS:CONFIRMED
SUMMARY:Mixe-Rnd 8: EmmasBunch1 vs EmmasBunch2
TRANSP:OPAQUE
END:VEVENT
BEGIN:VEVENT
DTSTART:20190406T123000
DTEND:20190406T131000
DTSTAMP:20190129T064108Z
UID:cde06ede2a979b57eb472636af148b16@pvna.com.au
CREATED:20190129T144108Z
DESCRIPTION:2019 Autumn Section:Mixed\nRound:Rnd 9
LAST-MODIFIED:20190129T144108Z
LOCATION:Court: 2
SEQUENCE:0
STATUS:CONFIRMED
SUMMARY:Mixe-Rnd 9: EmmasBunch2 vs Awesome Angels Mixed
TRANSP:OPAQUE
END:VEVENT
BEGIN:VEVENT
DTSTART:20190427T123000
DTEND:20190427T131000
DTSTAMP:20190129T064108Z
UID:0ec250cc180c9e35180a885f9e87c96a@pvna.com.au
CREATED:20190129T144108Z
DESCRIPTION:2019 Autumn Section:Mixed\nRound:Rnd 10
LAST-MODIFIED:20190129T144108Z
LOCATION:Court: 2
SEQUENCE:0
STATUS:CONFIRMED
SUMMARY:Mixe-Rnd 10: EmmasBunch2 vs NB Wombat
TRANSP:OPAQUE
END:VEVENT
BEGIN:VEVENT
DTSTART:20190511T123000
DTEND:20190511T131000
DTSTAMP:20190129T064108Z
UID:5be33b361580e50d6aee4345f16be146@pvna.com.au
CREATED:20190129T144108Z
DESCRIPTION:2019 Autumn Section:Mixed\nRound:Rnd 12
LAST-MODIFIED:20190129T144108Z
LOCATION:Court: 2
SEQUENCE:0
STATUS:CONFIRMED
SUMMARY:Mixe-Rnd 12: EmmasBunch1 vs EmmasBunch2
TRANSP:OPAQUE
END:VEVENT
BEGIN:VEVENT
DTSTART:20190518T123000
DTEND:20190518T131000
DTSTAMP:20190129T064108Z
UID:b1961dc9e48470ec33ae6baa2baea0da@pvna.com.au
CREATED:20190129T144108Z
DESCRIPTION:2019 Autumn Section:Mixed\nRound:Rnd 13
LAST-MODIFIED:20190129T144108Z
LOCATION:Court: 2
SEQUENCE:0
STATUS:CONFIRMED
SUMMARY:Mixe-Rnd 13: EmmasBunch2 vs Awesome Angels Mixed
TRANSP:OPAQUE
END:VEVENT
BEGIN:VEVENT
DTSTART:20190525T123000
DTEND:20190525T131000
DTSTAMP:20190129T064108Z
UID:e22a017bc89fe8ebd530651c2dc7ba25@pvna.com.au
CREATED:20190129T144108Z
DESCRIPTION:2019 Autumn Section:Mixed\nRound:Rnd 14
LAST-MODIFIED:20190129T144108Z
LOCATION:Court: 2
SEQUENCE:0
STATUS:CONFIRMED
SUMMARY:Mixe-Rnd 14: EmmasBunch2 vs NB Wombat
TRANSP:OPAQUE
END:VEVENT
BEGIN:VEVENT
DTSTART:20190615T123000
DTEND:20190615T131000
DTSTAMP:20190129T064108Z
UID:f479364715fcce8523616257c12ca022@pvna.com.au
CREATED:20190129T144108Z
DESCRIPTION:2019 Autumn Section:Mixed\nRound:Rnd 16
LAST-MODIFIED:20190129T144108Z
LOCATION:Court: 2
SEQUENCE:0
STATUS:CONFIRMED
SUMMARY:Mixe-Rnd 16: EmmasBunch1 vs EmmasBunch2
TRANSP:OPAQUE
END:VEVENT
BEGIN:VEVENT
DTSTART:20190622T110000
DTEND:20190622T114500
DTSTAMP:20190129T064108Z
UID:522c1828cd34c8f41b3c4ef3470ff11e@pvna.com.au
CREATED:20190129T144108Z
DESCRIPTION:2019 Autumn Section:Mixed\nRound:Rnd 17
LAST-MODIFIED:20190129T144108Z
LOCATION:Court: 1
SEQUENCE:0
STATUS:CONFIRMED
SUMMARY:Mixe-Rnd 17: EmmasBunch2 vs Awesome Angels Mixed
TRANSP:OPAQUE
END:VEVENT
BEGIN:VEVENT
DTSTART:20190629T123000
DTEND:20190629T131000
DTSTAMP:20190129T064108Z
UID:c5864e7d77067106a7fe54a331cf0d55@pvna.com.au
CREATED:20190129T144108Z
DESCRIPTION:2019 Autumn Section:Mixed\nRound:Rnd 18
LAST-MODIFIED:20190129T144108Z
LOCATION:Court: 2
SEQUENCE:0
STATUS:CONFIRMED
SUMMARY:Mixe-Rnd 18: EmmasBunch2 vs NB Wombat
TRANSP:OPAQUE
END:VEVENT
END:VCALENDAR
