BEGIN:VCALENDAR
PRODID:-//Google Inc//Google Calendar 70.9054//EN
VERSION:2.0
CALSCALE:GREGORIAN
METHOD:PUBLISH
X-WR-CALNAME:PV Comets Falcons
X-WR-TIMEZONE:Australia/Sydney
X-WR-CALDESC:PV Comets Parkville Calendars
BEGIN:VEVENT
DTSTART:20190202T101500
DTEND:20190202T105500
DTSTAMP:20190224T120606Z
UID:5602d91e26613d9e13949587d06b3923@pvna.com.au
CREATED:20190224T200606Z
DESCRIPTION:2019 Autumn Section:11&Under\nRound:Rnd 1
LAST-MODIFIED:20190224T200606Z
LOCATION:Court: 4
SEQUENCE:0
STATUS:CONFIRMED
SUMMARY:11&U-Rnd 1: Falcons (21) vs SS Emeralds (7)
TRANSP:OPAQUE
END:VEVENT
BEGIN:VEVENT
DTSTART:20190209T093000
DTEND:20190209T101000
DTSTAMP:20190224T120606Z
UID:bfafc1e2eefc3be013632e224b09dc52@pvna.com.au
CREATED:20190224T200606Z
DESCRIPTION:2019 Autumn Section:11&Under\nRound:Rnd 2
LAST-MODIFIED:20190224T200606Z
LOCATION:Court: 99
SEQUENCE:0
STATUS:CONFIRMED
SUMMARY:11&U-Rnd 2: Falcons vs BYE
TRANSP:OPAQUE
END:VEVENT
BEGIN:VEVENT
DTSTART:20190216T114500
DTEND:20190216T122500
DTSTAMP:20190224T120606Z
UID:8cfafe199eec1cbb5947245a580d25f5@pvna.com.au
CREATED:20190224T200606Z
DESCRIPTION:2019 Autumn Section:11&Under\nRound:Rnd 3
LAST-MODIFIED:20190224T200606Z
LOCATION:Court: 1
SEQUENCE:0
STATUS:CONFIRMED
SUMMARY:11&U-Rnd 3: Awesome Angels 11s2 (4) vs Falcons (17)
TRANSP:OPAQUE
END:VEVENT
BEGIN:VEVENT
DTSTART:20190223T101500
DTEND:20190223T105500
DTSTAMP:20190224T120606Z
UID:eed1d83aa030e79a5d7f16b0cad8dfa3@pvna.com.au
CREATED:20190224T200606Z
DESCRIPTION:2019 Autumn Section:11&Under\nRound:Rnd 4
LAST-MODIFIED:20190224T200606Z
LOCATION:Court: 4
SEQUENCE:0
STATUS:CONFIRMED
SUMMARY:11&U-Rnd 4: The Flying Eagles1 (6) vs Falcons (13)
TRANSP:OPAQUE
END:VEVENT
BEGIN:VEVENT
DTSTART:20190302T114500
DTEND:20190302T122500
DTSTAMP:20190224T120606Z
UID:91ba220acc621b7e0001ed3ba847c761@pvna.com.au
CREATED:20190224T200606Z
DESCRIPTION:2019 Autumn Section:11&Under\nRound:Rnd 5\n\nCurrent Ladder:\nTeam            P  W  L  D  Pts\nFalcons         4  4  0  0  16\nThe Flying Eagles1 4  3  1  0  12\nAwesome Angels 11s1 4  2  2  0  8 \nSS Emeralds     4  2  2  0  8 \nThe Flying Eagles2 1  1  0  0  4 \nAwesome Angels 11s2 4  1  3  0  4 \n
LAST-MODIFIED:20190224T200606Z
LOCATION:Court: 1
SEQUENCE:0
STATUS:CONFIRMED
SUMMARY:11&U-Rnd 5: Awesome Angels 11s1 vs Falcons
TRANSP:OPAQUE
END:VEVENT
BEGIN:VEVENT
DTSTART:20190316T084500
DTEND:20190316T092500
DTSTAMP:20190224T120606Z
UID:92021e500f671d821a8b53caace1c292@pvna.com.au
CREATED:20190224T200606Z
DESCRIPTION:2019 Autumn Section:11&Under\nRound:Rnd 6
LAST-MODIFIED:20190224T200606Z
LOCATION:Court: 4
SEQUENCE:0
STATUS:CONFIRMED
SUMMARY:11&U-Rnd 6: Falcons vs 8-10s
TRANSP:OPAQUE
END:VEVENT
BEGIN:VEVENT
DTSTART:20190323T101500
DTEND:20190323T105500
DTSTAMP:20190224T120606Z
UID:13f03e053be13297b5358e07011318fc@pvna.com.au
CREATED:20190224T200606Z
DESCRIPTION:2019 Autumn Section:11&Under\nRound:Rnd 7
LAST-MODIFIED:20190224T200606Z
LOCATION:Court: 4
SEQUENCE:0
STATUS:CONFIRMED
SUMMARY:11&U-Rnd 7: The Flying Eagles2 vs Falcons
TRANSP:OPAQUE
END:VEVENT
BEGIN:VEVENT
DTSTART:20190330T084500
DTEND:20190330T092500
DTSTAMP:20190224T120606Z
UID:78f445b7a26473760285a070307a8afd@pvna.com.au
CREATED:20190224T200606Z
DESCRIPTION:2019 Autumn Section:11&Under\nRound:Rnd 8
LAST-MODIFIED:20190224T200606Z
LOCATION:Court: 2
SEQUENCE:0
STATUS:CONFIRMED
SUMMARY:11&U-Rnd 8: The Flying Eagles1 vs Falcons
TRANSP:OPAQUE
END:VEVENT
BEGIN:VEVENT
DTSTART:20190406T084500
DTEND:20190406T092500
DTSTAMP:20190224T120606Z
UID:c1be3da422e2ed013348c45ee4f6a9e6@pvna.com.au
CREATED:20190224T200606Z
DESCRIPTION:2019 Autumn Section:11&Under\nRound:Rnd 9
LAST-MODIFIED:20190224T200606Z
LOCATION:Court: 4
SEQUENCE:0
STATUS:CONFIRMED
SUMMARY:11&U-Rnd 9: Awesome Angels 11s1 vs Falcons
TRANSP:OPAQUE
END:VEVENT
BEGIN:VEVENT
DTSTART:20190427T084500
DTEND:20190427T092500
DTSTAMP:20190224T120606Z
UID:28ac4305304f5c8a27bc2927156d94f2@pvna.com.au
CREATED:20190224T200606Z
DESCRIPTION:2019 Autumn Section:11&Under\nRound:Rnd 10
LAST-MODIFIED:20190224T200606Z
LOCATION:Court: 3
SEQUENCE:0
STATUS:CONFIRMED
SUMMARY:11&U-Rnd 10: Falcons vs SS Emeralds
TRANSP:OPAQUE
END:VEVENT
BEGIN:VEVENT
DTSTART:20190504T084500
DTEND:20190504T092500
DTSTAMP:20190224T120606Z
UID:af2ddd428e404c3af4aea4934325ec1d@pvna.com.au
CREATED:20190224T200606Z
DESCRIPTION:2019 Autumn Section:11&Under\nRound:Rnd 11
LAST-MODIFIED:20190224T200606Z
LOCATION:Court: 4
SEQUENCE:0
STATUS:CONFIRMED
SUMMARY:11&U-Rnd 11: 8-10s vs Falcons
TRANSP:OPAQUE
END:VEVENT
BEGIN:VEVENT
DTSTART:20190511T084500
DTEND:20190511T092500
DTSTAMP:20190224T120606Z
UID:bf9842a1cea3d8157334b8835de1103d@pvna.com.au
CREATED:20190224T200606Z
DESCRIPTION:2019 Autumn Section:11&Under\nRound:Rnd 12
LAST-MODIFIED:20190224T200606Z
LOCATION:Court: 4
SEQUENCE:0
STATUS:CONFIRMED
SUMMARY:11&U-Rnd 12: The Flying Eagles2 vs Falcons
TRANSP:OPAQUE
END:VEVENT
BEGIN:VEVENT
DTSTART:20190518T084500
DTEND:20190518T092500
DTSTAMP:20190224T120606Z
UID:3a8ead0c72f79e9af23dc7402734b329@pvna.com.au
CREATED:20190224T200606Z
DESCRIPTION:2019 Autumn Section:11&Under\nRound:Rnd 13
LAST-MODIFIED:20190224T200606Z
LOCATION:Court: 4
SEQUENCE:0
STATUS:CONFIRMED
SUMMARY:11&U-Rnd 13: Falcons vs The Flying Eagles1
TRANSP:OPAQUE
END:VEVENT
BEGIN:VEVENT
DTSTART:20190525T084500
DTEND:20190525T092500
DTSTAMP:20190224T120606Z
UID:1bf65bc18628ab49062982c2ec26b2b4@pvna.com.au
CREATED:20190224T200606Z
DESCRIPTION:2019 Autumn Section:11&Under\nRound:Rnd 14
LAST-MODIFIED:20190224T200606Z
LOCATION:Court: 4
SEQUENCE:0
STATUS:CONFIRMED
SUMMARY:11&U-Rnd 14: Awesome Angels 11s1 vs Falcons
TRANSP:OPAQUE
END:VEVENT
BEGIN:VEVENT
DTSTART:20190601T084500
DTEND:20190601T092500
DTSTAMP:20190224T120606Z
UID:ace55910e7b0217ce295dd8e0cf16341@pvna.com.au
CREATED:20190224T200606Z
DESCRIPTION:2019 Autumn Section:11&Under\nRound:Rnd 15
LAST-MODIFIED:20190224T200606Z
LOCATION:Court: 1
SEQUENCE:0
STATUS:CONFIRMED
SUMMARY:11&U-Rnd 15: Falcons vs SS Emeralds
TRANSP:OPAQUE
END:VEVENT
BEGIN:VEVENT
DTSTART:20190615T093000
DTEND:20190615T101000
DTSTAMP:20190224T120606Z
UID:4467ea8beb00dd6de81727c4753b57cb@pvna.com.au
CREATED:20190224T200606Z
DESCRIPTION:2019 Autumn Section:11&Under\nRound:Rnd 16
LAST-MODIFIED:20190224T200606Z
LOCATION:Court: 4
SEQUENCE:0
STATUS:CONFIRMED
SUMMARY:11&U-Rnd 16: 8-10s vs Falcons
TRANSP:OPAQUE
END:VEVENT
BEGIN:VEVENT
DTSTART:20190622T101500
DTEND:20190622T105500
DTSTAMP:20190224T120606Z
UID:9c1a2970dfbff09fc78385f4a6e70d26@pvna.com.au
CREATED:20190224T200606Z
DESCRIPTION:2019 Autumn Section:11&Under\nRound:Rnd 17
LAST-MODIFIED:20190224T200606Z
LOCATION:Court: 1
SEQUENCE:0
STATUS:CONFIRMED
SUMMARY:11&U-Rnd 17: The Flying Eagles2 vs Falcons
TRANSP:OPAQUE
END:VEVENT
BEGIN:VEVENT
DTSTART:20190629T084500
DTEND:20190629T092500
DTSTAMP:20190224T120606Z
UID:236a46983b09be2ab51e6d5f02eac5b4@pvna.com.au
CREATED:20190224T200606Z
DESCRIPTION:2019 Autumn Section:11&Under\nRound:Rnd 18
LAST-MODIFIED:20190224T200606Z
LOCATION:Court: 3
SEQUENCE:0
STATUS:CONFIRMED
SUMMARY:11&U-Rnd 18: Falcons vs The Flying Eagles1
TRANSP:OPAQUE
END:VEVENT
END:VCALENDAR
