BEGIN:VCALENDAR
PRODID:-//Google Inc//Google Calendar 70.9054//EN
VERSION:2.0
CALSCALE:GREGORIAN
METHOD:PUBLISH
X-WR-CALNAME:PV Comets Fig Jam
X-WR-TIMEZONE:Australia/Sydney
X-WR-CALDESC:PV Comets Parkville Calendars
BEGIN:VEVENT
DTSTART:20190202T123000
DTEND:20190202T131000
DTSTAMP:20190203T025524Z
UID:bf1b65b0fcaabffb6463696d73137eff@pvna.com.au
CREATED:20190203T105524Z
DESCRIPTION:2019 Autumn Section:Mixed\nRound:Rnd 1
LAST-MODIFIED:20190203T105524Z
LOCATION:Court: 3
SEQUENCE:0
STATUS:CONFIRMED
SUMMARY:Mixe-Rnd 1: Fig Jam (24) vs WTF? (13)
TRANSP:OPAQUE
END:VEVENT
BEGIN:VEVENT
DTSTART:20190209T123000
DTEND:20190209T131000
DTSTAMP:20190203T025524Z
UID:8d272b1bca7bdfdac6c65698b24dcdaf@pvna.com.au
CREATED:20190203T105524Z
DESCRIPTION:2019 Autumn Section:Mixed\nRound:Rnd 2\n\nCurrent Ladder:\nTeam            P  W  L  D  Pts\nNB Wombat       1  1  0  0  4 \nFig Jam         1  1  0  0  4 \nWTF?            1  0  1  0  0 \nAwesome Angels Mixed 1  0  1  0  0 \n
LAST-MODIFIED:20190203T105524Z
LOCATION:Court: 3
SEQUENCE:0
STATUS:CONFIRMED
SUMMARY:Mixe-Rnd 2: NB Wombat vs Fig Jam
TRANSP:OPAQUE
END:VEVENT
BEGIN:VEVENT
DTSTART:20190216T123000
DTEND:20190216T131000
DTSTAMP:20190203T025524Z
UID:1dc85ea548443eee9c8f237f92e54917@pvna.com.au
CREATED:20190203T105524Z
DESCRIPTION:2019 Autumn Section:Mixed\nRound:Rnd 3
LAST-MODIFIED:20190203T105524Z
LOCATION:Court: 3
SEQUENCE:0
STATUS:CONFIRMED
SUMMARY:Mixe-Rnd 3: Fig Jam vs Awesome Angels Mixed
TRANSP:OPAQUE
END:VEVENT
BEGIN:VEVENT
DTSTART:20190223T123000
DTEND:20190223T131000
DTSTAMP:20190203T025524Z
UID:437a5e8a6d113d5e76d8332ec641337b@pvna.com.au
CREATED:20190203T105524Z
DESCRIPTION:2019 Autumn Section:Mixed\nRound:Rnd 4
LAST-MODIFIED:20190203T105524Z
LOCATION:Court: 3
SEQUENCE:0
STATUS:CONFIRMED
SUMMARY:Mixe-Rnd 4: Fig Jam vs WTF?
TRANSP:OPAQUE
END:VEVENT
BEGIN:VEVENT
DTSTART:20190302T114500
DTEND:20190302T122500
DTSTAMP:20190203T025524Z
UID:f6209000c1fbe0cfaaa3aa44e5891160@pvna.com.au
CREATED:20190203T105524Z
DESCRIPTION:2019 Autumn Section:Mixed\nRound:Rnd 5
LAST-MODIFIED:20190203T105524Z
LOCATION:Court: 1
SEQUENCE:0
STATUS:CONFIRMED
SUMMARY:Mixe-Rnd 5: NB Wombat vs Fig Jam
TRANSP:OPAQUE
END:VEVENT
BEGIN:VEVENT
DTSTART:20190316T123000
DTEND:20190316T131000
DTSTAMP:20190203T025524Z
UID:eeda0ff5aeb270028758ce9373739410@pvna.com.au
CREATED:20190203T105524Z
DESCRIPTION:2019 Autumn Section:Mixed\nRound:Rnd 6
LAST-MODIFIED:20190203T105524Z
LOCATION:Court: 1
SEQUENCE:0
STATUS:CONFIRMED
SUMMARY:Mixe-Rnd 6: Fig Jam vs Awesome Angels Mixed
TRANSP:OPAQUE
END:VEVENT
BEGIN:VEVENT
DTSTART:20190330T123000
DTEND:20190330T131000
DTSTAMP:20190203T025524Z
UID:c48cb2c4ae134ad960aaf80cde427f0c@pvna.com.au
CREATED:20190203T105524Z
DESCRIPTION:2019 Autumn Section:Mixed\nRound:Rnd 8
LAST-MODIFIED:20190203T105524Z
LOCATION:Court: 2
SEQUENCE:0
STATUS:CONFIRMED
SUMMARY:Mixe-Rnd 8: Fig Jam vs WTF?
TRANSP:OPAQUE
END:VEVENT
BEGIN:VEVENT
DTSTART:20190406T123000
DTEND:20190406T131000
DTSTAMP:20190203T025524Z
UID:11015066efffe06ea71e7bb132c8cb29@pvna.com.au
CREATED:20190203T105524Z
DESCRIPTION:2019 Autumn Section:Mixed\nRound:Rnd 9
LAST-MODIFIED:20190203T105524Z
LOCATION:Court: 1
SEQUENCE:0
STATUS:CONFIRMED
SUMMARY:Mixe-Rnd 9: NB Wombat vs Fig Jam
TRANSP:OPAQUE
END:VEVENT
BEGIN:VEVENT
DTSTART:20190427T123000
DTEND:20190427T131000
DTSTAMP:20190203T025524Z
UID:7c025b1bdc431ef983109e51238da09b@pvna.com.au
CREATED:20190203T105524Z
DESCRIPTION:2019 Autumn Section:Mixed\nRound:Rnd 10
LAST-MODIFIED:20190203T105524Z
LOCATION:Court: 1
SEQUENCE:0
STATUS:CONFIRMED
SUMMARY:Mixe-Rnd 10: Fig Jam vs Awesome Angels Mixed
TRANSP:OPAQUE
END:VEVENT
BEGIN:VEVENT
DTSTART:20190511T123000
DTEND:20190511T131000
DTSTAMP:20190203T025524Z
UID:e227772804a91428c6905b739458eaca@pvna.com.au
CREATED:20190203T105524Z
DESCRIPTION:2019 Autumn Section:Mixed\nRound:Rnd 12
LAST-MODIFIED:20190203T105524Z
LOCATION:Court: 2
SEQUENCE:0
STATUS:CONFIRMED
SUMMARY:Mixe-Rnd 12: Fig Jam vs WTF?
TRANSP:OPAQUE
END:VEVENT
BEGIN:VEVENT
DTSTART:20190518T123000
DTEND:20190518T131000
DTSTAMP:20190203T025524Z
UID:80281e186883ee09f0e9a0dd25ebe376@pvna.com.au
CREATED:20190203T105524Z
DESCRIPTION:2019 Autumn Section:Mixed\nRound:Rnd 13
LAST-MODIFIED:20190203T105524Z
LOCATION:Court: 1
SEQUENCE:0
STATUS:CONFIRMED
SUMMARY:Mixe-Rnd 13: NB Wombat vs Fig Jam
TRANSP:OPAQUE
END:VEVENT
BEGIN:VEVENT
DTSTART:20190525T123000
DTEND:20190525T131000
DTSTAMP:20190203T025524Z
UID:742bcac1d6c4c7937e88aa53e71cbd50@pvna.com.au
CREATED:20190203T105524Z
DESCRIPTION:2019 Autumn Section:Mixed\nRound:Rnd 14
LAST-MODIFIED:20190203T105524Z
LOCATION:Court: 1
SEQUENCE:0
STATUS:CONFIRMED
SUMMARY:Mixe-Rnd 14: Fig Jam vs Awesome Angels Mixed
TRANSP:OPAQUE
END:VEVENT
BEGIN:VEVENT
DTSTART:20190615T123000
DTEND:20190615T131000
DTSTAMP:20190203T025524Z
UID:8886f560596de563e16e414f2669f665@pvna.com.au
CREATED:20190203T105524Z
DESCRIPTION:2019 Autumn Section:Mixed\nRound:Rnd 16
LAST-MODIFIED:20190203T105524Z
LOCATION:Court: 2
SEQUENCE:0
STATUS:CONFIRMED
SUMMARY:Mixe-Rnd 16: Fig Jam vs WTF?
TRANSP:OPAQUE
END:VEVENT
BEGIN:VEVENT
DTSTART:20190622T113000
DTEND:20190622T131000
DTSTAMP:20190203T025524Z
UID:b1453b0ed45693e88403ebd128f61699@pvna.com.au
CREATED:20190203T105524Z
DESCRIPTION:2019 Autumn Section:Mixed\nRound:Rnd 17
LAST-MODIFIED:20190203T105524Z
LOCATION:Court: 4
SEQUENCE:0
STATUS:CONFIRMED
SUMMARY:Mixe-Rnd 17: NB Wombat vs Fig Jam
TRANSP:OPAQUE
END:VEVENT
BEGIN:VEVENT
DTSTART:20190629T123000
DTEND:20190629T131000
DTSTAMP:20190203T025524Z
UID:2c74ce62ecd7d7edbc76a9c91934056c@pvna.com.au
CREATED:20190203T105524Z
DESCRIPTION:2019 Autumn Section:Mixed\nRound:Rnd 18
LAST-MODIFIED:20190203T105524Z
LOCATION:Court: 1
SEQUENCE:0
STATUS:CONFIRMED
SUMMARY:Mixe-Rnd 18: Fig Jam vs Awesome Angels Mixed
TRANSP:OPAQUE
END:VEVENT
END:VCALENDAR
