BEGIN:VCALENDAR
PRODID:-//Google Inc//Google Calendar 70.9054//EN
VERSION:2.0
CALSCALE:GREGORIAN
METHOD:PUBLISH
X-WR-CALNAME:PV Comets JoanneBunch1
X-WR-TIMEZONE:Australia/Sydney
X-WR-CALDESC:PV Comets Parkville Calendars
BEGIN:VEVENT
DTSTART:20190202T123000
DTEND:20190202T131000
DTSTAMP:20190210T110353Z
UID:7858cf91cab99306ffdb3306deada690@pvna.com.au
CREATED:20190210T190353Z
DESCRIPTION:2019 Autumn Section:Mixed\nRound:Rnd 1
LAST-MODIFIED:20190210T190353Z
LOCATION:Court: 3
SEQUENCE:0
STATUS:CONFIRMED
SUMMARY:Mixe-Rnd 1: EmmasBunch1 (24) vs JoanneBunch1 (13)
TRANSP:OPAQUE
END:VEVENT
BEGIN:VEVENT
DTSTART:20190209T123000
DTEND:20190209T131000
DTSTAMP:20190210T110353Z
UID:7fa4dd348d358763c623979abd52fbc1@pvna.com.au
CREATED:20190210T190353Z
DESCRIPTION:2019 Autumn Section:Mixed\nRound:Rnd 2
LAST-MODIFIED:20190210T190353Z
LOCATION:Court: 2
SEQUENCE:0
STATUS:CONFIRMED
SUMMARY:Mixe-Rnd 2: JoanneBunch1 (19) vs Awesome Angels Mixed (18)
TRANSP:OPAQUE
END:VEVENT
BEGIN:VEVENT
DTSTART:20190216T123000
DTEND:20190216T131000
DTSTAMP:20190210T110353Z
UID:f5d4d4de22fb9f6c04cf259646b96773@pvna.com.au
CREATED:20190210T190353Z
DESCRIPTION:2019 Autumn Section:Mixed\nRound:Rnd 3\n\nCurrent Ladder:\nTeam            P  W  L  D  Pts\nNB Wombat       2  2  0  0  8 \nEmmasBunch1     2  1  1  0  4 \nJoanneBunch1    2  1  1  0  4 \nAwesome Angels Mixed 2  0  2  0  0 \n
LAST-MODIFIED:20190210T190353Z
LOCATION:Court: 2
SEQUENCE:0
STATUS:CONFIRMED
SUMMARY:Mixe-Rnd 3: JoanneBunch1 vs NB Wombat
TRANSP:OPAQUE
END:VEVENT
BEGIN:VEVENT
DTSTART:20190223T123000
DTEND:20190223T131000
DTSTAMP:20190210T110353Z
UID:f8bd9f366e7788343e548d99621cbc0a@pvna.com.au
CREATED:20190210T190353Z
DESCRIPTION:2019 Autumn Section:Mixed\nRound:Rnd 4
LAST-MODIFIED:20190210T190353Z
LOCATION:Court: 3
SEQUENCE:0
STATUS:CONFIRMED
SUMMARY:Mixe-Rnd 4: EmmasBunch1 vs JoanneBunch1
TRANSP:OPAQUE
END:VEVENT
BEGIN:VEVENT
DTSTART:20190302T123000
DTEND:20190302T131000
DTSTAMP:20190210T110353Z
UID:a39e841d4ea8b12874390463ff307141@pvna.com.au
CREATED:20190210T190353Z
DESCRIPTION:2019 Autumn Section:Mixed\nRound:Rnd 5
LAST-MODIFIED:20190210T190353Z
LOCATION:Court: 3
SEQUENCE:0
STATUS:CONFIRMED
SUMMARY:Mixe-Rnd 5: JoanneBunch1 vs Awesome Angels Mixed
TRANSP:OPAQUE
END:VEVENT
BEGIN:VEVENT
DTSTART:20190316T123000
DTEND:20190316T131000
DTSTAMP:20190210T110353Z
UID:e5eac3ac4f1fff859916dd477afbed8d@pvna.com.au
CREATED:20190210T190353Z
DESCRIPTION:2019 Autumn Section:Mixed\nRound:Rnd 6
LAST-MODIFIED:20190210T190353Z
LOCATION:Court: 2
SEQUENCE:0
STATUS:CONFIRMED
SUMMARY:Mixe-Rnd 6: JoanneBunch1 vs NB Wombat
TRANSP:OPAQUE
END:VEVENT
BEGIN:VEVENT
DTSTART:20190330T123000
DTEND:20190330T131000
DTSTAMP:20190210T110353Z
UID:e7d1e2df2b428e04c86bc39d0e77a76d@pvna.com.au
CREATED:20190210T190353Z
DESCRIPTION:2019 Autumn Section:Mixed\nRound:Rnd 8
LAST-MODIFIED:20190210T190353Z
LOCATION:Court: 2
SEQUENCE:0
STATUS:CONFIRMED
SUMMARY:Mixe-Rnd 8: EmmasBunch1 vs JoanneBunch1
TRANSP:OPAQUE
END:VEVENT
BEGIN:VEVENT
DTSTART:20190406T123000
DTEND:20190406T131000
DTSTAMP:20190210T110353Z
UID:a82d12e6bf23cc2e0442f803d4011fce@pvna.com.au
CREATED:20190210T190353Z
DESCRIPTION:2019 Autumn Section:Mixed\nRound:Rnd 9
LAST-MODIFIED:20190210T190353Z
LOCATION:Court: 2
SEQUENCE:0
STATUS:CONFIRMED
SUMMARY:Mixe-Rnd 9: JoanneBunch1 vs Awesome Angels Mixed
TRANSP:OPAQUE
END:VEVENT
BEGIN:VEVENT
DTSTART:20190427T123000
DTEND:20190427T131000
DTSTAMP:20190210T110353Z
UID:c4da8e8a08c3d89291207001855420c7@pvna.com.au
CREATED:20190210T190353Z
DESCRIPTION:2019 Autumn Section:Mixed\nRound:Rnd 10
LAST-MODIFIED:20190210T190353Z
LOCATION:Court: 2
SEQUENCE:0
STATUS:CONFIRMED
SUMMARY:Mixe-Rnd 10: JoanneBunch1 vs NB Wombat
TRANSP:OPAQUE
END:VEVENT
BEGIN:VEVENT
DTSTART:20190511T123000
DTEND:20190511T131000
DTSTAMP:20190210T110353Z
UID:31c30412f2323b4fc7063a81536be560@pvna.com.au
CREATED:20190210T190353Z
DESCRIPTION:2019 Autumn Section:Mixed\nRound:Rnd 12
LAST-MODIFIED:20190210T190353Z
LOCATION:Court: 2
SEQUENCE:0
STATUS:CONFIRMED
SUMMARY:Mixe-Rnd 12: EmmasBunch1 vs JoanneBunch1
TRANSP:OPAQUE
END:VEVENT
BEGIN:VEVENT
DTSTART:20190518T123000
DTEND:20190518T131000
DTSTAMP:20190210T110353Z
UID:315681a25624d6ca05d6af41843d0c50@pvna.com.au
CREATED:20190210T190353Z
DESCRIPTION:2019 Autumn Section:Mixed\nRound:Rnd 13
LAST-MODIFIED:20190210T190353Z
LOCATION:Court: 2
SEQUENCE:0
STATUS:CONFIRMED
SUMMARY:Mixe-Rnd 13: JoanneBunch1 vs Awesome Angels Mixed
TRANSP:OPAQUE
END:VEVENT
BEGIN:VEVENT
DTSTART:20190525T123000
DTEND:20190525T131000
DTSTAMP:20190210T110353Z
UID:a152b5287a0b2731e9400dca4657c09c@pvna.com.au
CREATED:20190210T190353Z
DESCRIPTION:2019 Autumn Section:Mixed\nRound:Rnd 14
LAST-MODIFIED:20190210T190353Z
LOCATION:Court: 2
SEQUENCE:0
STATUS:CONFIRMED
SUMMARY:Mixe-Rnd 14: JoanneBunch1 vs NB Wombat
TRANSP:OPAQUE
END:VEVENT
BEGIN:VEVENT
DTSTART:20190615T123000
DTEND:20190615T131000
DTSTAMP:20190210T110353Z
UID:aeba9288b8cdc7a70770caaf51da05bd@pvna.com.au
CREATED:20190210T190353Z
DESCRIPTION:2019 Autumn Section:Mixed\nRound:Rnd 16
LAST-MODIFIED:20190210T190353Z
LOCATION:Court: 2
SEQUENCE:0
STATUS:CONFIRMED
SUMMARY:Mixe-Rnd 16: EmmasBunch1 vs JoanneBunch1
TRANSP:OPAQUE
END:VEVENT
BEGIN:VEVENT
DTSTART:20190622T110000
DTEND:20190622T114500
DTSTAMP:20190210T110353Z
UID:fd4b9d71907834e24702c0a58dcf56a0@pvna.com.au
CREATED:20190210T190353Z
DESCRIPTION:2019 Autumn Section:Mixed\nRound:Rnd 17
LAST-MODIFIED:20190210T190353Z
LOCATION:Court: 1
SEQUENCE:0
STATUS:CONFIRMED
SUMMARY:Mixe-Rnd 17: JoanneBunch1 vs Awesome Angels Mixed
TRANSP:OPAQUE
END:VEVENT
BEGIN:VEVENT
DTSTART:20190629T123000
DTEND:20190629T131000
DTSTAMP:20190210T110353Z
UID:a927de7950e6e5850598be20b6dc50eb@pvna.com.au
CREATED:20190210T190353Z
DESCRIPTION:2019 Autumn Section:Mixed\nRound:Rnd 18
LAST-MODIFIED:20190210T190353Z
LOCATION:Court: 2
SEQUENCE:0
STATUS:CONFIRMED
SUMMARY:Mixe-Rnd 18: JoanneBunch1 vs NB Wombat
TRANSP:OPAQUE
END:VEVENT
END:VCALENDAR
