BEGIN:VCALENDAR
PRODID:-//Google Inc//Google Calendar 70.9054//EN
VERSION:2.0
CALSCALE:GREGORIAN
METHOD:PUBLISH
X-WR-CALNAME:PV Comets NB Cheetahs
X-WR-TIMEZONE:Australia/Sydney
X-WR-CALDESC:PV Comets Parkville Calendars
BEGIN:VEVENT
DTSTART:20190202T093000
DTEND:20190202T101000
DTSTAMP:20190122T112629Z
UID:73d50ec1bab402c386052978f9cd76a5@pvna.com.au
CREATED:20190122T192629Z
DESCRIPTION:2019 Autumn Section:17&Under\nRound:Rnd 1
LAST-MODIFIED:20190122T192629Z
LOCATION:Court: 3
SEQUENCE:0
STATUS:CONFIRMED
SUMMARY:17&U-Rnd 1: NB Cheetahs vs NB Kangas
TRANSP:OPAQUE
END:VEVENT
BEGIN:VEVENT
DTSTART:20190209T101500
DTEND:20190209T105500
DTSTAMP:20190122T112629Z
UID:75964f482cfa5d62f869f6132936c3b5@pvna.com.au
CREATED:20190122T192629Z
DESCRIPTION:2019 Autumn Section:17&Under\nRound:Rnd 2\n\nCurrent Ladder:\nTeam            P  W  L  D  Pts\nNB Cheetahs     0  0  0  0  0 \nPhoenix         0  0  0  0  0 \nSS Magic        0  0  0  0  0 \nNB Kangas       0  0  0  0  0 \nRoxy            0  0  0  0  0 \nSS Sparks       0  0  0  0  0 \n
LAST-MODIFIED:20190122T192629Z
LOCATION:Court: 2
SEQUENCE:0
STATUS:CONFIRMED
SUMMARY:17&U-Rnd 2: SS Sparks vs NB Cheetahs
TRANSP:OPAQUE
END:VEVENT
BEGIN:VEVENT
DTSTART:20190216T084500
DTEND:20190216T092500
DTSTAMP:20190122T112629Z
UID:06c39840b954ebec37883ae5db605bc0@pvna.com.au
CREATED:20190122T192629Z
DESCRIPTION:2019 Autumn Section:17&Under\nRound:Rnd 3
LAST-MODIFIED:20190122T192629Z
LOCATION:Court: 3
SEQUENCE:0
STATUS:CONFIRMED
SUMMARY:17&U-Rnd 3: NB Cheetahs vs Phoenix
TRANSP:OPAQUE
END:VEVENT
BEGIN:VEVENT
DTSTART:20190223T110000
DTEND:20190223T114500
DTSTAMP:20190122T112629Z
UID:3c5ab8788bcb5928585c330e512f90a0@pvna.com.au
CREATED:20190122T192629Z
DESCRIPTION:2019 Autumn Section:17&Under\nRound:Rnd 4
LAST-MODIFIED:20190122T192629Z
LOCATION:Court: 4
SEQUENCE:0
STATUS:CONFIRMED
SUMMARY:17&U-Rnd 4: NB Cheetahs vs SS Magic
TRANSP:OPAQUE
END:VEVENT
BEGIN:VEVENT
DTSTART:20190302T110000
DTEND:20190302T114500
DTSTAMP:20190122T112629Z
UID:c516c4da82343b7960763c09a8ab5bd7@pvna.com.au
CREATED:20190122T192629Z
DESCRIPTION:2019 Autumn Section:17&Under\nRound:Rnd 5
LAST-MODIFIED:20190122T192629Z
LOCATION:Court: 2
SEQUENCE:0
STATUS:CONFIRMED
SUMMARY:17&U-Rnd 5: NB Cheetahs vs Roxy
TRANSP:OPAQUE
END:VEVENT
BEGIN:VEVENT
DTSTART:20190309T114500
DTEND:20190309T122500
DTSTAMP:20190122T112629Z
UID:86ee52164a35ab18696057c596d7ca7f@pvna.com.au
CREATED:20190122T192629Z
DESCRIPTION:2019 Autumn Section:17&Under\nRound:Rnd 6
LAST-MODIFIED:20190122T192629Z
LOCATION:Court: 1
SEQUENCE:0
STATUS:CONFIRMED
SUMMARY:17&U-Rnd 6: NB Cheetahs vs NB Kangas
TRANSP:OPAQUE
END:VEVENT
BEGIN:VEVENT
DTSTART:20190316T110000
DTEND:20190316T114500
DTSTAMP:20190122T112629Z
UID:e9796ace6b11d9e440c5e7e060fd24ef@pvna.com.au
CREATED:20190122T192629Z
DESCRIPTION:2019 Autumn Section:17&Under\nRound:Rnd 7
LAST-MODIFIED:20190122T192629Z
LOCATION:Court: 1
SEQUENCE:0
STATUS:CONFIRMED
SUMMARY:17&U-Rnd 7: SS Sparks vs NB Cheetahs
TRANSP:OPAQUE
END:VEVENT
BEGIN:VEVENT
DTSTART:20190323T114500
DTEND:20190323T122500
DTSTAMP:20190122T112629Z
UID:7e14d90f5ede82e14e8f4c8338c5ecd2@pvna.com.au
CREATED:20190122T192629Z
DESCRIPTION:2019 Autumn Section:17&Under\nRound:Rnd 8
LAST-MODIFIED:20190122T192629Z
LOCATION:Court: 1
SEQUENCE:0
STATUS:CONFIRMED
SUMMARY:17&U-Rnd 8: NB Cheetahs vs Phoenix
TRANSP:OPAQUE
END:VEVENT
BEGIN:VEVENT
DTSTART:20190330T110000
DTEND:20190330T114500
DTSTAMP:20190122T112629Z
UID:b7390c28d707aed47cc54b7fd4af3aa7@pvna.com.au
CREATED:20190122T192629Z
DESCRIPTION:2019 Autumn Section:17&Under\nRound:Rnd 9
LAST-MODIFIED:20190122T192629Z
LOCATION:Court: 4
SEQUENCE:0
STATUS:CONFIRMED
SUMMARY:17&U-Rnd 9: NB Cheetahs vs SS Magic
TRANSP:OPAQUE
END:VEVENT
BEGIN:VEVENT
DTSTART:20190406T110000
DTEND:20190406T114500
DTSTAMP:20190122T112629Z
UID:e7429b9fb6293cd4212a2767aa1619a9@pvna.com.au
CREATED:20190122T192629Z
DESCRIPTION:2019 Autumn Section:17&Under\nRound:Rnd 10
LAST-MODIFIED:20190122T192629Z
LOCATION:Court: 2
SEQUENCE:0
STATUS:CONFIRMED
SUMMARY:17&U-Rnd 10: NB Cheetahs vs Roxy
TRANSP:OPAQUE
END:VEVENT
BEGIN:VEVENT
DTSTART:20190420T114500
DTEND:20190420T122500
DTSTAMP:20190122T112629Z
UID:3e27746577ec496ae4951ccb9ae7d5c3@pvna.com.au
CREATED:20190122T192629Z
DESCRIPTION:2019 Autumn Section:17&Under\nRound:Rnd 12
LAST-MODIFIED:20190122T192629Z
LOCATION:Court: 1
SEQUENCE:0
STATUS:CONFIRMED
SUMMARY:17&U-Rnd 12: NB Cheetahs vs NB Kangas
TRANSP:OPAQUE
END:VEVENT
BEGIN:VEVENT
DTSTART:20190427T110000
DTEND:20190427T114500
DTSTAMP:20190122T112629Z
UID:fbed0aaed45abfea6fc09dcc1676fcb6@pvna.com.au
CREATED:20190122T192629Z
DESCRIPTION:2019 Autumn Section:17&Under\nRound:Rnd 13
LAST-MODIFIED:20190122T192629Z
LOCATION:Court: 4
SEQUENCE:0
STATUS:CONFIRMED
SUMMARY:17&U-Rnd 13: SS Sparks vs NB Cheetahs
TRANSP:OPAQUE
END:VEVENT
BEGIN:VEVENT
DTSTART:20190504T114500
DTEND:20190504T122500
DTSTAMP:20190122T112629Z
UID:d03f06482120987f0c79e39104735b8f@pvna.com.au
CREATED:20190122T192629Z
DESCRIPTION:2019 Autumn Section:17&Under\nRound:Rnd 14
LAST-MODIFIED:20190122T192629Z
LOCATION:Court: 1
SEQUENCE:0
STATUS:CONFIRMED
SUMMARY:17&U-Rnd 14: NB Cheetahs vs Phoenix
TRANSP:OPAQUE
END:VEVENT
BEGIN:VEVENT
DTSTART:20190511T110000
DTEND:20190511T114500
DTSTAMP:20190122T112629Z
UID:0be89aaf9e8e67cd6bc27f86445a2f6b@pvna.com.au
CREATED:20190122T192629Z
DESCRIPTION:2019 Autumn Section:17&Under\nRound:Rnd 15
LAST-MODIFIED:20190122T192629Z
LOCATION:Court: 1
SEQUENCE:0
STATUS:CONFIRMED
SUMMARY:17&U-Rnd 15: NB Cheetahs vs SS Magic
TRANSP:OPAQUE
END:VEVENT
BEGIN:VEVENT
DTSTART:20190518T110000
DTEND:20190518T114500
DTSTAMP:20190122T112629Z
UID:525a7a05ec10bc115d7605f836827161@pvna.com.au
CREATED:20190122T192629Z
DESCRIPTION:2019 Autumn Section:17&Under\nRound:Rnd 16
LAST-MODIFIED:20190122T192629Z
LOCATION:Court: 2
SEQUENCE:0
STATUS:CONFIRMED
SUMMARY:17&U-Rnd 16: NB Cheetahs vs Roxy
TRANSP:OPAQUE
END:VEVENT
BEGIN:VEVENT
DTSTART:20190601T114500
DTEND:20190601T122500
DTSTAMP:20190122T112629Z
UID:49b0769ce372e3f3bd97d2f351a0c9d1@pvna.com.au
CREATED:20190122T192629Z
DESCRIPTION:2019 Autumn Section:17&Under\nRound:Rnd 18
LAST-MODIFIED:20190122T192629Z
LOCATION:Court: 1
SEQUENCE:0
STATUS:CONFIRMED
SUMMARY:17&U-Rnd 18: NB Cheetahs vs NB Kangas
TRANSP:OPAQUE
END:VEVENT
BEGIN:VEVENT
DTSTART:20190608T093000
DTEND:20190608T101000
DTSTAMP:20190122T112629Z
UID:62b162650fe9e9bbf2ee3d79cbc95fb3@pvna.com.au
CREATED:20190122T192629Z
DESCRIPTION:2019 Autumn Section:17&Under\nRound:Rnd 19
LAST-MODIFIED:20190122T192629Z
LOCATION:Court: 4
SEQUENCE:0
STATUS:CONFIRMED
SUMMARY:17&U-Rnd 19: SS Sparks vs NB Cheetahs
TRANSP:OPAQUE
END:VEVENT
BEGIN:VEVENT
DTSTART:20190615T114500
DTEND:20190615T122500
DTSTAMP:20190122T112629Z
UID:d17fa989e4bf2454280f0de344a4c4c1@pvna.com.au
CREATED:20190122T192629Z
DESCRIPTION:2019 Autumn Section:17&Under\nRound:Rnd 20
LAST-MODIFIED:20190122T192629Z
LOCATION:Court: 1
SEQUENCE:0
STATUS:CONFIRMED
SUMMARY:17&U-Rnd 20: NB Cheetahs vs Phoenix
TRANSP:OPAQUE
END:VEVENT
END:VCALENDAR
