BEGIN:VCALENDAR
PRODID:-//Google Inc//Google Calendar 70.9054//EN
VERSION:2.0
CALSCALE:GREGORIAN
METHOD:PUBLISH
X-WR-CALNAME:PV Comets NB Chicks
X-WR-TIMEZONE:Australia/Sydney
X-WR-CALDESC:PV Comets Parkville Calendars
BEGIN:VEVENT
DTSTART:20190202T114500
DTEND:20190202T122500
DTSTAMP:20190122T112629Z
UID:2bd6e4170b91239da7235fbd3a805413@pvna.com.au
CREATED:20190122T192629Z
DESCRIPTION:2019 Autumn Section:Mixed\nRound:Rnd 1
LAST-MODIFIED:20190122T192629Z
LOCATION:Court: 1
SEQUENCE:0
STATUS:CONFIRMED
SUMMARY:Mixe-Rnd 1: NB Chicks vs NB Wombat
TRANSP:OPAQUE
END:VEVENT
BEGIN:VEVENT
DTSTART:20190209T110000
DTEND:20190209T114500
DTSTAMP:20190122T112629Z
UID:b4a7a4ba83a85f640c81fb5c3babc56b@pvna.com.au
CREATED:20190122T192629Z
DESCRIPTION:2019 Autumn Section:Mixed\nRound:Rnd 2\n\nCurrent Ladder:\nTeam            P  W  L  D  Pts\nPheonix Snr     0  0  0  0  0 \nNB Wombat       0  0  0  0  0 \nNB Chicks       0  0  0  0  0 \n
LAST-MODIFIED:20190122T192629Z
LOCATION:Court: 99
SEQUENCE:0
STATUS:CONFIRMED
SUMMARY:Mixe-Rnd 2: NB Chicks vs BYE
TRANSP:OPAQUE
END:VEVENT
BEGIN:VEVENT
DTSTART:20190216T114500
DTEND:20190216T122500
DTSTAMP:20190122T112629Z
UID:9b96d23a15cee6cfdef4f44c2b9e9709@pvna.com.au
CREATED:20190122T192629Z
DESCRIPTION:2019 Autumn Section:Mixed\nRound:Rnd 3
LAST-MODIFIED:20190122T192629Z
LOCATION:Court: 1
SEQUENCE:0
STATUS:CONFIRMED
SUMMARY:Mixe-Rnd 3: Pheonix Snr vs NB Chicks
TRANSP:OPAQUE
END:VEVENT
BEGIN:VEVENT
DTSTART:20190223T113000
DTEND:20190223T122500
DTSTAMP:20190122T112629Z
UID:eb73a401648606c39fa314de7064fcf0@pvna.com.au
CREATED:20190122T192629Z
DESCRIPTION:2019 Autumn Section:Mixed\nRound:Rnd 4
LAST-MODIFIED:20190122T192629Z
LOCATION:Court: 4
SEQUENCE:0
STATUS:CONFIRMED
SUMMARY:Mixe-Rnd 4: NB Chicks vs Pheonix Snr
TRANSP:OPAQUE
END:VEVENT
BEGIN:VEVENT
DTSTART:20190302T123000
DTEND:20190302T131000
DTSTAMP:20190122T112629Z
UID:be93fb12da8d1af6748df6770799a61b@pvna.com.au
CREATED:20190122T192629Z
DESCRIPTION:2019 Autumn Section:Mixed\nRound:Rnd 5
LAST-MODIFIED:20190122T192629Z
LOCATION:Court: 99
SEQUENCE:0
STATUS:CONFIRMED
SUMMARY:Mixe-Rnd 5: NB Chicks vs BYE
TRANSP:OPAQUE
END:VEVENT
BEGIN:VEVENT
DTSTART:20190309T113000
DTEND:20190309T131000
DTSTAMP:20190122T112629Z
UID:a02710bc21f63f355c9b5fd36470c513@pvna.com.au
CREATED:20190122T192629Z
DESCRIPTION:2019 Autumn Section:Mixed\nRound:Rnd 6
LAST-MODIFIED:20190122T192629Z
LOCATION:Court: 4
SEQUENCE:0
STATUS:CONFIRMED
SUMMARY:Mixe-Rnd 6: NB Wombat vs NB Chicks
TRANSP:OPAQUE
END:VEVENT
BEGIN:VEVENT
DTSTART:20190323T113000
DTEND:20190323T131000
DTSTAMP:20190122T112629Z
UID:099aedf4bb7074db9bb58c2b2c74c438@pvna.com.au
CREATED:20190122T192629Z
DESCRIPTION:2019 Autumn Section:Mixed\nRound:Rnd 8
LAST-MODIFIED:20190122T192629Z
LOCATION:Court: 4
SEQUENCE:0
STATUS:CONFIRMED
SUMMARY:Mixe-Rnd 8: NB Chicks vs Pheonix Snr
TRANSP:OPAQUE
END:VEVENT
BEGIN:VEVENT
DTSTART:20190330T123000
DTEND:20190330T131000
DTSTAMP:20190122T112629Z
UID:5acc5d7a0391b4036407e611dfa7ede9@pvna.com.au
CREATED:20190122T192629Z
DESCRIPTION:2019 Autumn Section:Mixed\nRound:Rnd 9
LAST-MODIFIED:20190122T192629Z
LOCATION:Court: 99
SEQUENCE:0
STATUS:CONFIRMED
SUMMARY:Mixe-Rnd 9: NB Chicks vs BYE
TRANSP:OPAQUE
END:VEVENT
BEGIN:VEVENT
DTSTART:20190406T113000
DTEND:20190406T131000
DTSTAMP:20190122T112629Z
UID:581619d2a9cd79bcccd4c5c5b4ccffbc@pvna.com.au
CREATED:20190122T192629Z
DESCRIPTION:2019 Autumn Section:Mixed\nRound:Rnd 10
LAST-MODIFIED:20190122T192629Z
LOCATION:Court: 4
SEQUENCE:0
STATUS:CONFIRMED
SUMMARY:Mixe-Rnd 10: NB Wombat vs NB Chicks
TRANSP:OPAQUE
END:VEVENT
BEGIN:VEVENT
DTSTART:20190420T113000
DTEND:20190420T131000
DTSTAMP:20190122T112629Z
UID:ed43213157b862d0b014da01130eeead@pvna.com.au
CREATED:20190122T192629Z
DESCRIPTION:2019 Autumn Section:Mixed\nRound:Rnd 12
LAST-MODIFIED:20190122T192629Z
LOCATION:Court: 4
SEQUENCE:0
STATUS:CONFIRMED
SUMMARY:Mixe-Rnd 12: NB Chicks vs Pheonix Snr
TRANSP:OPAQUE
END:VEVENT
BEGIN:VEVENT
DTSTART:20190427T123000
DTEND:20190427T131000
DTSTAMP:20190122T112629Z
UID:fad50301e7295ea4ebd43db30bc3307b@pvna.com.au
CREATED:20190122T192629Z
DESCRIPTION:2019 Autumn Section:Mixed\nRound:Rnd 13
LAST-MODIFIED:20190122T192629Z
LOCATION:Court: 99
SEQUENCE:0
STATUS:CONFIRMED
SUMMARY:Mixe-Rnd 13: NB Chicks vs BYE
TRANSP:OPAQUE
END:VEVENT
BEGIN:VEVENT
DTSTART:20190504T113000
DTEND:20190504T131000
DTSTAMP:20190122T112629Z
UID:1ef37700fddec532a777c3fed49c82d9@pvna.com.au
CREATED:20190122T192629Z
DESCRIPTION:2019 Autumn Section:Mixed\nRound:Rnd 14
LAST-MODIFIED:20190122T192629Z
LOCATION:Court: 4
SEQUENCE:0
STATUS:CONFIRMED
SUMMARY:Mixe-Rnd 14: NB Wombat vs NB Chicks
TRANSP:OPAQUE
END:VEVENT
BEGIN:VEVENT
DTSTART:20190518T113000
DTEND:20190518T131000
DTSTAMP:20190122T112629Z
UID:bce2ba469f67fa3b960aa03f63e2ac87@pvna.com.au
CREATED:20190122T192629Z
DESCRIPTION:2019 Autumn Section:Mixed\nRound:Rnd 16
LAST-MODIFIED:20190122T192629Z
LOCATION:Court: 4
SEQUENCE:0
STATUS:CONFIRMED
SUMMARY:Mixe-Rnd 16: NB Chicks vs Pheonix Snr
TRANSP:OPAQUE
END:VEVENT
BEGIN:VEVENT
DTSTART:20190525T113000
DTEND:20190525T131000
DTSTAMP:20190122T112629Z
UID:4a241eff9f1d92ce1d60eaed5b2f9573@pvna.com.au
CREATED:20190122T192629Z
DESCRIPTION:2019 Autumn Section:Mixed\nRound:Rnd 17
LAST-MODIFIED:20190122T192629Z
LOCATION:Court: 99
SEQUENCE:0
STATUS:CONFIRMED
SUMMARY:Mixe-Rnd 17: NB Chicks vs BYE
TRANSP:OPAQUE
END:VEVENT
BEGIN:VEVENT
DTSTART:20190601T113000
DTEND:20190601T131000
DTSTAMP:20190122T112629Z
UID:97b126c3460adbb9945fe60927b08577@pvna.com.au
CREATED:20190122T192629Z
DESCRIPTION:2019 Autumn Section:Mixed\nRound:Rnd 18
LAST-MODIFIED:20190122T192629Z
LOCATION:Court: 4
SEQUENCE:0
STATUS:CONFIRMED
SUMMARY:Mixe-Rnd 18: NB Wombat vs NB Chicks
TRANSP:OPAQUE
END:VEVENT
BEGIN:VEVENT
DTSTART:20190615T113000
DTEND:20190615T131000
DTSTAMP:20190122T112629Z
UID:44aaea46bed2079e4c04c5ca529ac919@pvna.com.au
CREATED:20190122T192629Z
DESCRIPTION:2019 Autumn Section:Mixed\nRound:Rnd 20
LAST-MODIFIED:20190122T192629Z
LOCATION:Court: 4
SEQUENCE:0
STATUS:CONFIRMED
SUMMARY:Mixe-Rnd 20: NB Chicks vs Pheonix Snr
TRANSP:OPAQUE
END:VEVENT
END:VCALENDAR
