BEGIN:VCALENDAR
PRODID:-//Google Inc//Google Calendar 70.9054//EN
VERSION:2.0
CALSCALE:GREGORIAN
METHOD:PUBLISH
X-WR-CALNAME:PV Comets NB Dragons 
X-WR-TIMEZONE:Australia/Sydney
X-WR-CALDESC:PV Comets Parkville Calendars
BEGIN:VEVENT
DTSTART:20190202T101500
DTEND:20190202T105500
DTSTAMP:20190224T120606Z
UID:aa2f69549e9bd8df164f702ce80f4a3e@pvna.com.au
CREATED:20190224T200606Z
DESCRIPTION:2019 Autumn Section:13&Under\nRound:Rnd 1
LAST-MODIFIED:20190224T200606Z
LOCATION:Court: 1
SEQUENCE:0
STATUS:CONFIRMED
SUMMARY:13&U-Rnd 1: NB Dragons  (9) vs NB Cubs (9)
TRANSP:OPAQUE
END:VEVENT
BEGIN:VEVENT
DTSTART:20190209T110000
DTEND:20190209T114500
DTSTAMP:20190224T120606Z
UID:502bf5d4ca6face36584325814740752@pvna.com.au
CREATED:20190224T200606Z
DESCRIPTION:2019 Autumn Section:13&Under\nRound:Rnd 2
LAST-MODIFIED:20190224T200606Z
LOCATION:Court: 4
SEQUENCE:0
STATUS:CONFIRMED
SUMMARY:13&U-Rnd 2: Awesome Angels 13s2 (4) vs NB Dragons  (3)
TRANSP:OPAQUE
END:VEVENT
BEGIN:VEVENT
DTSTART:20190216T101500
DTEND:20190216T105500
DTSTAMP:20190224T120606Z
UID:376554b53e83e628b1eda50ecc50abf7@pvna.com.au
CREATED:20190224T200606Z
DESCRIPTION:2019 Autumn Section:13&Under\nRound:Rnd 3
LAST-MODIFIED:20190224T200606Z
LOCATION:Court: 4
SEQUENCE:0
STATUS:CONFIRMED
SUMMARY:13&U-Rnd 3: NB Dragons  (16) vs Awesome Angels 13s4 (0)
TRANSP:OPAQUE
END:VEVENT
BEGIN:VEVENT
DTSTART:20190223T110000
DTEND:20190223T114500
DTSTAMP:20190224T120606Z
UID:715636124a5c278b8a6e6ae2da06f413@pvna.com.au
CREATED:20190224T200606Z
DESCRIPTION:2019 Autumn Section:13&Under\nRound:Rnd 4
LAST-MODIFIED:20190224T200606Z
LOCATION:Court: 99
SEQUENCE:0
STATUS:CONFIRMED
SUMMARY:13&U-Rnd 4: NB Dragons  vs BYE
TRANSP:OPAQUE
END:VEVENT
BEGIN:VEVENT
DTSTART:20190302T110000
DTEND:20190302T114500
DTSTAMP:20190224T120606Z
UID:623b5e514ea6f856a9987687acececdb@pvna.com.au
CREATED:20190224T200606Z
DESCRIPTION:2019 Autumn Section:13&Under\nRound:Rnd 5\n\nCurrent Ladder:\nTeam            P  W  L  D  Pts\nWildcats 13s    4  4  0  0  16\nAwesome Angels 13s3 4  4  0  0  16\nRoxy Jnr        4  3  1  0  12\nNB Dragons      4  2  1  1  10\nNB Cubs         4  2  1  1  10\nSS Diamonds     4  2  2  0  8 \nAwesome Angels 13s2 4  2  2  0  8 \nNeon Nightmares 13s 4  1  2  1  6 \nRoxy Power      4  1  3  0  4 \nAwesome Angels 13s4 4  1  3  0  4 \nAwesome Angels 13s1 4  0  3  1  2 \nTBA             0  0  0  0  0 \n
LAST-MODIFIED:20190224T200606Z
LOCATION:Court: 4
SEQUENCE:0
STATUS:CONFIRMED
SUMMARY:13&U-Rnd 5: Awesome Angels 13s3 vs NB Dragons 
TRANSP:OPAQUE
END:VEVENT
BEGIN:VEVENT
DTSTART:20190316T114500
DTEND:20190316T122500
DTSTAMP:20190224T120606Z
UID:dfe10a28539c375b52622b6d29020c36@pvna.com.au
CREATED:20190224T200606Z
DESCRIPTION:2019 Autumn Section:13&Under\nRound:Rnd 6
LAST-MODIFIED:20190224T200606Z
LOCATION:Court: 2
SEQUENCE:0
STATUS:CONFIRMED
SUMMARY:13&U-Rnd 6: Neon Nightmares 13s vs NB Dragons 
TRANSP:OPAQUE
END:VEVENT
BEGIN:VEVENT
DTSTART:20190323T093000
DTEND:20190323T101000
DTSTAMP:20190224T120606Z
UID:67e2908761a3ca3790605a9d41f3d53f@pvna.com.au
CREATED:20190224T200606Z
DESCRIPTION:2019 Autumn Section:13&Under\nRound:Rnd 7
LAST-MODIFIED:20190224T200606Z
LOCATION:Court: 2
SEQUENCE:0
STATUS:CONFIRMED
SUMMARY:13&U-Rnd 7: Roxy Jnr vs NB Dragons 
TRANSP:OPAQUE
END:VEVENT
BEGIN:VEVENT
DTSTART:20190330T093000
DTEND:20190330T101000
DTSTAMP:20190224T120606Z
UID:185b061ac7a3e8472948947da11e57b0@pvna.com.au
CREATED:20190224T200606Z
DESCRIPTION:2019 Autumn Section:13&Under\nRound:Rnd 8
LAST-MODIFIED:20190224T200606Z
LOCATION:Court: 1
SEQUENCE:0
STATUS:CONFIRMED
SUMMARY:13&U-Rnd 8: Wildcats 13s vs NB Dragons 
TRANSP:OPAQUE
END:VEVENT
BEGIN:VEVENT
DTSTART:20190406T101500
DTEND:20190406T105500
DTSTAMP:20190224T120606Z
UID:1ff35e3d94eedea2255614d22b081e73@pvna.com.au
CREATED:20190224T200606Z
DESCRIPTION:2019 Autumn Section:13&Under\nRound:Rnd 9
LAST-MODIFIED:20190224T200606Z
LOCATION:Court: 1
SEQUENCE:0
STATUS:CONFIRMED
SUMMARY:13&U-Rnd 9: Awesome Angels 13s1 vs NB Dragons 
TRANSP:OPAQUE
END:VEVENT
BEGIN:VEVENT
DTSTART:20190427T093000
DTEND:20190427T101000
DTSTAMP:20190224T120606Z
UID:3fce3217739c4c220dd72e99a2870f96@pvna.com.au
CREATED:20190224T200606Z
DESCRIPTION:2019 Autumn Section:13&Under\nRound:Rnd 10
LAST-MODIFIED:20190224T200606Z
LOCATION:Court: 4
SEQUENCE:0
STATUS:CONFIRMED
SUMMARY:13&U-Rnd 10: SS Diamonds vs NB Dragons 
TRANSP:OPAQUE
END:VEVENT
BEGIN:VEVENT
DTSTART:20190504T093000
DTEND:20190504T101000
DTSTAMP:20190224T120606Z
UID:98f6b2305efebe09ac1e345bd00daf4e@pvna.com.au
CREATED:20190224T200606Z
DESCRIPTION:2019 Autumn Section:13&Under\nRound:Rnd 11
LAST-MODIFIED:20190224T200606Z
LOCATION:Court: 2
SEQUENCE:0
STATUS:CONFIRMED
SUMMARY:13&U-Rnd 11: Roxy Power vs NB Dragons 
TRANSP:OPAQUE
END:VEVENT
END:VCALENDAR
