BEGIN:VCALENDAR
PRODID:-//Google Inc//Google Calendar 70.9054//EN
VERSION:2.0
CALSCALE:GREGORIAN
METHOD:PUBLISH
X-WR-CALNAME:PV Comets NB Lions
X-WR-TIMEZONE:Australia/Sydney
X-WR-CALDESC:PV Comets Parkville Calendars
BEGIN:VEVENT
DTSTART:20190202T110000
DTEND:20190202T114500
DTSTAMP:20190224T120606Z
UID:81c71f5dde617d497bb16544f6f1b2eb@pvna.com.au
CREATED:20190224T200606Z
DESCRIPTION:2019 Autumn Section:15&Under\nRound:Rnd 1
LAST-MODIFIED:20190224T200606Z
LOCATION:Court: 2
SEQUENCE:0
STATUS:CONFIRMED
SUMMARY:15&U-Rnd 1: NB Lions (13) vs SS Saphires (28)
TRANSP:OPAQUE
END:VEVENT
BEGIN:VEVENT
DTSTART:20190209T101500
DTEND:20190209T105500
DTSTAMP:20190224T120606Z
UID:943f86da9f5c27cff6c6f95b0e659a64@pvna.com.au
CREATED:20190224T200606Z
DESCRIPTION:2019 Autumn Section:15&Under\nRound:Rnd 2
LAST-MODIFIED:20190224T200606Z
LOCATION:Court: 1
SEQUENCE:0
STATUS:CONFIRMED
SUMMARY:15&U-Rnd 2: Neon Nightmares 15s (27) vs NB Lions (9)
TRANSP:OPAQUE
END:VEVENT
BEGIN:VEVENT
DTSTART:20190216T110000
DTEND:20190216T114500
DTSTAMP:20190224T120606Z
UID:0a1dba46a840de6bbb6441bfcfe1c55c@pvna.com.au
CREATED:20190224T200606Z
DESCRIPTION:2019 Autumn Section:15&Under\nRound:Rnd 3
LAST-MODIFIED:20190224T200606Z
LOCATION:Court: 1
SEQUENCE:0
STATUS:CONFIRMED
SUMMARY:15&U-Rnd 3: NB Lions (11) vs Awesome Angels 15s2 (34)
TRANSP:OPAQUE
END:VEVENT
BEGIN:VEVENT
DTSTART:20190223T110000
DTEND:20190223T114500
DTSTAMP:20190224T120606Z
UID:8b72eb17b3bda8700be3c7970fa09b9d@pvna.com.au
CREATED:20190224T200606Z
DESCRIPTION:2019 Autumn Section:15&U Res\nRound:Rnd 4
LAST-MODIFIED:20190224T200606Z
LOCATION:Court: 2
SEQUENCE:0
STATUS:CONFIRMED
SUMMARY:15&U-Rnd 4: NB Lions (14) vs Awesome Angels 15s1 (24)
TRANSP:OPAQUE
END:VEVENT
BEGIN:VEVENT
DTSTART:20190302T110000
DTEND:20190302T114500
DTSTAMP:20190224T120606Z
UID:00b64f928207d4ef402a90ab6fc4d05e@pvna.com.au
CREATED:20190224T200606Z
DESCRIPTION:2019 Autumn Section:15&U Res\nRound:Rnd 5\n\nCurrent Ladder:\nTeam            P  W  L  D  Pts\nStorm           1  1  0  0  4 \nAwesome Angels 15s1 1  1  0  0  4 \nAwesome Angels 15s3 1  1  0  0  4 \nNB Lions        1  0  1  0  0 \nSS Strikers     1  0  1  0  0 \nPower           0  0  0  0  0 \nSS Saphires     0  0  0  0  0 \nAwesome Angels 15s2 0  0  0  0  0 \nSS Rubies       0  0  0  0  0 \nWildcats 15s    0  0  0  0  0 \n
LAST-MODIFIED:20190224T200606Z
LOCATION:Court: 1
SEQUENCE:0
STATUS:CONFIRMED
SUMMARY:15&U-Rnd 5: SS Strikers vs NB Lions
TRANSP:OPAQUE
END:VEVENT
BEGIN:VEVENT
DTSTART:20190316T110000
DTEND:20190316T114500
DTSTAMP:20190224T120606Z
UID:5dba1df9f45560cdb815d14075e8d6ee@pvna.com.au
CREATED:20190224T200606Z
DESCRIPTION:2019 Autumn Section:15&U Res\nRound:Rnd 6
LAST-MODIFIED:20190224T200606Z
LOCATION:Court: 4
SEQUENCE:0
STATUS:CONFIRMED
SUMMARY:15&U-Rnd 6: Storm vs NB Lions
TRANSP:OPAQUE
END:VEVENT
BEGIN:VEVENT
DTSTART:20190323T114500
DTEND:20190323T122500
DTSTAMP:20190224T120606Z
UID:d1c0af2212b19841a0f87f123f31db06@pvna.com.au
CREATED:20190224T200606Z
DESCRIPTION:2019 Autumn Section:15&U Res\nRound:Rnd 7
LAST-MODIFIED:20190224T200606Z
LOCATION:Court: 2
SEQUENCE:0
STATUS:CONFIRMED
SUMMARY:15&U-Rnd 7: Awesome Angels 15s1 vs NB Lions
TRANSP:OPAQUE
END:VEVENT
BEGIN:VEVENT
DTSTART:20190330T093000
DTEND:20190330T101000
DTSTAMP:20190224T120606Z
UID:9f78d987d3b7163995ed6d5c8b6dbd9e@pvna.com.au
CREATED:20190224T200606Z
DESCRIPTION:2019 Autumn Section:15&Under\nRound:Rnd 8
LAST-MODIFIED:20190224T200606Z
LOCATION:Court: 2
SEQUENCE:0
STATUS:CONFIRMED
SUMMARY:15&U-Rnd 8: Wildcats 15s vs NB Lions
TRANSP:OPAQUE
END:VEVENT
BEGIN:VEVENT
DTSTART:20190330T110000
DTEND:20190330T114500
DTSTAMP:20190224T120606Z
UID:a2f7ebe65ec3f889e2c6ee4cbd55e29a@pvna.com.au
CREATED:20190224T200606Z
DESCRIPTION:2019 Autumn Section:15&U Res\nRound:Rnd 8
LAST-MODIFIED:20190224T200606Z
LOCATION:Court: 1
SEQUENCE:0
STATUS:CONFIRMED
SUMMARY:15&U-Rnd 8: NB Lions vs SS Strikers
TRANSP:OPAQUE
END:VEVENT
BEGIN:VEVENT
DTSTART:20190406T102000
DTEND:20190406T114500
DTSTAMP:20190224T120606Z
UID:dea9a8dcdac55be6477f94930344e055@pvna.com.au
CREATED:20190224T200606Z
DESCRIPTION:2019 Autumn Section:15&U Res\nRound:Rnd 9
LAST-MODIFIED:20190224T200606Z
LOCATION:Court: 3
SEQUENCE:0
STATUS:CONFIRMED
SUMMARY:15&U-Rnd 9: Storm vs NB Lions
TRANSP:OPAQUE
END:VEVENT
BEGIN:VEVENT
DTSTART:20190427T110000
DTEND:20190427T114500
DTSTAMP:20190224T120606Z
UID:f775670241128ac540cbb52af6a25e73@pvna.com.au
CREATED:20190224T200606Z
DESCRIPTION:2019 Autumn Section:15&U Res\nRound:Rnd 10
LAST-MODIFIED:20190224T200606Z
LOCATION:Court: 1
SEQUENCE:0
STATUS:CONFIRMED
SUMMARY:15&U-Rnd 10: Awesome Angels 15s1 vs NB Lions
TRANSP:OPAQUE
END:VEVENT
BEGIN:VEVENT
DTSTART:20190504T093000
DTEND:20190504T101000
DTSTAMP:20190224T120606Z
UID:c0a0e94eb959b5810bc9beb2cad6d5f0@pvna.com.au
CREATED:20190224T200606Z
DESCRIPTION:2019 Autumn Section:15&U Res\nRound:Rnd 11
LAST-MODIFIED:20190224T200606Z
LOCATION:Court: 3
SEQUENCE:0
STATUS:CONFIRMED
SUMMARY:15&U-Rnd 11: SS Strikers vs NB Lions
TRANSP:OPAQUE
END:VEVENT
BEGIN:VEVENT
DTSTART:20190511T110000
DTEND:20190511T114500
DTSTAMP:20190224T120606Z
UID:980a13cb04a44779d61bb0db47eff89a@pvna.com.au
CREATED:20190224T200606Z
DESCRIPTION:2019 Autumn Section:15&U Res\nRound:Rnd 12
LAST-MODIFIED:20190224T200606Z
LOCATION:Court: 1
SEQUENCE:0
STATUS:CONFIRMED
SUMMARY:15&U-Rnd 12: NB Lions vs Storm
TRANSP:OPAQUE
END:VEVENT
BEGIN:VEVENT
DTSTART:20190511T110000
DTEND:20190511T114500
DTSTAMP:20190224T120606Z
UID:19803b297a0f6a9eed780eefee79f956@pvna.com.au
CREATED:20190224T200606Z
DESCRIPTION:2019 Autumn Section:15&Under\nRound:Rnd 12
LAST-MODIFIED:20190224T200606Z
LOCATION:Court: 2
SEQUENCE:0
STATUS:CONFIRMED
SUMMARY:15&U-Rnd 12: NB Lions vs SS Saphires
TRANSP:OPAQUE
END:VEVENT
BEGIN:VEVENT
DTSTART:20190518T102000
DTEND:20190518T114500
DTSTAMP:20190224T120606Z
UID:c182079c20f3a4733be5635fe6afc50e@pvna.com.au
CREATED:20190224T200606Z
DESCRIPTION:2019 Autumn Section:15&U Res\nRound:Rnd 13
LAST-MODIFIED:20190224T200606Z
LOCATION:Court: 2
SEQUENCE:0
STATUS:CONFIRMED
SUMMARY:15&U-Rnd 13: NB Lions vs Awesome Angels 15s1
TRANSP:OPAQUE
END:VEVENT
BEGIN:VEVENT
DTSTART:20190518T110000
DTEND:20190518T114500
DTSTAMP:20190224T120606Z
UID:3ee3801d72484ac6af5eb7fd7a6aa59a@pvna.com.au
CREATED:20190224T200606Z
DESCRIPTION:2019 Autumn Section:15&Under\nRound:Rnd 13
LAST-MODIFIED:20190224T200606Z
LOCATION:Court: 1
SEQUENCE:0
STATUS:CONFIRMED
SUMMARY:15&U-Rnd 13: Neon Nightmares 15s vs NB Lions
TRANSP:OPAQUE
END:VEVENT
BEGIN:VEVENT
DTSTART:20190525T102000
DTEND:20190525T114500
DTSTAMP:20190224T120606Z
UID:7cca86cdc8016211ca703cfb4855b332@pvna.com.au
CREATED:20190224T200606Z
DESCRIPTION:2019 Autumn Section:15&U Res\nRound:Rnd 14
LAST-MODIFIED:20190224T200606Z
LOCATION:Court: 4
SEQUENCE:0
STATUS:CONFIRMED
SUMMARY:15&U-Rnd 14: NB Lions vs SS Strikers
TRANSP:OPAQUE
END:VEVENT
BEGIN:VEVENT
DTSTART:20190601T102000
DTEND:20190601T114500
DTSTAMP:20190224T120606Z
UID:922a7772af6bc53419727468e03b028b@pvna.com.au
CREATED:20190224T200606Z
DESCRIPTION:2019 Autumn Section:15&U Res\nRound:Rnd 15
LAST-MODIFIED:20190224T200606Z
LOCATION:Court: 2
SEQUENCE:0
STATUS:CONFIRMED
SUMMARY:15&U-Rnd 15: Storm vs NB Lions
TRANSP:OPAQUE
END:VEVENT
END:VCALENDAR
