BEGIN:VCALENDAR
PRODID:-//Google Inc//Google Calendar 70.9054//EN
VERSION:2.0
CALSCALE:GREGORIAN
METHOD:PUBLISH
X-WR-CALNAME:PV Comets NB Tigers
X-WR-TIMEZONE:Australia/Sydney
X-WR-CALDESC:PV Comets Parkville Calendars
BEGIN:VEVENT
DTSTART:20190202T093000
DTEND:20190202T101000
DTSTAMP:20190224T120606Z
UID:00f7b524032b30aff534817efd1eec13@pvna.com.au
CREATED:20190224T200606Z
DESCRIPTION:2019 Autumn Section:8-10s\nRound:Rnd 1
LAST-MODIFIED:20190224T200606Z
LOCATION:Court: 2
SEQUENCE:0
STATUS:CONFIRMED
SUMMARY:8-10-Rnd 1: NB Tigers (2) vs The Flying Eagles2 (22)
TRANSP:OPAQUE
END:VEVENT
BEGIN:VEVENT
DTSTART:20190209T101500
DTEND:20190209T105500
DTSTAMP:20190224T120606Z
UID:c766ddc06d09aad991ae91f803d2b175@pvna.com.au
CREATED:20190224T200606Z
DESCRIPTION:2019 Autumn Section:8-10s\nRound:Rnd 2
LAST-MODIFIED:20190224T200606Z
LOCATION:Court: 2
SEQUENCE:0
STATUS:CONFIRMED
SUMMARY:8-10-Rnd 2: Awesome Angels 8-10s1 (1) vs NB Tigers (8)
TRANSP:OPAQUE
END:VEVENT
BEGIN:VEVENT
DTSTART:20190216T084500
DTEND:20190216T092500
DTSTAMP:20190224T120606Z
UID:2cc7d9c18d84f775a1b6234e9511ca0f@pvna.com.au
CREATED:20190224T200606Z
DESCRIPTION:2019 Autumn Section:8-10s\nRound:Rnd 3
LAST-MODIFIED:20190224T200606Z
LOCATION:Court: 4
SEQUENCE:0
STATUS:CONFIRMED
SUMMARY:8-10-Rnd 3: NB Tigers (4) vs SS Crystals (5)
TRANSP:OPAQUE
END:VEVENT
BEGIN:VEVENT
DTSTART:20190223T093000
DTEND:20190223T101000
DTSTAMP:20190224T120606Z
UID:15b2a4e177a81a48e52bbcf436384c95@pvna.com.au
CREATED:20190224T200606Z
DESCRIPTION:2019 Autumn Section:8-10s\nRound:Rnd 4
LAST-MODIFIED:20190224T200606Z
LOCATION:Court: 4
SEQUENCE:0
STATUS:CONFIRMED
SUMMARY:8-10-Rnd 4: NB Tigers (2) vs 11s (21)
TRANSP:OPAQUE
END:VEVENT
BEGIN:VEVENT
DTSTART:20190302T101500
DTEND:20190302T105500
DTSTAMP:20190224T120606Z
UID:49772d7e48ace3e5831edef842a54798@pvna.com.au
CREATED:20190224T200606Z
DESCRIPTION:2019 Autumn Section:8-10s\nRound:Rnd 5\n\nCurrent Ladder:\nTeam            P  W  L  D  Pts\nThe Flying Eagles2 3  3  0  0  12\nSS Crystals     4  3  1  0  12\nNB Tigers       4  1  3  0  4 \nAwesome Angels 8-10s1 4  0  4  0  0 \n
LAST-MODIFIED:20190224T200606Z
LOCATION:Court: 4
SEQUENCE:0
STATUS:CONFIRMED
SUMMARY:8-10-Rnd 5: Awesome Angels 8-10s1 vs NB Tigers
TRANSP:OPAQUE
END:VEVENT
BEGIN:VEVENT
DTSTART:20190316T093000
DTEND:20190316T101000
DTSTAMP:20190224T120606Z
UID:577d27ab7d15823e84944343d4eb3a22@pvna.com.au
CREATED:20190224T200606Z
DESCRIPTION:2019 Autumn Section:8-10s\nRound:Rnd 6
LAST-MODIFIED:20190224T200606Z
LOCATION:Court: 4
SEQUENCE:0
STATUS:CONFIRMED
SUMMARY:8-10-Rnd 6: NB Tigers vs SS Crystals
TRANSP:OPAQUE
END:VEVENT
BEGIN:VEVENT
DTSTART:20190323T093000
DTEND:20190323T101000
DTSTAMP:20190224T120606Z
UID:1186aaebe068a467c1fcd8fc16544602@pvna.com.au
CREATED:20190224T200606Z
DESCRIPTION:2019 Autumn Section:8-10s\nRound:Rnd 7
LAST-MODIFIED:20190224T200606Z
LOCATION:Court: 1
SEQUENCE:0
STATUS:CONFIRMED
SUMMARY:8-10-Rnd 7: NB Tigers vs 11s
TRANSP:OPAQUE
END:VEVENT
BEGIN:VEVENT
DTSTART:20190330T084500
DTEND:20190330T092500
DTSTAMP:20190224T120606Z
UID:f1c404799a1eddc6bb01efc479cf2f5b@pvna.com.au
CREATED:20190224T200606Z
DESCRIPTION:2019 Autumn Section:8-10s\nRound:Rnd 8
LAST-MODIFIED:20190224T200606Z
LOCATION:Court: 1
SEQUENCE:0
STATUS:CONFIRMED
SUMMARY:8-10-Rnd 8: NB Tigers vs Awesome Angels 8-10s1
TRANSP:OPAQUE
END:VEVENT
BEGIN:VEVENT
DTSTART:20190406T084500
DTEND:20190406T092500
DTSTAMP:20190224T120606Z
UID:6048620504fd3ddc084bb2bf00369cea@pvna.com.au
CREATED:20190224T200606Z
DESCRIPTION:2019 Autumn Section:8-10s\nRound:Rnd 9
LAST-MODIFIED:20190224T200606Z
LOCATION:Court: 1
SEQUENCE:0
STATUS:CONFIRMED
SUMMARY:8-10-Rnd 9: SS Crystals vs NB Tigers
TRANSP:OPAQUE
END:VEVENT
BEGIN:VEVENT
DTSTART:20190427T084500
DTEND:20190427T092500
DTSTAMP:20190224T120606Z
UID:af8ad02f971826780f2e00056e6b2ee5@pvna.com.au
CREATED:20190224T200606Z
DESCRIPTION:2019 Autumn Section:8-10s\nRound:Rnd 10
LAST-MODIFIED:20190224T200606Z
LOCATION:Court: 2
SEQUENCE:0
STATUS:CONFIRMED
SUMMARY:8-10-Rnd 10: NB Tigers vs 11s
TRANSP:OPAQUE
END:VEVENT
BEGIN:VEVENT
DTSTART:20190504T101500
DTEND:20190504T105500
DTSTAMP:20190224T120606Z
UID:a2b9917d2310249e51b5f0f2dade8f5d@pvna.com.au
CREATED:20190224T200606Z
DESCRIPTION:2019 Autumn Section:8-10s\nRound:Rnd 11
LAST-MODIFIED:20190224T200606Z
LOCATION:Court: 1
SEQUENCE:0
STATUS:CONFIRMED
SUMMARY:8-10-Rnd 11: Awesome Angels 8-10s1 vs NB Tigers
TRANSP:OPAQUE
END:VEVENT
BEGIN:VEVENT
DTSTART:20190511T084500
DTEND:20190511T092500
DTSTAMP:20190224T120606Z
UID:4946f95ed6f42d1d114066c16379c322@pvna.com.au
CREATED:20190224T200606Z
DESCRIPTION:2019 Autumn Section:8-10s\nRound:Rnd 12
LAST-MODIFIED:20190224T200606Z
LOCATION:Court: 1
SEQUENCE:0
STATUS:CONFIRMED
SUMMARY:8-10-Rnd 12: SS Crystals vs NB Tigers
TRANSP:OPAQUE
END:VEVENT
BEGIN:VEVENT
DTSTART:20190518T084500
DTEND:20190518T092500
DTSTAMP:20190224T120606Z
UID:353e172e1e0eaff131abe79c33665802@pvna.com.au
CREATED:20190224T200606Z
DESCRIPTION:2019 Autumn Section:8-10s\nRound:Rnd 13
LAST-MODIFIED:20190224T200606Z
LOCATION:Court: 2
SEQUENCE:0
STATUS:CONFIRMED
SUMMARY:8-10-Rnd 13: NB Tigers vs 11s
TRANSP:OPAQUE
END:VEVENT
BEGIN:VEVENT
DTSTART:20190525T084500
DTEND:20190525T092500
DTSTAMP:20190224T120606Z
UID:69d095a955ffbe34c7d39fb605fef04e@pvna.com.au
CREATED:20190224T200606Z
DESCRIPTION:2019 Autumn Section:8-10s\nRound:Rnd 14
LAST-MODIFIED:20190224T200606Z
LOCATION:Court: 1
SEQUENCE:0
STATUS:CONFIRMED
SUMMARY:8-10-Rnd 14: NB Tigers vs Awesome Angels 8-10s1
TRANSP:OPAQUE
END:VEVENT
BEGIN:VEVENT
DTSTART:20190601T113000
DTEND:20190601T092500
DTSTAMP:20190224T120606Z
UID:3c8fea577d3f927a5c60f3c570618652@pvna.com.au
CREATED:20190224T200606Z
DESCRIPTION:2019 Autumn Section:8-10s\nRound:Rnd 15
LAST-MODIFIED:20190224T200606Z
LOCATION:Court: 2
SEQUENCE:0
STATUS:CONFIRMED
SUMMARY:8-10-Rnd 15: NB Tigers vs SS Crystals
TRANSP:OPAQUE
END:VEVENT
BEGIN:VEVENT
DTSTART:20190615T084500
DTEND:20190615T092500
DTSTAMP:20190224T120606Z
UID:1259bf4dd44bb7acc358f092ccb018ef@pvna.com.au
CREATED:20190224T200606Z
DESCRIPTION:2019 Autumn Section:8-10s\nRound:Rnd 16
LAST-MODIFIED:20190224T200606Z
LOCATION:Court: 2
SEQUENCE:0
STATUS:CONFIRMED
SUMMARY:8-10-Rnd 16: NB Tigers vs 11s
TRANSP:OPAQUE
END:VEVENT
BEGIN:VEVENT
DTSTART:20190622T084500
DTEND:20190622T092500
DTSTAMP:20190224T120606Z
UID:7b8e8f8fb4b799d5c685981e9d1136f7@pvna.com.au
CREATED:20190224T200606Z
DESCRIPTION:2019 Autumn Section:8-10s\nRound:Rnd 17
LAST-MODIFIED:20190224T200606Z
LOCATION:Court: 1
SEQUENCE:0
STATUS:CONFIRMED
SUMMARY:8-10-Rnd 17: Awesome Angels 8-10s1 vs NB Tigers
TRANSP:OPAQUE
END:VEVENT
BEGIN:VEVENT
DTSTART:20190629T084500
DTEND:20190629T092500
DTSTAMP:20190224T120606Z
UID:c47ef763dd2a11034bb5a667bcf3331f@pvna.com.au
CREATED:20190224T200606Z
DESCRIPTION:2019 Autumn Section:8-10s\nRound:Rnd 18
LAST-MODIFIED:20190224T200606Z
LOCATION:Court: 1
SEQUENCE:0
STATUS:CONFIRMED
SUMMARY:8-10-Rnd 18: NB Tigers vs SS Crystals
TRANSP:OPAQUE
END:VEVENT
END:VCALENDAR
