BEGIN:VCALENDAR
PRODID:-//Google Inc//Google Calendar 70.9054//EN
VERSION:2.0
CALSCALE:GREGORIAN
METHOD:PUBLISH
X-WR-CALNAME:PV Comets NB Wombat
X-WR-TIMEZONE:Australia/Sydney
X-WR-CALDESC:PV Comets Parkville Calendars
BEGIN:VEVENT
DTSTART:20190202T123000
DTEND:20190202T131000
DTSTAMP:20190224T120606Z
UID:df7c291501fcede889e4058d4a5ce26d@pvna.com.au
CREATED:20190224T200606Z
DESCRIPTION:2019 Autumn Section:Mixed\nRound:Rnd 1
LAST-MODIFIED:20190224T200606Z
LOCATION:Court: 2
SEQUENCE:0
STATUS:CONFIRMED
SUMMARY:Mixe-Rnd 1: Awesome Angels Mixed (8) vs NB Wombat (19)
TRANSP:OPAQUE
END:VEVENT
BEGIN:VEVENT
DTSTART:20190209T123000
DTEND:20190209T131000
DTSTAMP:20190224T120606Z
UID:d4e671fbae05badf9e2ea7bc0af57dea@pvna.com.au
CREATED:20190224T200606Z
DESCRIPTION:2019 Autumn Section:Mixed\nRound:Rnd 2
LAST-MODIFIED:20190224T200606Z
LOCATION:Court: 3
SEQUENCE:0
STATUS:CONFIRMED
SUMMARY:Mixe-Rnd 2: NB Wombat (16) vs WiseOnes (14)
TRANSP:OPAQUE
END:VEVENT
BEGIN:VEVENT
DTSTART:20190216T123000
DTEND:20190216T131000
DTSTAMP:20190224T120606Z
UID:0fb8a6347d416a5f9cbaee6b1956b399@pvna.com.au
CREATED:20190224T200606Z
DESCRIPTION:2019 Autumn Section:Mixed\nRound:Rnd 3
LAST-MODIFIED:20190224T200606Z
LOCATION:Court: 2
SEQUENCE:0
STATUS:CONFIRMED
SUMMARY:Mixe-Rnd 3: Treasures (13) vs NB Wombat (18)
TRANSP:OPAQUE
END:VEVENT
BEGIN:VEVENT
DTSTART:20190223T123000
DTEND:20190223T131000
DTSTAMP:20190224T120606Z
UID:f069169034bb617386bc59885e033f0b@pvna.com.au
CREATED:20190224T200606Z
DESCRIPTION:2019 Autumn Section:Mixed\nRound:Rnd 4
LAST-MODIFIED:20190224T200606Z
LOCATION:Court: 2
SEQUENCE:0
STATUS:CONFIRMED
SUMMARY:Mixe-Rnd 4: Awesome Angels Mixed (15) vs NB Wombat (22)
TRANSP:OPAQUE
END:VEVENT
BEGIN:VEVENT
DTSTART:20190302T123000
DTEND:20190302T131000
DTSTAMP:20190224T120606Z
UID:296cb4b9992f8abdcdb0a26ab5ffece9@pvna.com.au
CREATED:20190224T200606Z
DESCRIPTION:2019 Autumn Section:Mixed\nRound:Rnd 5\n\nCurrent Ladder:\nTeam            P  W  L  D  Pts\nNB Wombat       4  4  0  0  16\nWiseOnes        4  3  1  0  12\nTreasures       4  1  3  0  4 \nAwesome Angels Mixed 4  0  4  0  0 \n
LAST-MODIFIED:20190224T200606Z
LOCATION:Court: 2
SEQUENCE:0
STATUS:CONFIRMED
SUMMARY:Mixe-Rnd 5: NB Wombat vs WiseOnes
TRANSP:OPAQUE
END:VEVENT
BEGIN:VEVENT
DTSTART:20190316T123000
DTEND:20190316T131000
DTSTAMP:20190224T120606Z
UID:400744ef6e62c518bcf0a172d4ba8135@pvna.com.au
CREATED:20190224T200606Z
DESCRIPTION:2019 Autumn Section:Mixed\nRound:Rnd 6
LAST-MODIFIED:20190224T200606Z
LOCATION:Court: 2
SEQUENCE:0
STATUS:CONFIRMED
SUMMARY:Mixe-Rnd 6: Treasures vs NB Wombat
TRANSP:OPAQUE
END:VEVENT
BEGIN:VEVENT
DTSTART:20190330T123000
DTEND:20190330T131000
DTSTAMP:20190224T120606Z
UID:20db64bf4700340157e9e4f05c29473a@pvna.com.au
CREATED:20190224T200606Z
DESCRIPTION:2019 Autumn Section:Mixed\nRound:Rnd 8
LAST-MODIFIED:20190224T200606Z
LOCATION:Court: 1
SEQUENCE:0
STATUS:CONFIRMED
SUMMARY:Mixe-Rnd 8: Awesome Angels Mixed vs NB Wombat
TRANSP:OPAQUE
END:VEVENT
BEGIN:VEVENT
DTSTART:20190406T123000
DTEND:20190406T131000
DTSTAMP:20190224T120606Z
UID:55d19cedf4794f4b30db632ad9ef3244@pvna.com.au
CREATED:20190224T200606Z
DESCRIPTION:2019 Autumn Section:Mixed\nRound:Rnd 9
LAST-MODIFIED:20190224T200606Z
LOCATION:Court: 1
SEQUENCE:0
STATUS:CONFIRMED
SUMMARY:Mixe-Rnd 9: NB Wombat vs WiseOnes
TRANSP:OPAQUE
END:VEVENT
BEGIN:VEVENT
DTSTART:20190427T123000
DTEND:20190427T131000
DTSTAMP:20190224T120606Z
UID:f4bd4154278b860bca38bdfbe7652f88@pvna.com.au
CREATED:20190224T200606Z
DESCRIPTION:2019 Autumn Section:Mixed\nRound:Rnd 10
LAST-MODIFIED:20190224T200606Z
LOCATION:Court: 2
SEQUENCE:0
STATUS:CONFIRMED
SUMMARY:Mixe-Rnd 10: Treasures vs NB Wombat
TRANSP:OPAQUE
END:VEVENT
BEGIN:VEVENT
DTSTART:20190511T123000
DTEND:20190511T131000
DTSTAMP:20190224T120606Z
UID:e58118e496484ff09e31c3e2c28f558d@pvna.com.au
CREATED:20190224T200606Z
DESCRIPTION:2019 Autumn Section:Mixed\nRound:Rnd 12
LAST-MODIFIED:20190224T200606Z
LOCATION:Court: 1
SEQUENCE:0
STATUS:CONFIRMED
SUMMARY:Mixe-Rnd 12: Awesome Angels Mixed vs NB Wombat
TRANSP:OPAQUE
END:VEVENT
BEGIN:VEVENT
DTSTART:20190518T123000
DTEND:20190518T131000
DTSTAMP:20190224T120606Z
UID:93e6923ad31a242ea08c6135bc2f3281@pvna.com.au
CREATED:20190224T200606Z
DESCRIPTION:2019 Autumn Section:Mixed\nRound:Rnd 13
LAST-MODIFIED:20190224T200606Z
LOCATION:Court: 1
SEQUENCE:0
STATUS:CONFIRMED
SUMMARY:Mixe-Rnd 13: NB Wombat vs WiseOnes
TRANSP:OPAQUE
END:VEVENT
BEGIN:VEVENT
DTSTART:20190525T123000
DTEND:20190525T131000
DTSTAMP:20190224T120606Z
UID:841b4d2a4e4cb2778d03f87521c7d613@pvna.com.au
CREATED:20190224T200606Z
DESCRIPTION:2019 Autumn Section:Mixed\nRound:Rnd 14
LAST-MODIFIED:20190224T200606Z
LOCATION:Court: 2
SEQUENCE:0
STATUS:CONFIRMED
SUMMARY:Mixe-Rnd 14: Treasures vs NB Wombat
TRANSP:OPAQUE
END:VEVENT
BEGIN:VEVENT
DTSTART:20190615T123000
DTEND:20190615T131000
DTSTAMP:20190224T120606Z
UID:a79f4254d20c943ad55be2b0972b20d0@pvna.com.au
CREATED:20190224T200606Z
DESCRIPTION:2019 Autumn Section:Mixed\nRound:Rnd 16
LAST-MODIFIED:20190224T200606Z
LOCATION:Court: 1
SEQUENCE:0
STATUS:CONFIRMED
SUMMARY:Mixe-Rnd 16: Awesome Angels Mixed vs NB Wombat
TRANSP:OPAQUE
END:VEVENT
BEGIN:VEVENT
DTSTART:20190622T113000
DTEND:20190622T131000
DTSTAMP:20190224T120606Z
UID:0db78762cbaff6f6ad1158e9976df001@pvna.com.au
CREATED:20190224T200606Z
DESCRIPTION:2019 Autumn Section:Mixed\nRound:Rnd 17
LAST-MODIFIED:20190224T200606Z
LOCATION:Court: 4
SEQUENCE:0
STATUS:CONFIRMED
SUMMARY:Mixe-Rnd 17: NB Wombat vs WiseOnes
TRANSP:OPAQUE
END:VEVENT
BEGIN:VEVENT
DTSTART:20190629T123000
DTEND:20190629T131000
DTSTAMP:20190224T120606Z
UID:03193bafe338b9f47aed30f1d891c76f@pvna.com.au
CREATED:20190224T200606Z
DESCRIPTION:2019 Autumn Section:Mixed\nRound:Rnd 18
LAST-MODIFIED:20190224T200606Z
LOCATION:Court: 2
SEQUENCE:0
STATUS:CONFIRMED
SUMMARY:Mixe-Rnd 18: Treasures vs NB Wombat
TRANSP:OPAQUE
END:VEVENT
END:VCALENDAR
